BEGIN:VCALENDAR
VERSION:2.0
PRODID:-//hacksw/handcal//NONSGML v1.0//EN
BEGIN:VEVENT
UID:76fee4d7d27fb82d50bdc14066310b81
DTSTAMP:20260421T035524Z

DTSTART:20161030T160000
DTEND:20161030T160000
SUMMARY:Концерт иркутского автора Олега Медведева
DESCRIPTION:Увидев толпу магадановцев на концерте моих любимых "Все CRAZY", решила пригласить народ на концерт иркутского барда Олега Медведева. Вообще-то я не люблю классическую авторскую песню - давно из нее выросла, но у Олега - очень сильные офигенные вещи, в которых просто целые миры, где все куда-то движется и не о чем жалеть.\nИменно эти песни подорвали меня лет пятнадцать назад в Сибирь (Алтай, Байкал) и довели до Дальнего Востока. Может, кто-нибудь еще найдет в них что-то для себя.\nВ Минске Медведев бывает нечасто, так что ловите момент! ))\n\nНесколько из любимых вещей, для ознакомления:\nhttp://olegmedvedev.com/wp-content/uploads/2011/12/10_ak_Vals_Gemoglobin.mp3\nhttp://olegmedvedev.com/wp-content/uploads/2011/12/02_zd_Zdravstvuj,_kazak!.mp3\nhttp://olegmedvedev.com/wp-content/uploads/2011/12/06_tos_Ballada-o-Krolikah.mp3\nhttp://olegmedvedev.com/wp-content/uploads/2011/12/12_tos_Izumrudnyj-gorod.mp3

X-ALT-DESC;FMTTYPE=text/html:<!DOCTYPE HTML PUBLIC "-//W3C//DTD HTML 3.2//EN">\n<HTML>\n<HEAD>\n<META NAME="Generator" CONTENT="MS Exchange Server version 08.00.0681.000">\n<TITLE></TITLE>\n</HEAD>\n<BODY>\n<!-- Converted from text/rtf format -->\n\nУвидев толпу магадановцев на концерте моих любимых "Все CRAZY", решила пригласить народ на концерт иркутского барда Олега Медведева. Вообще-то я не люблю классическую авторскую песню - давно из нее выросла, но у Олега - очень сильные офигенные вещи, в которых просто целые миры, где все куда-то движется и не о чем жалеть.<br />Именно эти песни подорвали меня лет пятнадцать назад в Сибирь (Алтай, Байкал) и довели до Дальнего Востока. Может, кто-нибудь еще найдет в них что-то для себя.<br />В Минске Медведев бывает нечасто, так что ловите момент! ))<br /><br />Несколько из любимых вещей, для ознакомления:<br />http://olegmedvedev.com/wp-content/uploads/2011/12/10_ak_Vals_Gemoglobin.mp3<br />http://olegmedvedev.com/wp-content/uploads/2011/12/02_zd_Zdravstvuj,_kazak!.mp3<br />http://olegmedvedev.com/wp-content/uploads/2011/12/06_tos_Ballada-o-Krolikah.mp3<br />http://olegmedvedev.com/wp-content/uploads/2011/12/12_tos_Izumrudnyj-gorod.mp3\n\n</BODY>\n</HTML>

LOCATION:
END:VEVENT

END:VCALENDAR
