BEGIN:VCALENDAR
VERSION:2.0
PRODID:-//hacksw/handcal//NONSGML v1.0//EN
BEGIN:VEVENT
UID:5c7b5f123afda14f27558ef283818f69
DTSTAMP:20260420T142126Z

DTSTART:20161202T200000
DTEND:20161206T200000
SUMMARY:69. Птичь приустьевая
DESCRIPTION:Считается декабрь мертвым – \nДля путешествий не сезон.\nНо всё же перед годом новым\nКуда-нибудь сходить резон.\n\nРека Птичь длинная настолько\nЕё проходим по частям –\nПять сотен верст она поскольку,\nСкажу я, не слукавив вам.\n\nПо ней три раза уж ходили \nИ всё равно осталось плыть\nСто километров без трех милей. \nИ нужно будет их добить.\n\nВедь все же надо ставить точку.\nИ завершить сплав наконец.\nПопробуем осилить  точно.\nРеке бы не пришел п...ец.\n\nА именно – коль лед вдруг ляжет,\nТогда есть запасной маршрут.\nНикто погоду не предскажет.\nСиноптики все часто врут.\n\nЕсть пеший вариант резервный,\nНо это только в ледостав.\nНо мне так кажется, наверное,\nПо Птичи все же будет сплав.\n\nДекабрь многих устрашает:\nХолодный воздух и вода.\nУчаствовать я приглашаю,\nКому погода ерунда.\n\n\nПоход будет 69-ый.\nХалявы от него не жди.\nБудет на трудности богатый.\nИ тот кто дохлый не иди.\n\nМне говорили воды много,\nВ начале ноября сейчас.\nИ на Полесье слава Богу.\nА это на руку для нас.\n\nФорштевень лодки режет воду.\nКрасиво зимнее Полесье.\nНедалеко от старта с ходу\nСлева минет устье Оресы.\n\nПтичь дальше будет полноводней.\nЕще теченье возрастает.\nПопутный ветер и погода.\nТемпы движенья добавляют.\n\nИ невозможное возможно,\nДорога долгая легка.\nКогда от стылости мороженой,\nПриходишь в тонус от гребка.\n\nНе интригуют говносплавы.\nКак летом ходит большинство.\nИ впечатлений просто валом.\nСходить зимою – каково?\n\nИ кто со мной в этом апреле,\nНа Сакмару-Инзер идет.\nСказать мне должен за неделю\nРешение от вас Глаз ждет.\n\nВыезд вечером 2 декабря. Для удешевления поездки целесообразно сделать подскок на поезде до Жлобина, а на бусе добираться оттуда. Поезд отходит в 23.54. Заброска 120 километров  то самое место, где был завершен сплав 67Б возле поселка Рабкор. Антистапель  за железнодорожным мостом в Мозыре. Маршрут Птичь-Припять. По Птичи идем 93 километра, и 37 по Припяти. 130 километров даже для трехдневного похода это хардкор. Выброска в Жлобин из Мозыря тоже 120 километров.\nВозвращение во вторник в 5.38  6 декабря. С вокзала прямо на работу!\nБюджет поездки 30р прокат байдарки +35р логистические расходы + расходы на продукты\n Будет специальный транспорт с группой поддержки. В мероприятии могут принять участие кемпингисты.\nДеятельность кружка ХУЕК\n1.	Пьеса – оперетта «1декабря 1962года Хрущев на выставке авангардистов» - режиссер и автор сценария Пузо Игорь\n2.	Конь-Камень в Тульской области. Магический мегалит, после посещения которого у мужчин усиливается мужская, а у женщин детородная функция. (Последний планируется посетить по дороге в Башкирию в апреле месяце) - лектор Глаз\n3.	Белоруский танец Жабка (упраздненный вариант) - Озеринский Александр, Малышкина Анна\n4. 5 декабря 1945г. Звено 19. Исчезнувшие на учебном задании торпедоносцы "Эвенджер". Официальная и альтернативные версии произошедшего. - лектор Слава-Электрик\n5. 5 декабря 1978г. подписание между правительсвами СССР и Афганистана "Договора о дружбе". - Потапов Андрей \nДалее программа будет дополняться по мере поступления идей.\nДо 28 ноября связаться с Глазом и оговорить участие.\nСдать 13 рублей Пузочесу Игорю до 28 ноября на билеты на поезд до Жлобина и обратно. \nС 1 по 07 ноября по официальным данным республиканской службы гидрометцентра уровень воды в Птичи повысился на 14 см (деревня Лучицы). Акватория чистая. Ждем, смотрим, наблюдаем. \nПоложение на 26 ноября согласно официальным данным гидрометцентра РБ возле деревни Лучицы: акватория чистая, уровень воды относительно нулевого поста 273 см. В сравнении с 1 ноября +41см. Суточная динамика +1см\nГлаз в восторге.\nКоличество активных участников 14 (семь байдарок двоек)\nКоличество членов группы обеспечения 3

X-ALT-DESC;FMTTYPE=text/html:<!DOCTYPE HTML PUBLIC "-//W3C//DTD HTML 3.2//EN">\n<HTML>\n<HEAD>\n<META NAME="Generator" CONTENT="MS Exchange Server version 08.00.0681.000">\n<TITLE></TITLE>\n</HEAD>\n<BODY>\n<!-- Converted from text/rtf format -->\n\nСчитается декабрь мертвым – <br />Для путешествий не сезон.<br />Но всё же перед годом новым<br />Куда-нибудь сходить резон.<br /><br />Река Птичь длинная настолько<br />Её проходим по частям –<br />Пять сотен верст она поскольку,<br />Скажу я, не слукавив вам.<br /><br />По ней три раза уж ходили <br />И всё равно осталось плыть<br />Сто километров без трех милей. <br />И нужно будет их добить.<br /><br />Ведь все же надо ставить точку.<br />И завершить сплав наконец.<br />Попробуем осилить  точно.<br />Реке бы не пришел п...ец.<br /><br />А именно – коль лед вдруг ляжет,<br />Тогда есть запасной маршрут.<br />Никто погоду не предскажет.<br />Синоптики все часто врут.<br /><br />Есть пеший вариант резервный,<br />Но это только в ледостав.<br />Но мне так кажется, наверное,<br />По Птичи все же будет сплав.<br /><br />Декабрь многих устрашает:<br />Холодный воздух и вода.<br />Участвовать я приглашаю,<br />Кому погода ерунда.<br /><br /><br />Поход будет 69-ый.<br />Халявы от него не жди.<br />Будет на трудности богатый.<br />И тот кто дохлый не иди.<br /><br />Мне говорили воды много,<br />В начале ноября сейчас.<br />И на Полесье слава Богу.<br />А это на руку для нас.<br /><br />Форштевень лодки режет воду.<br />Красиво зимнее Полесье.<br />Недалеко от старта с ходу<br />Слева минет устье Оресы.<br /><br />Птичь дальше будет полноводней.<br />Еще теченье возрастает.<br />Попутный ветер и погода.<br />Темпы движенья добавляют.<br /><br />И невозможное возможно,<br />Дорога долгая легка.<br />Когда от стылости мороженой,<br />Приходишь в тонус от гребка.<br /><br />Не интригуют говносплавы.<br />Как летом ходит большинство.<br />И впечатлений просто валом.<br />Сходить зимою – каково?<br /><br />И кто со мной в этом апреле,<br />На Сакмару-Инзер идет.<br />Сказать мне должен за неделю<br />Решение от вас Глаз ждет.<br /><br />Выезд вечером 2 декабря. Для удешевления поездки целесообразно сделать подскок на поезде до Жлобина, а на бусе добираться оттуда. Поезд отходит в 23.54. Заброска 120 километров  то самое место, где был завершен сплав 67Б возле поселка Рабкор. Антистапель  за железнодорожным мостом в Мозыре. Маршрут Птичь-Припять. По Птичи идем 93 километра, и 37 по Припяти. 130 километров даже для трехдневного похода это хардкор. Выброска в Жлобин из Мозыря тоже 120 километров.<br />Возвращение во вторник в 5.38  6 декабря. С вокзала прямо на работу!<br />Бюджет поездки 30р прокат байдарки +35р логистические расходы + расходы на продукты<br /> Будет специальный транспорт с группой поддержки. В мероприятии могут принять участие кемпингисты.<br />Деятельность кружка ХУЕК<br />1.	Пьеса – оперетта «1декабря 1962года Хрущев на выставке авангардистов» - режиссер и автор сценария Пузо Игорь<br />2.	Конь-Камень в Тульской области. Магический мегалит, после посещения которого у мужчин усиливается мужская, а у женщин детородная функция. (Последний планируется посетить по дороге в Башкирию в апреле месяце) - лектор Глаз<br />3.	Белоруский танец Жабка (упраздненный вариант) - Озеринский Александр, Малышкина Анна<br />4. 5 декабря 1945г. Звено 19. Исчезнувшие на учебном задании торпедоносцы "Эвенджер". Официальная и альтернативные версии произошедшего. - лектор Слава-Электрик<br />5. 5 декабря 1978г. подписание между правительсвами СССР и Афганистана "Договора о дружбе". - Потапов Андрей <br />Далее программа будет дополняться по мере поступления идей.<br />До 28 ноября связаться с Глазом и оговорить участие.<br />Сдать 13 рублей Пузочесу Игорю до 28 ноября на билеты на поезд до Жлобина и обратно. <br />С 1 по 07 ноября по официальным данным республиканской службы гидрометцентра уровень воды в Птичи повысился на 14 см (деревня Лучицы). Акватория чистая. Ждем, смотрим, наблюдаем. <br />Положение на 26 ноября согласно официальным данным гидрометцентра РБ возле деревни Лучицы: акватория чистая, уровень воды относительно нулевого поста 273 см. В сравнении с 1 ноября +41см. Суточная динамика +1см<br />Глаз в восторге.<br />Количество активных участников 14 (семь байдарок двоек)<br />Количество членов группы обеспечения 3\n\n</BODY>\n</HTML>

LOCATION:
END:VEVENT

END:VCALENDAR
