BEGIN:VCALENDAR
VERSION:2.0
PRODID:-//hacksw/handcal//NONSGML v1.0//EN
BEGIN:VEVENT
UID:34f2f460cfb3f37e9ead9eb368a99705
DTSTAMP:20260420T174038Z

DTSTART:20161203T050000
DTEND:20161204T170000
SUMMARY:На Ислочь зимой
DESCRIPTION:Первые выходные календарной зимы предлагаю встретить в пешем походе вдоль (по) Ислочи. Маршрут и условия находятся в стадии разработки и будут значительно зависеть от условий погоды.\nРасстояние предполагается около 35 км. На маршруте запланирован объект - заброшенный санаторий "Лесное" вблизи деревни Рудня, при удачном раскладе - посещение изнутри, поиск привидений и проч.\nПо пути не исключены (но и не обязательны - как пойдет) броды, в целом же ожидается поход уровня "камикадзе"*, что, безусловно, может привлечь напуганных предыдущими "лайт-походами".\n*для непосвященных: это не так опасно, как "лайт"\n\nМожно участвовать:\n1. взрослым\n2. здоровым\n3. не злоупотребляющим\n4. заинтересованным\n\nНе беспокоиться: несамостоятельным, злоупотребляющим, имеющим родственников ближе 7-го колена в Удмуртии.\n\nСтоимость участия определяется по результатам записи и зависит от количества купленных мест, предположительно будет трансфер. Входит также ресторанное меню с переменами блюд.\nЗапись по телефонам (029)1140865 и (029)5043067, Константин Минкевич

X-ALT-DESC;FMTTYPE=text/html:<!DOCTYPE HTML PUBLIC "-//W3C//DTD HTML 3.2//EN">\n<HTML>\n<HEAD>\n<META NAME="Generator" CONTENT="MS Exchange Server version 08.00.0681.000">\n<TITLE></TITLE>\n</HEAD>\n<BODY>\n<!-- Converted from text/rtf format -->\n\nПервые выходные календарной зимы предлагаю встретить в пешем походе вдоль (по) Ислочи. Маршрут и условия находятся в стадии разработки и будут значительно зависеть от условий погоды.<br />Расстояние предполагается около 35 км. На маршруте запланирован объект - заброшенный санаторий "Лесное" вблизи деревни Рудня, при удачном раскладе - посещение изнутри, поиск привидений и проч.<br />По пути не исключены (но и не обязательны - как пойдет) броды, в целом же ожидается поход уровня "камикадзе"*, что, безусловно, может привлечь напуганных предыдущими "лайт-походами".<br />*для непосвященных: это не так опасно, как "лайт"<br /><br />Можно участвовать:<br />1. взрослым<br />2. здоровым<br />3. не злоупотребляющим<br />4. заинтересованным<br /><br />Не беспокоиться: несамостоятельным, злоупотребляющим, имеющим родственников ближе 7-го колена в Удмуртии.<br /><br />Стоимость участия определяется по результатам записи и зависит от количества купленных мест, предположительно будет трансфер. Входит также ресторанное меню с переменами блюд.<br />Запись по телефонам (029)1140865 и (029)5043067, Константин Минкевич\n\n</BODY>\n</HTML>

LOCATION:Санаторый, Беларусь
END:VEVENT

END:VCALENDAR
