BEGIN:VCALENDAR
VERSION:2.0
PRODID:-//hacksw/handcal//NONSGML v1.0//EN
BEGIN:VEVENT
UID:c7cc5fe9a65324b2cf50afe4fbc38df3
DTSTAMP:20260420T142122Z

DTSTART:20170113T140000
DTEND:20170116T130000
SUMMARY:70: Дивергенция Смирнова 13-16.1.17
DESCRIPTION:Я Дивергенцию Смирнова\nЗимой холодной предлагаю.\nТрадиция эта не нова,\nИ нравится она всем - знаю\n \nТеперь Синюшную Бригаду\nПоодиночке разогнали.\nВоздалось это и в награду, \nСильнее нас зауважали.\n\nМаршрут как буква игрек будет,\nПо Себежской пройдет он Пуще.\nО месте этом панегирик\nПисать согласен я и пуще.\n\nМы Себежский Край очень любим.\nТем краше он порою зимней.\nЗело трек интересный будет.\nЛес, лед, тростник и даже иней.\n\nНа юг идет озер цепочка,\nИ я скажу самодовольно.\nНедалеко город Опочка,\nИ протекает речка Свольна.\n\nНочевки точка совпадает,\nВ июне была что прошедшем.\nКружек ХУЕК нас ожидает.\nПусть говорят – Глаз сумасшедший.\n\nТрек сорок восемь километров.\nНам предстоит пройти, друзья.\nВозьмем с собою зимних мэтров – \nПроект сей завалить нельзя.\n\nЯнварь – красивый месяц зимний.\nПожалуй, лучше нет поры…\nА годы пролетают мимо,\nБолезней больше и хандры.\n\nВсех креативных приглашаю\nЗаписываться в наш поход.\nПо льду прогулки обожаю.\nИ практикую каждый год.\n\nСобрать заранее мне нужно,\nТогда это залог успеха.\nКоманда чтобы была дружной,\nИ километры не помеха.\n\nВ июне Свольну мы ходили,\nНо это плыли на байдарках.\nНедавно, кажется, так было.\nВ Себежском Национальном Парке.\n\nПути второй день будет новый,\nПридется даже разделиться.\nИ Дивергенция Смирнова.\nВ этом походе состоится.\n\nПрекрасно очень зимним лесом\nНепринужденно так гулять.\nИ сон глубокий с интересом\nПрироды нашей созерцать.\n\nИ не зависит от погоды,\nИ состоится как угодно.\nЭта поездка на природу,\nВедь так бывает ежегодно.\n\nПоход номер 70 «Дивергенция Смирнова» будет осуществлен 13-16 января 2016г. Сценарий сложный. Поход пешего формата (при обилии снега лыжный). В плане навигации и трудозатрат при передвижении проще предыдущего 69-ого, однако,  дневные переходы увеличены на одну треть.  Начинается в райцентре Себеж Псковской области с того же самого места, когда в прошедшем июне мы отчалили на байдарках с северо-западного фаса озера Ороно. Двадцать километров движемся на юг в основном по акватории водоемов (исток и верхняя часть реки Свольна). Две самостоятельные группы «Перигей Смирнова» и «Апогей Смирнова». 14 января лагерь возле той самой беседки, где Свольна вытекает из озера Нечерица. Будет организована театральная труппа ХУЕК.\nПрограмма:\n1. Пьеса – оперетта «1декабря 1962года Хрущев на выставке авангардистов» \n2. Конь-Камень в Тульской области. Магический мегалит, после посещения которого у мужчин усиливается мужская, а у женщин детородная функция. (Последний планируется посетить по дороге в Башкирию в апреле месяце) - лектор Глаз\n3. Белоруский танец Жабка (упраздненный вариант) - Озеринский Александр, Малышкина Анна\n4. 5 декабря 1945г. Звено 19. Исчезнувшие на учебном задании торпедоносцы "Эвенджер". Официальная и альтернативные версии произошедшего \n5. 5 декабря 1978г. подписание между правительсвами СССР и Афганистана "Договора о дружбе". - Потапов Андрей.\n6. Тайны Ишутинского Городища в Тульской области\n15 декабря «Перигей Смирнова» продолжает двигаться по льду Свольны на юго-восток, а потом и на восток через лесной массив и подле озера Осыно на 38-ом километре (в сумме с 14 декабря) пути выходит на трассу Полоцк-Опочка. Выброска\n15 декабря «Апогей Смирнова» идет по озеру Нечерица на юго-запад, а потом через лесной массив на юг-запад-запад. Ночевка на Белом озере. \n16 декабря продолжение движения без глобального изменения азимута. Выход на озеро Освейское (второе после Нарочи в Беларуси). Движение по акватории Освейского озера, подрезая юго-восточный фас, с завершением маршрута на 48 километре пути (суммарно).\nЭстетическая составляющая мероприятия в рекламе не нуждается\nЛогистические аспекты будут разработаны позднее, исходя из состава участников на 09 января 2017г. \nУчастие согласовывать с Глазом. Страховка от бабушек из Удмуртии 40рублей Юрию Лившицу (менеджер похода номер 70) тел. +375291110436 Он в будние дни курсирует по городу, что удобна организация встречи. \nОграничения для участия:\n- маршрут линейный БЕЗ возможностей схода. Для дебютирующих и тучных участников не рекомендован.\n- группы моральной поддержки и технического обеспечения не предусмотрены в связи с относительной отдаленностью региона и резким затруднением с подъездами \n- степень ответственности кластерная (в пределах подгрупп)\n- прочие издержки, погода, обувь и. т. д. \n\n\n\n

X-ALT-DESC;FMTTYPE=text/html:<!DOCTYPE HTML PUBLIC "-//W3C//DTD HTML 3.2//EN">\n<HTML>\n<HEAD>\n<META NAME="Generator" CONTENT="MS Exchange Server version 08.00.0681.000">\n<TITLE></TITLE>\n</HEAD>\n<BODY>\n<!-- Converted from text/rtf format -->\n\nЯ Дивергенцию Смирнова<br />Зимой холодной предлагаю.<br />Традиция эта не нова,<br />И нравится она всем - знаю<br /> <br />Теперь Синюшную Бригаду<br />Поодиночке разогнали.<br />Воздалось это и в награду, <br />Сильнее нас зауважали.<br /><br />Маршрут как буква игрек будет,<br />По Себежской пройдет он Пуще.<br />О месте этом панегирик<br />Писать согласен я и пуще.<br /><br />Мы Себежский Край очень любим.<br />Тем краше он порою зимней.<br />Зело трек интересный будет.<br />Лес, лед, тростник и даже иней.<br /><br />На юг идет озер цепочка,<br />И я скажу самодовольно.<br />Недалеко город Опочка,<br />И протекает речка Свольна.<br /><br />Ночевки точка совпадает,<br />В июне была что прошедшем.<br />Кружек ХУЕК нас ожидает.<br />Пусть говорят – Глаз сумасшедший.<br /><br />Трек сорок восемь километров.<br />Нам предстоит пройти, друзья.<br />Возьмем с собою зимних мэтров – <br />Проект сей завалить нельзя.<br /><br />Январь – красивый месяц зимний.<br />Пожалуй, лучше нет поры…<br />А годы пролетают мимо,<br />Болезней больше и хандры.<br /><br />Всех креативных приглашаю<br />Записываться в наш поход.<br />По льду прогулки обожаю.<br />И практикую каждый год.<br /><br />Собрать заранее мне нужно,<br />Тогда это залог успеха.<br />Команда чтобы была дружной,<br />И километры не помеха.<br /><br />В июне Свольну мы ходили,<br />Но это плыли на байдарках.<br />Недавно, кажется, так было.<br />В Себежском Национальном Парке.<br /><br />Пути второй день будет новый,<br />Придется даже разделиться.<br />И Дивергенция Смирнова.<br />В этом походе состоится.<br /><br />Прекрасно очень зимним лесом<br />Непринужденно так гулять.<br />И сон глубокий с интересом<br />Природы нашей созерцать.<br /><br />И не зависит от погоды,<br />И состоится как угодно.<br />Эта поездка на природу,<br />Ведь так бывает ежегодно.<br /><br />Поход номер 70 «Дивергенция Смирнова» будет осуществлен 13-16 января 2016г. Сценарий сложный. Поход пешего формата (при обилии снега лыжный). В плане навигации и трудозатрат при передвижении проще предыдущего 69-ого, однако,  дневные переходы увеличены на одну треть.  Начинается в райцентре Себеж Псковской области с того же самого места, когда в прошедшем июне мы отчалили на байдарках с северо-западного фаса озера Ороно. Двадцать километров движемся на юг в основном по акватории водоемов (исток и верхняя часть реки Свольна). Две самостоятельные группы «Перигей Смирнова» и «Апогей Смирнова». 14 января лагерь возле той самой беседки, где Свольна вытекает из озера Нечерица. Будет организована театральная труппа ХУЕК.<br />Программа:<br />1. Пьеса – оперетта «1декабря 1962года Хрущев на выставке авангардистов» <br />2. Конь-Камень в Тульской области. Магический мегалит, после посещения которого у мужчин усиливается мужская, а у женщин детородная функция. (Последний планируется посетить по дороге в Башкирию в апреле месяце) - лектор Глаз<br />3. Белоруский танец Жабка (упраздненный вариант) - Озеринский Александр, Малышкина Анна<br />4. 5 декабря 1945г. Звено 19. Исчезнувшие на учебном задании торпедоносцы "Эвенджер". Официальная и альтернативные версии произошедшего <br />5. 5 декабря 1978г. подписание между правительсвами СССР и Афганистана "Договора о дружбе". - Потапов Андрей.<br />6. Тайны Ишутинского Городища в Тульской области<br />15 декабря «Перигей Смирнова» продолжает двигаться по льду Свольны на юго-восток, а потом и на восток через лесной массив и подле озера Осыно на 38-ом километре (в сумме с 14 декабря) пути выходит на трассу Полоцк-Опочка. Выброска<br />15 декабря «Апогей Смирнова» идет по озеру Нечерица на юго-запад, а потом через лесной массив на юг-запад-запад. Ночевка на Белом озере. <br />16 декабря продолжение движения без глобального изменения азимута. Выход на озеро Освейское (второе после Нарочи в Беларуси). Движение по акватории Освейского озера, подрезая юго-восточный фас, с завершением маршрута на 48 километре пути (суммарно).<br />Эстетическая составляющая мероприятия в рекламе не нуждается<br />Логистические аспекты будут разработаны позднее, исходя из состава участников на 09 января 2017г. <br />Участие согласовывать с Глазом. Страховка от бабушек из Удмуртии 40рублей Юрию Лившицу (менеджер похода номер 70) тел. +375291110436 Он в будние дни курсирует по городу, что удобна организация встречи. <br />Ограничения для участия:<br />- маршрут линейный БЕЗ возможностей схода. Для дебютирующих и тучных участников не рекомендован.<br />- группы моральной поддержки и технического обеспечения не предусмотрены в связи с относительной отдаленностью региона и резким затруднением с подъездами <br />- степень ответственности кластерная (в пределах подгрупп)<br />- прочие издержки, погода, обувь и. т. д. <br /><br /><br /><br />\n\n</BODY>\n</HTML>

LOCATION:
END:VEVENT

END:VCALENDAR
