BEGIN:VCALENDAR
VERSION:2.0
PRODID:-//hacksw/handcal//NONSGML v1.0//EN
BEGIN:VEVENT
UID:2638d472093d22079b115040515d1afa
DTSTAMP:20260421T114416Z

DTSTART:20170128T030000
DTEND:20170129T190000
SUMMARY:В гости к Огинскому
DESCRIPTION:В продолжение славных традиций культурно-оздоровительных мероприятий рад пригласить желающих в поход выходного дня вдоль Вилии.\nМаршрут пройдет по местам высочайшей эстетико-культурной ценности, бонус - посещение имения М.К. Огинского. Частично маршрут повторяет трек двухлетней давности (весеннее мероприятие с детьми).\nТрек - около 40 км, в зависимости от погодных условий поход может быть пешим или лыжным. Не исключено наличие минимальных водных преград (ручей).\nТакже в программе: уже полюбившаяся постоянным участникам кухня народов мира, культурно-просветительские лекции с последующим их полемическим обсуждением.\n\nТребования к участникам традиционные:\n1. самостоятельность\n2. зрелость\n3. способность пройти маршрут\n4. отсутствие родственников в Удмуртии\n\nЛогистика железнодорожная, что позволит сэкономить финансовые средства (проезд в обе стороны - в пределах 3 рублей). Затраты на еду - в зависимости от состава, около 12 - 15 рублей на человека.\nПредварительная запись (до 23.01.17) по телефонам (029) 1140865, (029) 5043067. Ответственный - К. Минкевич.

X-ALT-DESC;FMTTYPE=text/html:<!DOCTYPE HTML PUBLIC "-//W3C//DTD HTML 3.2//EN">\n<HTML>\n<HEAD>\n<META NAME="Generator" CONTENT="MS Exchange Server version 08.00.0681.000">\n<TITLE></TITLE>\n</HEAD>\n<BODY>\n<!-- Converted from text/rtf format -->\n\nВ продолжение славных традиций культурно-оздоровительных мероприятий рад пригласить желающих в поход выходного дня вдоль Вилии.<br />Маршрут пройдет по местам высочайшей эстетико-культурной ценности, бонус - посещение имения М.К. Огинского. Частично маршрут повторяет трек двухлетней давности (весеннее мероприятие с детьми).<br />Трек - около 40 км, в зависимости от погодных условий поход может быть пешим или лыжным. Не исключено наличие минимальных водных преград (ручей).<br />Также в программе: уже полюбившаяся постоянным участникам кухня народов мира, культурно-просветительские лекции с последующим их полемическим обсуждением.<br /><br />Требования к участникам традиционные:<br />1. самостоятельность<br />2. зрелость<br />3. способность пройти маршрут<br />4. отсутствие родственников в Удмуртии<br /><br />Логистика железнодорожная, что позволит сэкономить финансовые средства (проезд в обе стороны - в пределах 3 рублей). Затраты на еду - в зависимости от состава, около 12 - 15 рублей на человека.<br />Предварительная запись (до 23.01.17) по телефонам (029) 1140865, (029) 5043067. Ответственный - К. Минкевич.\n\n</BODY>\n</HTML>

LOCATION:Залесье, Беларусь
END:VEVENT

END:VCALENDAR
