BEGIN:VCALENDAR
VERSION:2.0
PRODID:-//hacksw/handcal//NONSGML v1.0//EN
BEGIN:VEVENT
UID:a583dd55357a35094dd79dab35d81dc2
DTSTAMP:20260420T180600Z

DTSTART:20170204T070000
DTEND:20170205T190000
SUMMARY:В последний вагон уходящего поезда
DESCRIPTION:Захотелось что-то помесить снег лыжами. Приглашаем желающих в несложный, но интересный походик по восточным окрестностям Минска. Старт в 12-00 в субботу из Б.Стиклево. Прибытие в воскресенье на вокзал на аэроэкспрессе Беларусь-Минск\n

X-ALT-DESC;FMTTYPE=text/html:<!DOCTYPE HTML PUBLIC "-//W3C//DTD HTML 3.2//EN">\n<HTML>\n<HEAD>\n<META NAME="Generator" CONTENT="MS Exchange Server version 08.00.0681.000">\n<TITLE></TITLE>\n</HEAD>\n<BODY>\n<!-- Converted from text/rtf format -->\n\nЗахотелось что-то помесить снег лыжами. Приглашаем желающих в несложный, но интересный походик по восточным окрестностям Минска. Старт в 12-00 в субботу из Б.Стиклево. Прибытие в воскресенье на вокзал на аэроэкспрессе Беларусь-Минск<br />\n\n</BODY>\n</HTML>

LOCATION:ул. Большое Стиклево, Большое Стиклево, Беларусь
END:VEVENT

END:VCALENDAR
