BEGIN:VCALENDAR
VERSION:2.0
PRODID:-//hacksw/handcal//NONSGML v1.0//EN
BEGIN:VEVENT
UID:58391a8e8b3e942f7ae72560c3b182fb
DTSTAMP:20260420T173913Z

DTSTART:20170317T090000
DTEND:20170320T081500
SUMMARY:71А:  Льва 17-20 марта
DESCRIPTION:\nЛишь снег и лед сойдут едва,\nХочу в поход по речке Льва!\nХодили в том году кусок.\nТеперь продолжим на восток.\n\nРека теряется в болоте.\nТут джунгли, летом не пройдете.\nНу, а весенним половодьем\nПо ней в отчетах пишут - ходят.\n\nРека, конечно, уникальна.\nЕдиным руслом изначально\nСреди болот тех протекала.\nНарыть каналы привлекала.\n\nМелиораторы вмешались.\nС тех пор ландшафты поменялись.\nЛетом реки не существует.\nО чем в отчетах повествуют. \n   \nЛишь есть отдельные бучила,\nГде глубину река размыла.\nМеж них протоки высыхают,\nИли же напрочь зарастают. \n\nНо никуда не исчезает, \nВода, –  часть в Моству попадает.\nА остальная из болота\nСтекает в Чакву отчего-то.\n\nКругом болотные красоты:\nРогоз, тростник, бугры с осотом.\nА летом лилий непомерно\nТам распускается, наверно.\n\nТеперь, что снега нет не ново.\nИ что ни год – зима хуева.\nМало воды – не забалуешь,\nТянуть по суше лодки будешь.\nВесною нету половодья.\nНо в этом марте будет вроде.\n\nВоды должно теперь хватить,\nЧтобы болото затопить,\nПоход байдарочный по Льве,\nПроехать с Глазом во главе.\n\nДойти до Ствиги не берусь.\nПо времени не уложусь.\nСей замечательный маршрут\n(Ничто не остается тут) -\nНа два похода поделить,\nИ удовольствие продлить.\n\nПродолжим к следующей весне\nЗаканчивать маршрут по Льве.\nЕще по Ствиге так сказать.\nИдти верст где-то сорок пять.\n\nВ походе этом для друзей\nЕсть краеведческий музей.\nИ без сомнения тогда.\nЗайдем по плану мы туда.\n\nВ этот же светит раз сполна\nПлыть до деревни Старина.\nРазумнее здесь завершить,\nА больше негде соскочить.\n\nКак ни крутись – один ответ,\nЧто населенки больше нет.\nДа и для лагеря, друзья,\nНайдется не везде земля.\n\nТростник засохший и рогоз.\nОльха, переплетение лоз.\nКуда ни кинь – везде вода:\nВперед, назад, туда, сюда.\n\nСплав предстоит нам не обычный.\nПейзаж минорный, не привычный.\nОльманами болота эти называют.\n Большими самыми у нас считают.\n\nНе говорю, что всё так жуть,\nНо предстоит нелегкий путь.\nБез навигатора никак:\nМожно легко попасть впросак, -\nУйти в сторонку, с русла сбиться,\nИ средь болота заблудиться.\n\nПока компанию ищу,\nСобрать эскадру я хочу.\nС названием – «Фабула Смирнова».\nСудов пять-шесть, это не много. \n\nНо требования высоки,\nВедь трудности здесь велики.\nМарт месяц – это не курорт.\nВсегда полнейший дискомфорт, \nИ негде выйти там за борт,\nЧтобы согреться, походить,\nПрисесть, поесть, чаек попить.\n\nТемнеет рано, холодна\nНочь в марте и легко сполна\nТогда всех горестей хлебнуть:\nУстать, замерзнуть, утонуть…\nВ походе неизвестно, наконец\nПодстерегает где тебя пиздец.\n\nПойти, иль нет в 71А,\nМного подумайте сперва.\nДавайте без обиняков,\nВ состав не надо шалунов.\nХоть бывших, или кто средь них сейчас.\nВ состав я не записываю этот раз.\n\nГотовится эскадра «Фабула Смирнова».\nБайдарочный сезон мы открываем снова.\nА менеджер похода Лившиц Юра.\nДе факто Лившиц как, так и де юре.\n\nГлаз пограничникам на днях звонил,\nПо телефону с офицером говорил.\nТеперь и полосу и погранзону упразднили.\nГоспошлину за пребывание отменили.\nДля белорусов это только лишь,\nДля всех не наших  –  с маслом шишь.\n\nКасается что календарных дат,\nПойти попозже будет невпопад.\nС двадцатого числа уже запрет.\nХодить на лодках по воде озер и рек.\nКак начинается весенний нерест рыбы,\nТо надо  разрешение  надыбать.\n\nВ году семнадцатом весной.\nСезон открытый будет Львой!\nКто не пойдет в поход А71,\nНе страшно, он планируется не один.\n\nНо вдруг хавьер, морозы залютуют.\nПусть эти числа все же не пустуют.\nТогда запущен будет в ход.\nРезервный туристический поход.\n \nОписательная составляющая указана в поэме-анонсе. Сплав двухдневный.\nВыезд из Минска поздно вечером 17 марта. Все логистические вопросы будут уточнены ближе к мероприятию. Программа Максимум – сплав до деревни Теребличи. Программа минимум – завершение в деревне Старина. Более ранних возможностей схода с маршрута нет. Но времени в обрез и график движения будет напряженный. Прокат лодок 25 рублей с носа или свои. Логистические расходы 40-50 рублей. Возвращение в понедельник рано утром 20 марта – то есть, отгул брать не требуется. \nСплав предстоит в режиме хардкор. Требования к участникам:\n- не состоять в уголке Шалуна на текущий момент\n- не состоять в Уголке Шалуна когда-либо ранее\n- не обременять организационную коллегию сложными алгоритмами по поводу участия \n- не обременять организационную коллегию сверхценными предложениями по тактическому исполнению\nГлаз, Стас Литвинович, Слава-Электрик, Виктор Гюго, Пузочес Игорь, Желтый Дима, Калач Анатолий, Юрий Лившиц, Полковник Малышев, Малышкина Анна, Озеринский Александр, Мощный, Сазанович Бронислав. Чернянин Паша. \nВозьму несколько участников. Запись ведет Глаз.\n \n   \n

X-ALT-DESC;FMTTYPE=text/html:<!DOCTYPE HTML PUBLIC "-//W3C//DTD HTML 3.2//EN">\n<HTML>\n<HEAD>\n<META NAME="Generator" CONTENT="MS Exchange Server version 08.00.0681.000">\n<TITLE></TITLE>\n</HEAD>\n<BODY>\n<!-- Converted from text/rtf format -->\n\n<br />Лишь снег и лед сойдут едва,<br />Хочу в поход по речке Льва!<br />Ходили в том году кусок.<br />Теперь продолжим на восток.<br /><br />Река теряется в болоте.<br />Тут джунгли, летом не пройдете.<br />Ну, а весенним половодьем<br />По ней в отчетах пишут - ходят.<br /><br />Река, конечно, уникальна.<br />Единым руслом изначально<br />Среди болот тех протекала.<br />Нарыть каналы привлекала.<br /><br />Мелиораторы вмешались.<br />С тех пор ландшафты поменялись.<br />Летом реки не существует.<br />О чем в отчетах повествуют. <br />   <br />Лишь есть отдельные бучила,<br />Где глубину река размыла.<br />Меж них протоки высыхают,<br />Или же напрочь зарастают. <br /><br />Но никуда не исчезает, <br />Вода, –  часть в Моству попадает.<br />А остальная из болота<br />Стекает в Чакву отчего-то.<br /><br />Кругом болотные красоты:<br />Рогоз, тростник, бугры с осотом.<br />А летом лилий непомерно<br />Там распускается, наверно.<br /><br />Теперь, что снега нет не ново.<br />И что ни год – зима хуева.<br />Мало воды – не забалуешь,<br />Тянуть по суше лодки будешь.<br />Весною нету половодья.<br />Но в этом марте будет вроде.<br /><br />Воды должно теперь хватить,<br />Чтобы болото затопить,<br />Поход байдарочный по Льве,<br />Проехать с Глазом во главе.<br /><br />Дойти до Ствиги не берусь.<br />По времени не уложусь.<br />Сей замечательный маршрут<br />(Ничто не остается тут) -<br />На два похода поделить,<br />И удовольствие продлить.<br /><br />Продолжим к следующей весне<br />Заканчивать маршрут по Льве.<br />Еще по Ствиге так сказать.<br />Идти верст где-то сорок пять.<br /><br />В походе этом для друзей<br />Есть краеведческий музей.<br />И без сомнения тогда.<br />Зайдем по плану мы туда.<br /><br />В этот же светит раз сполна<br />Плыть до деревни Старина.<br />Разумнее здесь завершить,<br />А больше негде соскочить.<br /><br />Как ни крутись – один ответ,<br />Что населенки больше нет.<br />Да и для лагеря, друзья,<br />Найдется не везде земля.<br /><br />Тростник засохший и рогоз.<br />Ольха, переплетение лоз.<br />Куда ни кинь – везде вода:<br />Вперед, назад, туда, сюда.<br /><br />Сплав предстоит нам не обычный.<br />Пейзаж минорный, не привычный.<br />Ольманами болота эти называют.<br /> Большими самыми у нас считают.<br /><br />Не говорю, что всё так жуть,<br />Но предстоит нелегкий путь.<br />Без навигатора никак:<br />Можно легко попасть впросак, -<br />Уйти в сторонку, с русла сбиться,<br />И средь болота заблудиться.<br /><br />Пока компанию ищу,<br />Собрать эскадру я хочу.<br />С названием – «Фабула Смирнова».<br />Судов пять-шесть, это не много. <br /><br />Но требования высоки,<br />Ведь трудности здесь велики.<br />Март месяц – это не курорт.<br />Всегда полнейший дискомфорт, <br />И негде выйти там за борт,<br />Чтобы согреться, походить,<br />Присесть, поесть, чаек попить.<br /><br />Темнеет рано, холодна<br />Ночь в марте и легко сполна<br />Тогда всех горестей хлебнуть:<br />Устать, замерзнуть, утонуть…<br />В походе неизвестно, наконец<br />Подстерегает где тебя пиздец.<br /><br />Пойти, иль нет в 71А,<br />Много подумайте сперва.<br />Давайте без обиняков,<br />В состав не надо шалунов.<br />Хоть бывших, или кто средь них сейчас.<br />В состав я не записываю этот раз.<br /><br />Готовится эскадра «Фабула Смирнова».<br />Байдарочный сезон мы открываем снова.<br />А менеджер похода Лившиц Юра.<br />Де факто Лившиц как, так и де юре.<br /><br />Глаз пограничникам на днях звонил,<br />По телефону с офицером говорил.<br />Теперь и полосу и погранзону упразднили.<br />Госпошлину за пребывание отменили.<br />Для белорусов это только лишь,<br />Для всех не наших  –  с маслом шишь.<br /><br />Касается что календарных дат,<br />Пойти попозже будет невпопад.<br />С двадцатого числа уже запрет.<br />Ходить на лодках по воде озер и рек.<br />Как начинается весенний нерест рыбы,<br />То надо  разрешение  надыбать.<br /><br />В году семнадцатом весной.<br />Сезон открытый будет Львой!<br />Кто не пойдет в поход А71,<br />Не страшно, он планируется не один.<br /><br />Но вдруг хавьер, морозы залютуют.<br />Пусть эти числа все же не пустуют.<br />Тогда запущен будет в ход.<br />Резервный туристический поход.<br /> <br />Описательная составляющая указана в поэме-анонсе. Сплав двухдневный.<br />Выезд из Минска поздно вечером 17 марта. Все логистические вопросы будут уточнены ближе к мероприятию. Программа Максимум – сплав до деревни Теребличи. Программа минимум – завершение в деревне Старина. Более ранних возможностей схода с маршрута нет. Но времени в обрез и график движения будет напряженный. Прокат лодок 25 рублей с носа или свои. Логистические расходы 40-50 рублей. Возвращение в понедельник рано утром 20 марта – то есть, отгул брать не требуется. <br />Сплав предстоит в режиме хардкор. Требования к участникам:<br />- не состоять в уголке Шалуна на текущий момент<br />- не состоять в Уголке Шалуна когда-либо ранее<br />- не обременять организационную коллегию сложными алгоритмами по поводу участия <br />- не обременять организационную коллегию сверхценными предложениями по тактическому исполнению<br />Глаз, Стас Литвинович, Слава-Электрик, Виктор Гюго, Пузочес Игорь, Желтый Дима, Калач Анатолий, Юрий Лившиц, Полковник Малышев, Малышкина Анна, Озеринский Александр, Мощный, Сазанович Бронислав. Чернянин Паша. <br />Возьму несколько участников. Запись ведет Глаз.<br /> <br />   <br />\n\n</BODY>\n</HTML>

LOCATION:
END:VEVENT

END:VCALENDAR
