BEGIN:VCALENDAR
VERSION:2.0
PRODID:-//hacksw/handcal//NONSGML v1.0//EN
BEGIN:VEVENT
UID:f415eb58fa31e597067fc84d81ac5be0
DTSTAMP:20260420T142123Z

DTSTART:20170406T220000
DTEND:20170410T160000
SUMMARY:72: Вся Страча
DESCRIPTION:По Страче мы ходили \nВ 2001-ый год.\nБайдарки там пробили,\nТрехдневный был поход.\n\nАпреля середина\nСтояла на дворе.\nИ солнышко светило\nТогда по той поре.\n\nБывает, часто манит\nВ те самые места.\nК природе очень тянет,\nКогда пришла весна.\n\nИ по местам Смирнова\nРека течет.\nПрирода снова\nНас в гости ждет.\n\nЛеса вдали виднее,\nСинее небеса.\nЗаметней и чернее\nНа пашне полоса.\nИ детские звонче\nНад лугом голоса.\nВесна идет сторонкой,\nДа где ж сама она?\nЧу, - слышен голос звонкий, -\nНе это ли весна?\nНет, это звонко, тонко\nВ реке журчит вода.\n\nАпреля половодье\nВсе хотят застать.\nВ такое время вроде,\nНе стоило б зевать.\n\nЧто предложить, я знаю\nПройти всю целиком.\nЯ Страчу предлагаю,\nТам был Смирнов пешком.\n\nПо Голубым Озерам\nСтрача река течет.\nТуристов привлекает.\nМаршрут этот – зачет!\n\nИ каждый день, - то новый:\nДва озера сперва,\nРеки изгиб неровный\nБолотами, как Льва.\n\nВторой день - лес могучий \nС обоих берегов,\nТечение покруче;\nВ поход пойдет Глазков.\n\n«Озера Голубые» - \nЗаказник называют.\nПрепятствия любые\nНам Страча предлагает.\n\n Обносы и завалы,\nИ два порога даже.\nПочувствовать бывалым\nСебя там сможет каждый.\n\nА в третий день пошире\nСтановиться река.\nНедалеко от Свири\nТе самые места.\n\nА с Вилией чтоб слиться\nНаляжем на весло.\nИ в сроки уложится,\nТечение бы несло.\n\nБерезового сока \nДобудем литра три.\nС водой всегда морока.\nЕё сколь не бери.\n\nНе первые же будем \nСкорей всего в сезон.\nС нас это не убудет.\nТут есть такой резон:\nБобровые плотины \nНе быстро разбирать,\nУйдет немало силы\nПроходы прорубать.\n\nОдно водохранилище\nПридется проходить.\nИ дамбу в третий день еще \nНам надо обносить.\n\nПодснежник распустился,\nВеселый птичий гам.\nИ лес зашевелился,\nБудто на радость нам.\n\nСобрать «Группу Смирнова»\nГотовлюсь я теперь.\nТем более что снова\nВесна стучится в дверь.\n\n72-ым походом\nПроект сей назову.\nГотовьтесь мимоходом\nВо сне и наяву.\n\nАншлаги  наблюдаются \nУ нас в такое время.\nКак будто просыпаются\nУчастники с похмелья.\n\n«Смирнова Беллетристикой»\nЭскадру назовем.\nИ флотом многочисленным \nМы по реке пойдем.\n\nОт нас уехал Горбиков,\nНо будет Озеринский.\nБыть может Анатолия \nВозьмем или Капризку.\n\nДрузья друг-другу рады.\nХодите каждый раз!\nЗвоните, когда надо,\nЗаписывает Глаз…\n\nСроки проведения сплава номер 72 – 07 вечер, 08, 09 и 10 апреля. Возвращение ночью 11 апреля.\nГруппа из двух подгрупп «Беллетристика Смирнова» и «Фантасмагория Смирнова».\nСплав не коммерческий. Бюджет включает логистику порядка 40 рублей, прокат байдарок (или свои) 25-30 рублей. Расходы на питание. Мероприятие планируется довольно интенсивное в режиме цейтнот и хардкор. Это просьба учесть. Обращаться самостоятельным и не нуждающимся в курации и уходе.\nВ этот поход не записываются состоящие в Уголке Шалуна или лица, хоть когда-либо пребывавшие ранее в Уголке Шалуна (для этой категории есть специальные походы).\nОбращайтесь чем раньше, тем лучше. Поскольку, скорее всего, придется делать разрешающие документы на проведение сплава в период запрета на весенний нерест рыбы. Идущим в сплав по рекам Башкирии, участие здесь категорически рекомендовано. \n   \n

X-ALT-DESC;FMTTYPE=text/html:<!DOCTYPE HTML PUBLIC "-//W3C//DTD HTML 3.2//EN">\n<HTML>\n<HEAD>\n<META NAME="Generator" CONTENT="MS Exchange Server version 08.00.0681.000">\n<TITLE></TITLE>\n</HEAD>\n<BODY>\n<!-- Converted from text/rtf format -->\n\nПо Страче мы ходили <br />В 2001-ый год.<br />Байдарки там пробили,<br />Трехдневный был поход.<br /><br />Апреля середина<br />Стояла на дворе.<br />И солнышко светило<br />Тогда по той поре.<br /><br />Бывает, часто манит<br />В те самые места.<br />К природе очень тянет,<br />Когда пришла весна.<br /><br />И по местам Смирнова<br />Река течет.<br />Природа снова<br />Нас в гости ждет.<br /><br />Леса вдали виднее,<br />Синее небеса.<br />Заметней и чернее<br />На пашне полоса.<br />И детские звонче<br />Над лугом голоса.<br />Весна идет сторонкой,<br />Да где ж сама она?<br />Чу, - слышен голос звонкий, -<br />Не это ли весна?<br />Нет, это звонко, тонко<br />В реке журчит вода.<br /><br />Апреля половодье<br />Все хотят застать.<br />В такое время вроде,<br />Не стоило б зевать.<br /><br />Что предложить, я знаю<br />Пройти всю целиком.<br />Я Страчу предлагаю,<br />Там был Смирнов пешком.<br /><br />По Голубым Озерам<br />Страча река течет.<br />Туристов привлекает.<br />Маршрут этот – зачет!<br /><br />И каждый день, - то новый:<br />Два озера сперва,<br />Реки изгиб неровный<br />Болотами, как Льва.<br /><br />Второй день - лес могучий <br />С обоих берегов,<br />Течение покруче;<br />В поход пойдет Глазков.<br /><br />«Озера Голубые» - <br />Заказник называют.<br />Препятствия любые<br />Нам Страча предлагает.<br /><br /> Обносы и завалы,<br />И два порога даже.<br />Почувствовать бывалым<br />Себя там сможет каждый.<br /><br />А в третий день пошире<br />Становиться река.<br />Недалеко от Свири<br />Те самые места.<br /><br />А с Вилией чтоб слиться<br />Наляжем на весло.<br />И в сроки уложится,<br />Течение бы несло.<br /><br />Березового сока <br />Добудем литра три.<br />С водой всегда морока.<br />Её сколь не бери.<br /><br />Не первые же будем <br />Скорей всего в сезон.<br />С нас это не убудет.<br />Тут есть такой резон:<br />Бобровые плотины <br />Не быстро разбирать,<br />Уйдет немало силы<br />Проходы прорубать.<br /><br />Одно водохранилище<br />Придется проходить.<br />И дамбу в третий день еще <br />Нам надо обносить.<br /><br />Подснежник распустился,<br />Веселый птичий гам.<br />И лес зашевелился,<br />Будто на радость нам.<br /><br />Собрать «Группу Смирнова»<br />Готовлюсь я теперь.<br />Тем более что снова<br />Весна стучится в дверь.<br /><br />72-ым походом<br />Проект сей назову.<br />Готовьтесь мимоходом<br />Во сне и наяву.<br /><br />Аншлаги  наблюдаются <br />У нас в такое время.<br />Как будто просыпаются<br />Участники с похмелья.<br /><br />«Смирнова Беллетристикой»<br />Эскадру назовем.<br />И флотом многочисленным <br />Мы по реке пойдем.<br /><br />От нас уехал Горбиков,<br />Но будет Озеринский.<br />Быть может Анатолия <br />Возьмем или Капризку.<br /><br />Друзья друг-другу рады.<br />Ходите каждый раз!<br />Звоните, когда надо,<br />Записывает Глаз…<br /><br />Сроки проведения сплава номер 72 – 07 вечер, 08, 09 и 10 апреля. Возвращение ночью 11 апреля.<br />Группа из двух подгрупп «Беллетристика Смирнова» и «Фантасмагория Смирнова».<br />Сплав не коммерческий. Бюджет включает логистику порядка 40 рублей, прокат байдарок (или свои) 25-30 рублей. Расходы на питание. Мероприятие планируется довольно интенсивное в режиме цейтнот и хардкор. Это просьба учесть. Обращаться самостоятельным и не нуждающимся в курации и уходе.<br />В этот поход не записываются состоящие в Уголке Шалуна или лица, хоть когда-либо пребывавшие ранее в Уголке Шалуна (для этой категории есть специальные походы).<br />Обращайтесь чем раньше, тем лучше. Поскольку, скорее всего, придется делать разрешающие документы на проведение сплава в период запрета на весенний нерест рыбы. Идущим в сплав по рекам Башкирии, участие здесь категорически рекомендовано. <br />   <br />\n\n</BODY>\n</HTML>

LOCATION:
END:VEVENT

END:VCALENDAR
