BEGIN:VCALENDAR
VERSION:2.0
PRODID:-//hacksw/handcal//NONSGML v1.0//EN
BEGIN:VEVENT
UID:9e0891cfc66e92cd5313b80db25003b6
DTSTAMP:20260421T183136Z

DTSTART:20170407T140000
DTEND:20170409T190000
SUMMARY:Культурологическая велоразминка
DESCRIPTION:Здравствуйте!\nИдет весна, а с ней - новый велосезон. Ни для кого не секрет, что велопоходы - мой любимый формат. Не терпится уже вновь заскрипеть потертым седлом навстречу приключениям и красотам. И пусть апрель в наших широтах - ненадежная пора года, когда может и подморозить и даже снежком присыпать, предлагаю уже его начало встретить на велосипедах.\nО маршруте. Трек - около 150 км (магадановских, ага) по лучшим достопримечательностям северо-востока нашей страны: Глубокое, Мосар, Лучай, Поставы, Камай... Озера, поля и луга. В качестве бонуса - посещение самого настоящего Парижа.\nВ программе традиционная кухня народов мира, выступления плановых и внеплановых докладчиков, купания, сюрпризы и хорошее настроение.\nНапоминаю условия участия: - самостоятельность и способность проехать дистанцию\n- культура проведения досуга\n- отсутствие удмуртов в числе родственников и знакомых\nПредполагаемая логистика: туда поезд, назад трансфер, стоимость будет определяться исходя из числа участников велопробега\nЗаявки направлять непосредственно рулевому (К. Минкевич) по телефонам (1140865 - велком, 5043067 - МТС), срок регистрации - до 01.04.2017\n

X-ALT-DESC;FMTTYPE=text/html:<!DOCTYPE HTML PUBLIC "-//W3C//DTD HTML 3.2//EN">\n<HTML>\n<HEAD>\n<META NAME="Generator" CONTENT="MS Exchange Server version 08.00.0681.000">\n<TITLE></TITLE>\n</HEAD>\n<BODY>\n<!-- Converted from text/rtf format -->\n\nЗдравствуйте!<br />Идет весна, а с ней - новый велосезон. Ни для кого не секрет, что велопоходы - мой любимый формат. Не терпится уже вновь заскрипеть потертым седлом навстречу приключениям и красотам. И пусть апрель в наших широтах - ненадежная пора года, когда может и подморозить и даже снежком присыпать, предлагаю уже его начало встретить на велосипедах.<br />О маршруте. Трек - около 150 км (магадановских, ага) по лучшим достопримечательностям северо-востока нашей страны: Глубокое, Мосар, Лучай, Поставы, Камай... Озера, поля и луга. В качестве бонуса - посещение самого настоящего Парижа.<br />В программе традиционная кухня народов мира, выступления плановых и внеплановых докладчиков, купания, сюрпризы и хорошее настроение.<br />Напоминаю условия участия: - самостоятельность и способность проехать дистанцию<br />- культура проведения досуга<br />- отсутствие удмуртов в числе родственников и знакомых<br />Предполагаемая логистика: туда поезд, назад трансфер, стоимость будет определяться исходя из числа участников велопробега<br />Заявки направлять непосредственно рулевому (К. Минкевич) по телефонам (1140865 - велком, 5043067 - МТС), срок регистрации - до 01.04.2017<br />\n\n</BODY>\n</HTML>

LOCATION:Мосар, Беларусь
END:VEVENT

END:VCALENDAR
