BEGIN:VCALENDAR
VERSION:2.0
PRODID:-//hacksw/handcal//NONSGML v1.0//EN
BEGIN:VEVENT
UID:c979f158efdac8ffcd1d010ea37887ae
DTSTAMP:20260420T142404Z

DTSTART:20170421T100000
DTEND:20170422T091500
SUMMARY:Проводы 73
DESCRIPTION:Регулярно у нас по весне \nВ рамках отпуска время бежит.\nЭкспедиция есть по воде\n(Душа к сплавам сезонным лежит).\n\nПриходите на проводы к нам.\nПо Башкирии группа пойдет.\nСакмара неспокойная там\nИнзер Малый с Большим также ждет.\n\nВзвесив доводы против и за,\nС удовольствием я сообщу.\nЧто по плану река Лемеза.\nЯ туда всего больше хочу.\n\nМы стараемся два раза в год\nВыбираться подальше куда.\nОжидать с нетерпением поход\nМне приходится почти всегда.\n\nВ день рождения Ильича\nНачинается сплав 73.\nПровожающих сообща\nС собой каждый участник бери.\n\nПоход 73 магистральный,\nИ сроками он сильно длинный.\nК нему отношение сакрально.\nКилометраж же солидный.\n\nДвадцать первого дата апрель\nБудет вечера в десять часов.\nСеминара начало теперь\nОткрывать его будет Глазков.\n\nСимволично число двадцать два\nВремя отправки ноль ноль.\nВ два часа уложиться б едва.\nПузо в проводах – главная роль.\n\nФотографии будут и спич.\nТы отъезд наш не пропусти.\nПриносите с собой магарыч.\nЗа нахальство, читатель, прости.\n\nОдинцова где и Лобанка\nСобираемся мы не впервой.\nКто сплавляться не может пока,\nПриглашаем по стременной.\n\nИ не глядя на время аллюр,\nПриходите сюда провожать.\nК магазину (здесь есть ) «Виталюр».\nА кто хочет еще побухать.\n\n\n

X-ALT-DESC;FMTTYPE=text/html:<!DOCTYPE HTML PUBLIC "-//W3C//DTD HTML 3.2//EN">\n<HTML>\n<HEAD>\n<META NAME="Generator" CONTENT="MS Exchange Server version 08.00.0681.000">\n<TITLE></TITLE>\n</HEAD>\n<BODY>\n<!-- Converted from text/rtf format -->\n\nРегулярно у нас по весне <br />В рамках отпуска время бежит.<br />Экспедиция есть по воде<br />(Душа к сплавам сезонным лежит).<br /><br />Приходите на проводы к нам.<br />По Башкирии группа пойдет.<br />Сакмара неспокойная там<br />Инзер Малый с Большим также ждет.<br /><br />Взвесив доводы против и за,<br />С удовольствием я сообщу.<br />Что по плану река Лемеза.<br />Я туда всего больше хочу.<br /><br />Мы стараемся два раза в год<br />Выбираться подальше куда.<br />Ожидать с нетерпением поход<br />Мне приходится почти всегда.<br /><br />В день рождения Ильича<br />Начинается сплав 73.<br />Провожающих сообща<br />С собой каждый участник бери.<br /><br />Поход 73 магистральный,<br />И сроками он сильно длинный.<br />К нему отношение сакрально.<br />Километраж же солидный.<br /><br />Двадцать первого дата апрель<br />Будет вечера в десять часов.<br />Семинара начало теперь<br />Открывать его будет Глазков.<br /><br />Символично число двадцать два<br />Время отправки ноль ноль.<br />В два часа уложиться б едва.<br />Пузо в проводах – главная роль.<br /><br />Фотографии будут и спич.<br />Ты отъезд наш не пропусти.<br />Приносите с собой магарыч.<br />За нахальство, читатель, прости.<br /><br />Одинцова где и Лобанка<br />Собираемся мы не впервой.<br />Кто сплавляться не может пока,<br />Приглашаем по стременной.<br /><br />И не глядя на время аллюр,<br />Приходите сюда провожать.<br />К магазину (здесь есть ) «Виталюр».<br />А кто хочет еще побухать.<br /><br /><br />\n\n</BODY>\n</HTML>

LOCATION:
END:VEVENT

END:VCALENDAR
