BEGIN:VCALENDAR
VERSION:2.0
PRODID:-//hacksw/handcal//NONSGML v1.0//EN
BEGIN:VEVENT
UID:ffbf88e448557a4d0501549de1c16691
DTSTAMP:20260420T142220Z

DTSTART:20170609T080000
DTEND:20170612T220000
SUMMARY:74: Ура! Эсса!
DESCRIPTION:Июнь, и к медиуму года дело близко.\nНе скажешь, что активность наша низка.\nНе в моде телевизор иль диван.\nИ на маршрутах постоянно Магадан!\n\nПожалуй, пикники не в счет.\nОни и не идут в зачет.\nРасширь  свои, участник, горизонты шире!\nЗнакомьтесь здесь с анонсом номер 74.\n\nПочти что предлагаю мессу –\nНа сей раз выбор – река Эсса!\nОна в верховьях узковата,\nНо, думаю, проскочим как-то.\n\nКрай Лепельский для нас хоть новый,\nТуда в поход пойдем мы водный.\nДоселе Глаз там не бывал,\nИ вот сходить  момент настал.\n\nВообще начало Эссы это болота,\nНо как пониже, то река уже не та.\nТечет она лесами по обоим берегам.\nМеста красивые описывают там.\n\nВпадает в  Лепельского озера систему,\nОттуда Улла вытекает в тему.\nРекомендуют, кто ходили, с интересом\nЧтобы повыше начинали Эссу.\nХоть узок поначалу тростниковый коридор,\nОпределенный в этом есть хардкор.\n\nВоды в июне нам должно еще хватить,\nВерховья Эссы чтоб проплыть.\nС погодой неизвестно, как тут не гадай,\nСухой или дождливый выйдет май.\n\nВ июне вся природа расцветает, \nИ зелень вдоль реки благоухает.\nИ изливая брачные эмоции свои,\nЕще пока щебечут соловьи.\n\nЗаток там в Лепеле хватает, не зевай.\nТы навигатор хоть не подкачай.\nВедь группе лодок заблудиться,\nДля Магадана не годиться.\n\nА Павал Скобелеу мне говорит, -\n«Исцi  нiжэе Чашнiкау што не стаIт»\nПро это и в сети не врут,\nЧто дальше портится маршрут.\n\nПо Улле нижней, говорят, идти не то,\nТам  в воду в Чашниках сливается говно.\nБугристый дальше безлесной по берегам пейзаж.\nИ на пригорках кладбища сплошные аж.\n \nЯ набираю группу без ограничения,\nНо для ходящих регулярно предпочтение.\nСчитаются походы с Глазом до сих пор.\nЧто получается всегда хардкор.\nГруппа «Реквием» и группа «Сарабанда»\nНа две отдельных мы поделим банду.\nВсем выдадим жилеты, чтоб не потонули,\nНа Эссе, в озере или же в Улле!\n\nОграниченья будут по набору\nДля тех, кто подводил хоть раз в любую пору.\nЗаписывать же можно бывших шалунов -\nЛишь при наличии у них опекунов.\nИ если накосячит тот или иной шалун.\nНа равной отвечать за это будет опекун.\n\nВ состав тогда лишь можно записаться,\nКогда кто по надежней будет поручаться.\nА то не обойдется как на Льве без бед:\nПришлось возить беспомощный «брикет».   \n\nИ как в походе этом дело бы не шло.\nНалечь придется дружно на весло.\nВозьмем с собою Виктора Гюго.\nНадежнее, пожалуй, нету никого.\n\n\nТеперь, туристы, сами рассудите.\nПодробно карту посмотрите.\nПо середине  Лепель будем проходить,\nГде слабые туристы могут соскочить,\nПоскольку ехать еще дальше далеко.\nЧерез большой артиллерийский полигон.\n\nА дальше к Чашникам река несется на восток.\nУ Уллы в Двину Западную сток.\nА в Чашниках и будем завершать.\nВыходит длинновато, твою мать!\nНо если выгонит кого с маршрута Глаз, \nУехать можно с Лепеля как раз.\n \nЕще возобновить подошел срок.\nУвеселительный кружок ХУЕК.\nА в лагере «Садко» поставим пьесу.\nНа берегу, стоянке реки Эсса.\n\nПузо сценарий же напишет.\nА в главной роли Миндибеков Миша.\nПоставить по мотивам сказку нужно постараться.\nНо оперетта наша от оригинала может отличаться.\n\nПора заканчивать мне этот стих.\nПи…. ведь в холостую каждый лих.\nЯ в завершение рекламного процесса\nНа сплав всех приглашаю Улла-Эсса!\n\nРад предложить еще один прекрасный маршрут, достойно дополняющий  перечень мероприятий первого полугодия 2017-ого. 74 поход. Время начала 23.00 9июня. Время завершения 1.00 – 2.00 13 июня. Маршрут река Эсса (Лытаголичи)-озеро Лепельское - река Улла – Чашники.  Протяженность в км – 108. Логистика авто. Стоимость прокат байдарок (если не свои) 30 рублей с участника, дорога 40 рублей с участника. Ночевок две. Деятельность кружка ХУЕК – пьеса-оперетта «Садко» и несколько лекций. Участие согласовывать с Глазом. В состав не берутся состоящие в Уголке Шалуна на текущий момент. Для состоящих когда-либо в Уголке Шалуна и участников с сомнительной репутацией переговоры вести через официального опекуна (поручителя). При одобрении кандидатуры рассчитывать плюс на общественные работы.\n\n\n\n\n\n

X-ALT-DESC;FMTTYPE=text/html:<!DOCTYPE HTML PUBLIC "-//W3C//DTD HTML 3.2//EN">\n<HTML>\n<HEAD>\n<META NAME="Generator" CONTENT="MS Exchange Server version 08.00.0681.000">\n<TITLE></TITLE>\n</HEAD>\n<BODY>\n<!-- Converted from text/rtf format -->\n\nИюнь, и к медиуму года дело близко.<br />Не скажешь, что активность наша низка.<br />Не в моде телевизор иль диван.<br />И на маршрутах постоянно Магадан!<br /><br />Пожалуй, пикники не в счет.<br />Они и не идут в зачет.<br />Расширь  свои, участник, горизонты шире!<br />Знакомьтесь здесь с анонсом номер 74.<br /><br />Почти что предлагаю мессу –<br />На сей раз выбор – река Эсса!<br />Она в верховьях узковата,<br />Но, думаю, проскочим как-то.<br /><br />Край Лепельский для нас хоть новый,<br />Туда в поход пойдем мы водный.<br />Доселе Глаз там не бывал,<br />И вот сходить  момент настал.<br /><br />Вообще начало Эссы это болота,<br />Но как пониже, то река уже не та.<br />Течет она лесами по обоим берегам.<br />Места красивые описывают там.<br /><br />Впадает в  Лепельского озера систему,<br />Оттуда Улла вытекает в тему.<br />Рекомендуют, кто ходили, с интересом<br />Чтобы повыше начинали Эссу.<br />Хоть узок поначалу тростниковый коридор,<br />Определенный в этом есть хардкор.<br /><br />Воды в июне нам должно еще хватить,<br />Верховья Эссы чтоб проплыть.<br />С погодой неизвестно, как тут не гадай,<br />Сухой или дождливый выйдет май.<br /><br />В июне вся природа расцветает, <br />И зелень вдоль реки благоухает.<br />И изливая брачные эмоции свои,<br />Еще пока щебечут соловьи.<br /><br />Заток там в Лепеле хватает, не зевай.<br />Ты навигатор хоть не подкачай.<br />Ведь группе лодок заблудиться,<br />Для Магадана не годиться.<br /><br />А Павал Скобелеу мне говорит, -<br />«Исцi  нiжэе Чашнiкау што не стаIт»<br />Про это и в сети не врут,<br />Что дальше портится маршрут.<br /><br />По Улле нижней, говорят, идти не то,<br />Там  в воду в Чашниках сливается говно.<br />Бугристый дальше безлесной по берегам пейзаж.<br />И на пригорках кладбища сплошные аж.<br /> <br />Я набираю группу без ограничения,<br />Но для ходящих регулярно предпочтение.<br />Считаются походы с Глазом до сих пор.<br />Что получается всегда хардкор.<br />Группа «Реквием» и группа «Сарабанда»<br />На две отдельных мы поделим банду.<br />Всем выдадим жилеты, чтоб не потонули,<br />На Эссе, в озере или же в Улле!<br /><br />Ограниченья будут по набору<br />Для тех, кто подводил хоть раз в любую пору.<br />Записывать же можно бывших шалунов -<br />Лишь при наличии у них опекунов.<br />И если накосячит тот или иной шалун.<br />На равной отвечать за это будет опекун.<br /><br />В состав тогда лишь можно записаться,<br />Когда кто по надежней будет поручаться.<br />А то не обойдется как на Льве без бед:<br />Пришлось возить беспомощный «брикет».   <br /><br />И как в походе этом дело бы не шло.<br />Налечь придется дружно на весло.<br />Возьмем с собою Виктора Гюго.<br />Надежнее, пожалуй, нету никого.<br /><br /><br />Теперь, туристы, сами рассудите.<br />Подробно карту посмотрите.<br />По середине  Лепель будем проходить,<br />Где слабые туристы могут соскочить,<br />Поскольку ехать еще дальше далеко.<br />Через большой артиллерийский полигон.<br /><br />А дальше к Чашникам река несется на восток.<br />У Уллы в Двину Западную сток.<br />А в Чашниках и будем завершать.<br />Выходит длинновато, твою мать!<br />Но если выгонит кого с маршрута Глаз, <br />Уехать можно с Лепеля как раз.<br /> <br />Еще возобновить подошел срок.<br />Увеселительный кружок ХУЕК.<br />А в лагере «Садко» поставим пьесу.<br />На берегу, стоянке реки Эсса.<br /><br />Пузо сценарий же напишет.<br />А в главной роли Миндибеков Миша.<br />Поставить по мотивам сказку нужно постараться.<br />Но оперетта наша от оригинала может отличаться.<br /><br />Пора заканчивать мне этот стих.<br />Пи…. ведь в холостую каждый лих.<br />Я в завершение рекламного процесса<br />На сплав всех приглашаю Улла-Эсса!<br /><br />Рад предложить еще один прекрасный маршрут, достойно дополняющий  перечень мероприятий первого полугодия 2017-ого. 74 поход. Время начала 23.00 9июня. Время завершения 1.00 – 2.00 13 июня. Маршрут река Эсса (Лытаголичи)-озеро Лепельское - река Улла – Чашники.  Протяженность в км – 108. Логистика авто. Стоимость прокат байдарок (если не свои) 30 рублей с участника, дорога 40 рублей с участника. Ночевок две. Деятельность кружка ХУЕК – пьеса-оперетта «Садко» и несколько лекций. Участие согласовывать с Глазом. В состав не берутся состоящие в Уголке Шалуна на текущий момент. Для состоящих когда-либо в Уголке Шалуна и участников с сомнительной репутацией переговоры вести через официального опекуна (поручителя). При одобрении кандидатуры рассчитывать плюс на общественные работы.<br /><br /><br /><br /><br /><br />\n\n</BODY>\n</HTML>

LOCATION:
END:VEVENT

END:VCALENDAR
