BEGIN:VCALENDAR
VERSION:2.0
PRODID:-//hacksw/handcal//NONSGML v1.0//EN
BEGIN:VEVENT
UID:400da77b45bfd6c71bd3ded2efe00f35
DTSTAMP:20260421T093221Z

DTSTART:20170505T150000
DTEND:20170509T190000
SUMMARY:Майское Полесье
DESCRIPTION:Лишь прошла первая проверка сил и транспортных средств после длинной зимы, как грядут уже майские праздники.\nКонкуренция в эти дни особенно высока, множатся мероприятия, подогреваемые долгожданными теплом и солнцем.\nЯ приглашаю в велопоход по Полесью. В силу разных причин пришлось урезать, сокращать, отказываться и проч.\nВ результате полный формат предлагаемого похода представляет из себя маршрут протяженностью около 300 км (за 4 ходовых дня) со стартом из Минска вечером пятницы (05.05). Маршрут пройдет через такие населенные пункты как Туров, Давид-Городок, Пинск, Закозель и завершится, как и в прошлом году, в Березе. В качестве бонуса - посещение Дубая (пустыня, море, небоскребы, полиция на ламборгини и феррари).\nДля интенсивно работающих/менее тренированных предлагается включиться в трек со второго дня. В этом случае маршрут будет около 200 км.\nОбращаю внимание потенциальных участников на протяженность маршрута и, соответственно, необходимость набрать адекватную форму.\nВ ближайшие 2 - 3 недели планируется провести пару тренировочно-коммуникативных заездов по велодорожке (следите за анонсами).\nК участию приглашаются:\n1. самостоятельные и самодостаточные\n2. способные проехать заявленное расстояние (возможности для схода с маршрута в силу удаленности могут быть ограничены)\n3. воздерживающиеся и не злоупотребляющие\n4. не отягощенные пожилыми удмуртскими родственницами\n\nВ целях экономии денежных средств планируется железнодорожная логистика (конкретные номера поездов и график их движения пока не разглашается, т.к. идет проработка вариантов), но в случае внезапно большого скопления желающих можно рассмотреть и вариант заказа трансфера, что, впрочем, маловероятно.\nЗаписываться максимально заблаговременно, дабы была возможность купить билеты на поезда. Последний срок подачи заявки - 01.05.2017\nЗаписываться непосредственно у Константина Минкевича (+375291140865, +375295043067)

X-ALT-DESC;FMTTYPE=text/html:<!DOCTYPE HTML PUBLIC "-//W3C//DTD HTML 3.2//EN">\n<HTML>\n<HEAD>\n<META NAME="Generator" CONTENT="MS Exchange Server version 08.00.0681.000">\n<TITLE></TITLE>\n</HEAD>\n<BODY>\n<!-- Converted from text/rtf format -->\n\nЛишь прошла первая проверка сил и транспортных средств после длинной зимы, как грядут уже майские праздники.<br />Конкуренция в эти дни особенно высока, множатся мероприятия, подогреваемые долгожданными теплом и солнцем.<br />Я приглашаю в велопоход по Полесью. В силу разных причин пришлось урезать, сокращать, отказываться и проч.<br />В результате полный формат предлагаемого похода представляет из себя маршрут протяженностью около 300 км (за 4 ходовых дня) со стартом из Минска вечером пятницы (05.05). Маршрут пройдет через такие населенные пункты как Туров, Давид-Городок, Пинск, Закозель и завершится, как и в прошлом году, в Березе. В качестве бонуса - посещение Дубая (пустыня, море, небоскребы, полиция на ламборгини и феррари).<br />Для интенсивно работающих/менее тренированных предлагается включиться в трек со второго дня. В этом случае маршрут будет около 200 км.<br />Обращаю внимание потенциальных участников на протяженность маршрута и, соответственно, необходимость набрать адекватную форму.<br />В ближайшие 2 - 3 недели планируется провести пару тренировочно-коммуникативных заездов по велодорожке (следите за анонсами).<br />К участию приглашаются:<br />1. самостоятельные и самодостаточные<br />2. способные проехать заявленное расстояние (возможности для схода с маршрута в силу удаленности могут быть ограничены)<br />3. воздерживающиеся и не злоупотребляющие<br />4. не отягощенные пожилыми удмуртскими родственницами<br /><br />В целях экономии денежных средств планируется железнодорожная логистика (конкретные номера поездов и график их движения пока не разглашается, т.к. идет проработка вариантов), но в случае внезапно большого скопления желающих можно рассмотреть и вариант заказа трансфера, что, впрочем, маловероятно.<br />Записываться максимально заблаговременно, дабы была возможность купить билеты на поезда. Последний срок подачи заявки - 01.05.2017<br />Записываться непосредственно у Константина Минкевича (+375291140865, +375295043067)\n\n</BODY>\n</HTML>

LOCATION:Пинск, Беларусь
END:VEVENT

END:VCALENDAR
