BEGIN:VCALENDAR
VERSION:2.0
PRODID:-//hacksw/handcal//NONSGML v1.0//EN
BEGIN:VEVENT
UID:b1a7644c3cabd6bc96d20f07cfc52864
DTSTAMP:20260420T142235Z

DTSTART:20170721T210000
DTEND:20170723T203000
SUMMARY:74А: Свольну завершая
DESCRIPTION:Все более мы популярны,\nХоть мнения о нас полярны.\nВ походы регулярно ходим,\nИ в разные маршруты водим.\n\nВедь время хорошо любое.\nНе важно, летом иль зимою,\nЗадел для путешествий дан.\nЧаще всех ходит Магадан!\n\nЗа год по двадцать пять походов\nПроводят наши мимоходом.\nИ все равно, какой формат.\nЖаль перестал ходить Ухват.\n\nПо сплавам дело идет штатно.\nПланируются поэтапно.\nМаршруты наши все логичны.\nИсследуются методично.\n\nШирится водников плеяда\nПо экспоненте, сказал я бы.\nТеперь немало основных.\nИ есть «скамейка запасных».\n\nА коль хватает водных кадров,\nПопробует создать эскадру\nДостойную и в этот раз,\nКоманду собирает Глаз.\n\nДля красоты не надо водки.\nДостаточно пройти на лодке\nВниз по течению реки.\nТут впечатления велики.\n\nПешком по лету – не пригодно.\nКакая б ни была погода.\nДля этого пора одна – \nЭто, естественно, зима.\n\nНа все, конечно, нужно время,\nНо сплавы наши ведь не бремя.\nНужду испытывает Глаз -\nХодить хотя бы в месяц раз.\n\nКак впечатления высоки,\nТо ожидания далеки.\nОни бы нас не обманули.\nЗакончим Свольну – хуле!?\n\nБольшие группы ходят летом.\nНужно заранее при этом\nСостав нормальный подобрать,\nА с некоторых  взнос собрать.\n\nРечных маршрутов завершение –\nВ программе года искушение -\nПроект со Свольной нам закрыть,\nИ Птичь, конечно, завершить.\n\nНе нахожу покой невольно,\nПока не завершили Свольну.\nНа севере она течет.\nВернуться на неё влечет.\n\nРайон же будет Верхнедвинский\nИ снами будет Озеринский.\nВзять можем в качестве обузы\nПьянтоса бытового Пузо.\n\nТак из Якутии писали:\n«Приедет Горбиков из «Стали»».\nА раз приедет, мимоходом – \nБудет участвовать в походе.\n\nК походам нашим ходит близко\nХрущев, он же и есть Капризка.\nНо воду чаще избегает.\nИ к нам в состав не попадает.\n\nНа озере Ороно были\nЕго там чуть не утопили.\nВ беде своих мы не бросаем,\nИ непременно выручаем.\n\nВнимания к Хрущеву много, \nНо больше нет у нас такого.\nЕго придется приобщить,\nЧтоб с нами Свольну завершить.\n\nЕсть специальные работы\nДля залетевших обормотов.\nИ правило для Шалунов –\nНаличие опекунов.\n\nНа Молчадь Витенька ходил.\nО ней нелестно говорил,\nЧто, дескать, скучная река.\nОна его не развлекла.\n\nВряд ли пойдет Виктор Калина,\nНо точно будет Витолина.\nЧтоб не остался в не у дел\nИ Жлобинский оповещен отдел.\n\nДвадцать второго соберемся\nИ на байдарках оторвемся.\nИ если с Баем, в ПВД,\nМожет, запишем ВДВ.\n\nФотограф нужен очень срочно.\nПодходит в этом деле Мощный.\nСнять хронику, да и не только –\nВ поход пойдет Антон Расолько.\n\nПусть Лившиц собирает взнос\nНикто сюрприз чтоб не поднес.\nНе соскочил за пару дней,\nИ не дай Бог подвел друзей. \n\nИюль! На воду так и тянет.\nИ по реке проехать манит.\nА хорошо в разгаре летом\nНе важно, что жара при этом.\nА перегрелись вы когда,\nВсегда под боком есть вода.\n\nМаршрут предвидеть этот сложно.\nПопасть на мели тоже можно.\nВ верховьях с ними мы справлялись,\nКогда в июне том сплавлялись.\n\nНа запад тянется долина,\nНо трек, конечно, будет длинный.\n70км признаюсь я\nЗа два дня это – дохуя!\nНо снизить планку не могу\nСлабее чем в прошлом году.\n\nТам будут берега крутые,\nХолмы рельефные большие.\nРусло закрытое от ветра\nМеандрует много километров.\n\nДо Верхнедвинска ходят мало.\nИ описаний кот наплакал.\nНо это и тем любопытней –\nТак будет даже колоритней.\n\nТечение нам укажет путь.\nНа Свольне некуда свернуть.\nНемало встретится мостов,\nВода прикрыта меж кустов.\n\nС собой возьмите паспорта\nЗдесь говорю вам неспроста.\nДо Латвии рукой подать.\nПримерно километров пять.\n\nЭто в самом конце пути.\nПридется по Двине пройти.\nПротив течения навстречу\nЕще по неизвестной речке.\n\nХай не цiкавая яна\nРака Заходняя Двiна.\nПрямое русло, будто трасса.\nА тип долины там – терасса.\nНе стоит критики без толку.\nИдти по ней совсем недолго.\n\nЗаканчивать пора анонс,\nА то тут из стихов понос!\nЗвоните, можно и не раз.\nНа телефонной связи Глаз! \n\n

X-ALT-DESC;FMTTYPE=text/html:<!DOCTYPE HTML PUBLIC "-//W3C//DTD HTML 3.2//EN">\n<HTML>\n<HEAD>\n<META NAME="Generator" CONTENT="MS Exchange Server version 08.00.0681.000">\n<TITLE></TITLE>\n</HEAD>\n<BODY>\n<!-- Converted from text/rtf format -->\n\nВсе более мы популярны,<br />Хоть мнения о нас полярны.<br />В походы регулярно ходим,<br />И в разные маршруты водим.<br /><br />Ведь время хорошо любое.<br />Не важно, летом иль зимою,<br />Задел для путешествий дан.<br />Чаще всех ходит Магадан!<br /><br />За год по двадцать пять походов<br />Проводят наши мимоходом.<br />И все равно, какой формат.<br />Жаль перестал ходить Ухват.<br /><br />По сплавам дело идет штатно.<br />Планируются поэтапно.<br />Маршруты наши все логичны.<br />Исследуются методично.<br /><br />Ширится водников плеяда<br />По экспоненте, сказал я бы.<br />Теперь немало основных.<br />И есть «скамейка запасных».<br /><br />А коль хватает водных кадров,<br />Попробует создать эскадру<br />Достойную и в этот раз,<br />Команду собирает Глаз.<br /><br />Для красоты не надо водки.<br />Достаточно пройти на лодке<br />Вниз по течению реки.<br />Тут впечатления велики.<br /><br />Пешком по лету – не пригодно.<br />Какая б ни была погода.<br />Для этого пора одна – <br />Это, естественно, зима.<br /><br />На все, конечно, нужно время,<br />Но сплавы наши ведь не бремя.<br />Нужду испытывает Глаз -<br />Ходить хотя бы в месяц раз.<br /><br />Как впечатления высоки,<br />То ожидания далеки.<br />Они бы нас не обманули.<br />Закончим Свольну – хуле!?<br /><br />Большие группы ходят летом.<br />Нужно заранее при этом<br />Состав нормальный подобрать,<br />А с некоторых  взнос собрать.<br /><br />Речных маршрутов завершение –<br />В программе года искушение -<br />Проект со Свольной нам закрыть,<br />И Птичь, конечно, завершить.<br /><br />Не нахожу покой невольно,<br />Пока не завершили Свольну.<br />На севере она течет.<br />Вернуться на неё влечет.<br /><br />Район же будет Верхнедвинский<br />И снами будет Озеринский.<br />Взять можем в качестве обузы<br />Пьянтоса бытового Пузо.<br /><br />Так из Якутии писали:<br />«Приедет Горбиков из «Стали»».<br />А раз приедет, мимоходом – <br />Будет участвовать в походе.<br /><br />К походам нашим ходит близко<br />Хрущев, он же и есть Капризка.<br />Но воду чаще избегает.<br />И к нам в состав не попадает.<br /><br />На озере Ороно были<br />Его там чуть не утопили.<br />В беде своих мы не бросаем,<br />И непременно выручаем.<br /><br />Внимания к Хрущеву много, <br />Но больше нет у нас такого.<br />Его придется приобщить,<br />Чтоб с нами Свольну завершить.<br /><br />Есть специальные работы<br />Для залетевших обормотов.<br />И правило для Шалунов –<br />Наличие опекунов.<br /><br />На Молчадь Витенька ходил.<br />О ней нелестно говорил,<br />Что, дескать, скучная река.<br />Она его не развлекла.<br /><br />Вряд ли пойдет Виктор Калина,<br />Но точно будет Витолина.<br />Чтоб не остался в не у дел<br />И Жлобинский оповещен отдел.<br /><br />Двадцать второго соберемся<br />И на байдарках оторвемся.<br />И если с Баем, в ПВД,<br />Может, запишем ВДВ.<br /><br />Фотограф нужен очень срочно.<br />Подходит в этом деле Мощный.<br />Снять хронику, да и не только –<br />В поход пойдет Антон Расолько.<br /><br />Пусть Лившиц собирает взнос<br />Никто сюрприз чтоб не поднес.<br />Не соскочил за пару дней,<br />И не дай Бог подвел друзей. <br /><br />Июль! На воду так и тянет.<br />И по реке проехать манит.<br />А хорошо в разгаре летом<br />Не важно, что жара при этом.<br />А перегрелись вы когда,<br />Всегда под боком есть вода.<br /><br />Маршрут предвидеть этот сложно.<br />Попасть на мели тоже можно.<br />В верховьях с ними мы справлялись,<br />Когда в июне том сплавлялись.<br /><br />На запад тянется долина,<br />Но трек, конечно, будет длинный.<br />70км признаюсь я<br />За два дня это – дохуя!<br />Но снизить планку не могу<br />Слабее чем в прошлом году.<br /><br />Там будут берега крутые,<br />Холмы рельефные большие.<br />Русло закрытое от ветра<br />Меандрует много километров.<br /><br />До Верхнедвинска ходят мало.<br />И описаний кот наплакал.<br />Но это и тем любопытней –<br />Так будет даже колоритней.<br /><br />Течение нам укажет путь.<br />На Свольне некуда свернуть.<br />Немало встретится мостов,<br />Вода прикрыта меж кустов.<br /><br />С собой возьмите паспорта<br />Здесь говорю вам неспроста.<br />До Латвии рукой подать.<br />Примерно километров пять.<br /><br />Это в самом конце пути.<br />Придется по Двине пройти.<br />Против течения навстречу<br />Еще по неизвестной речке.<br /><br />Хай не цiкавая яна<br />Рака Заходняя Двiна.<br />Прямое русло, будто трасса.<br />А тип долины там – терасса.<br />Не стоит критики без толку.<br />Идти по ней совсем недолго.<br /><br />Заканчивать пора анонс,<br />А то тут из стихов понос!<br />Звоните, можно и не раз.<br />На телефонной связи Глаз! <br /><br />\n\n</BODY>\n</HTML>

LOCATION:
END:VEVENT

END:VCALENDAR
