BEGIN:VCALENDAR
VERSION:2.0
PRODID:-//hacksw/handcal//NONSGML v1.0//EN
BEGIN:VEVENT
UID:6eeeec416ae0d5338975e8f63d1033b7
DTSTAMP:20260420T142755Z

DTSTART:20170519T110000
DTEND:20170521T100000
SUMMARY:Пикник на Ислочи
DESCRIPTION:Приглашаю присоединиться к нашему пикнику на Ислочи. Хоть он и посвящен в  основном обсуждению планов похода в Грузию, тем не менее, это нисколько не помешает нашей радости от присутствия других участников Магадана и сочувствующих ему. \nНе буду расписывать и  расхваливать предстоящее мероприятие, но знаю, что они всегда проходят в теплой и душевной обстановке. Присоединяйтесь!\nЗаявки оставляйте через сайт. 

X-ALT-DESC;FMTTYPE=text/html:<!DOCTYPE HTML PUBLIC "-//W3C//DTD HTML 3.2//EN">\n<HTML>\n<HEAD>\n<META NAME="Generator" CONTENT="MS Exchange Server version 08.00.0681.000">\n<TITLE></TITLE>\n</HEAD>\n<BODY>\n<!-- Converted from text/rtf format -->\n\nПриглашаю присоединиться к нашему пикнику на Ислочи. Хоть он и посвящен в  основном обсуждению планов похода в Грузию, тем не менее, это нисколько не помешает нашей радости от присутствия других участников Магадана и сочувствующих ему. <br />Не буду расписывать и  расхваливать предстоящее мероприятие, но знаю, что они всегда проходят в теплой и душевной обстановке. Присоединяйтесь!<br />Заявки оставляйте через сайт. \n\n</BODY>\n</HTML>

LOCATION:
END:VEVENT

END:VCALENDAR
