BEGIN:VCALENDAR
VERSION:2.0
PRODID:-//hacksw/handcal//NONSGML v1.0//EN
BEGIN:VEVENT
UID:486d3bb2f2c6408dce8aeaa74122a7d7
DTSTAMP:20260420T142234Z

DTSTART:20170817T220000
DTEND:20170819T214500
SUMMARY:75А:«Задумчивая Друть 2»
DESCRIPTION:А Пузочес неугомонный \nПо рекам продолжает путь.\nИ сплав организует водный\nПо среднему течению Друть.\n\nВсе думали, что он обуза,\nИ надоест всем другой день*,\nНо оказалось Игорь Пузо,\nЧто музыкант, турист, кремень!\n\n«Отравки Пузочес покушал**»:\nВ сплав настоящий он ходил.\nНе оттянуть теперь за уши.\nОн нас немало удивил.\n\nУмеет с картой он работать,\nИ лоции реки читать.\nИ когда досуг без заботы\nОхотно песни запевать…\n\nМаршрут семейный и удобный:\nКругом сухие берега.\nКилометраж все же огромный:\n86 – не ерунда!\n\nПо Друти ехать интересно,\nНа Чигиринском же волна.\nОкружено оно хоть лесом,\nНо нагребутся все сполна,\nОсобенно, как ветер южный,\n21 км пути\nТогда ему навстречу нужно,\nСражаясь с волнами, пройти.\n\nОбнос будет еще плотины,\nА после ехать по реке,\nА расстояние шишь с полтиной, \nНо дальше просто, налегке.\n\nТечение неплохое в Друти,\nБайдарка не катамаран.\nЧасов за пять можно по сути,\nДойти потом до Озеран.\n\nВ конце маршрута будет Мюцаг,\nОн должен баню истопить.\nАпперитивчик, чай на блюдах\nПоход  придется замочить.\n\nОграничений по набору\nУ Игоря почти что нет.\nПо жизни Пузо очень добрый,\nЕго мы знаем много лет.\n\nТеперь эскадра создается,\nЧтоб Друть продолжить изучать.\nМне ничего не остается,\nУспехов только пожелать!\n\n- * Речь идет о стратегическом походе № 73\n- ** Из повести Алексея Иванова «Географ глобус пропил» рассуждения про «покушал отравки».\n\n\nПузочёс  собирает друзей в байдарочный поход «Друть Средняя» 18-20.08.17. \nВ целях упрощения логистики путь к стапелю  будет по железной дороге. Отправление 18.08 в 19-11 (поезд на Гомель). Пересадка в Осиповичах на Могилёвский поезд. Прибытие на станцию Друть в 22.10. Марш-бросок 2 км за ж/д мост. Там Глаз, Граф Слава и Луша в 2006 г. обнаружили место для стапеля и стоянки. Культурный отдых до утра. 19.08 с утреца – весёлые сборы. Однако, поход предстоит в бодром темпе. Первый день - 45 км гребли. Поиски ставшего легендарным совхоза им. Жданова (пчелопитомник «Лужки» уже нашли ниже по течению в прошлом августе и тех же числах). Лагерь на Чигиринском водохранилище, любование закатом, посильная ловля рыбы на фидеры, культурный отдых. Утром сборы в темпе вальса, форсирование водохранилища, траверс насыпи. 41 км до антистапеля в деревне Озераны. Там кто-нибудь заберёт на бусе до Миннска (может быть, даже сам Басков). Километраж, конечно, Глазовский (86 км, из них 20 – по водохранилищу), но кого это напугает. Приглашаются Стальные, Синие и вообще все желающие. Обращайтесь к Игорю Пузо.\n\nhttp://magadan.by/tours/rafting/zadumchivyj-druz\nhttp://magadan.by/tours/rafting/29-pokhod-drut-dnepr-2006-god\nhttp://magadan.by/tours/by-food/poslednie-dni-leta-19-20-sentyabrya-2015g\nТри ссылки на отчеты походов и разных авторов в той или иной степени связанные с анонсируемыми событиями. Напомню, что в прошлый раз группа действительно нашла призрачный «пчелопитомник Лужки». Повстречавшиеся пожилые крестьяне были ошеломлены: «Да, здесь он и был, но это же было тридцать (!) лет назад…». Еще более эфемерного совхоза имени Жданова там разочарую, что нет. За давностью событий не припомню, где его, я Глаз откопал. На каком-то генштабе есть, но не там. Еще раз пересмотрел карты Друти. Не там это всё-таки. Зато есть деревни с прикольными названиями – Вязьма и Ядрёная Слобода. Есть еще интрига. Жизнь идет и события происходят. Пузочес и Паша Ченянин (примерно в апреле) где-то купили еще тот "летучий голандец" Салют М-4,7. Напомню, что выпускались они до середины 70-ых годов. С нетерпением ожидаем презентации этого реликта.\nАнонс пытались связать тематически с путешествием аргонавтов. Получился Летучий Голландец и левиафаны.\n\n\n \n\n

X-ALT-DESC;FMTTYPE=text/html:<!DOCTYPE HTML PUBLIC "-//W3C//DTD HTML 3.2//EN">\n<HTML>\n<HEAD>\n<META NAME="Generator" CONTENT="MS Exchange Server version 08.00.0681.000">\n<TITLE></TITLE>\n</HEAD>\n<BODY>\n<!-- Converted from text/rtf format -->\n\nА Пузочес неугомонный <br />По рекам продолжает путь.<br />И сплав организует водный<br />По среднему течению Друть.<br /><br />Все думали, что он обуза,<br />И надоест всем другой день*,<br />Но оказалось Игорь Пузо,<br />Что музыкант, турист, кремень!<br /><br />«Отравки Пузочес покушал**»:<br />В сплав настоящий он ходил.<br />Не оттянуть теперь за уши.<br />Он нас немало удивил.<br /><br />Умеет с картой он работать,<br />И лоции реки читать.<br />И когда досуг без заботы<br />Охотно песни запевать…<br /><br />Маршрут семейный и удобный:<br />Кругом сухие берега.<br />Километраж все же огромный:<br />86 – не ерунда!<br /><br />По Друти ехать интересно,<br />На Чигиринском же волна.<br />Окружено оно хоть лесом,<br />Но нагребутся все сполна,<br />Особенно, как ветер южный,<br />21 км пути<br />Тогда ему навстречу нужно,<br />Сражаясь с волнами, пройти.<br /><br />Обнос будет еще плотины,<br />А после ехать по реке,<br />А расстояние шишь с полтиной, <br />Но дальше просто, налегке.<br /><br />Течение неплохое в Друти,<br />Байдарка не катамаран.<br />Часов за пять можно по сути,<br />Дойти потом до Озеран.<br /><br />В конце маршрута будет Мюцаг,<br />Он должен баню истопить.<br />Апперитивчик, чай на блюдах<br />Поход  придется замочить.<br /><br />Ограничений по набору<br />У Игоря почти что нет.<br />По жизни Пузо очень добрый,<br />Его мы знаем много лет.<br /><br />Теперь эскадра создается,<br />Чтоб Друть продолжить изучать.<br />Мне ничего не остается,<br />Успехов только пожелать!<br /><br />- * Речь идет о стратегическом походе № 73<br />- ** Из повести Алексея Иванова «Географ глобус пропил» рассуждения про «покушал отравки».<br /><br /><br />Пузочёс  собирает друзей в байдарочный поход «Друть Средняя» 18-20.08.17. <br />В целях упрощения логистики путь к стапелю  будет по железной дороге. Отправление 18.08 в 19-11 (поезд на Гомель). Пересадка в Осиповичах на Могилёвский поезд. Прибытие на станцию Друть в 22.10. Марш-бросок 2 км за ж/д мост. Там Глаз, Граф Слава и Луша в 2006 г. обнаружили место для стапеля и стоянки. Культурный отдых до утра. 19.08 с утреца – весёлые сборы. Однако, поход предстоит в бодром темпе. Первый день - 45 км гребли. Поиски ставшего легендарным совхоза им. Жданова (пчелопитомник «Лужки» уже нашли ниже по течению в прошлом августе и тех же числах). Лагерь на Чигиринском водохранилище, любование закатом, посильная ловля рыбы на фидеры, культурный отдых. Утром сборы в темпе вальса, форсирование водохранилища, траверс насыпи. 41 км до антистапеля в деревне Озераны. Там кто-нибудь заберёт на бусе до Миннска (может быть, даже сам Басков). Километраж, конечно, Глазовский (86 км, из них 20 – по водохранилищу), но кого это напугает. Приглашаются Стальные, Синие и вообще все желающие. Обращайтесь к Игорю Пузо.<br /><br />http://magadan.by/tours/rafting/zadumchivyj-druz<br />http://magadan.by/tours/rafting/29-pokhod-drut-dnepr-2006-god<br />http://magadan.by/tours/by-food/poslednie-dni-leta-19-20-sentyabrya-2015g<br />Три ссылки на отчеты походов и разных авторов в той или иной степени связанные с анонсируемыми событиями. Напомню, что в прошлый раз группа действительно нашла призрачный «пчелопитомник Лужки». Повстречавшиеся пожилые крестьяне были ошеломлены: «Да, здесь он и был, но это же было тридцать (!) лет назад…». Еще более эфемерного совхоза имени Жданова там разочарую, что нет. За давностью событий не припомню, где его, я Глаз откопал. На каком-то генштабе есть, но не там. Еще раз пересмотрел карты Друти. Не там это всё-таки. Зато есть деревни с прикольными названиями – Вязьма и Ядрёная Слобода. Есть еще интрига. Жизнь идет и события происходят. Пузочес и Паша Ченянин (примерно в апреле) где-то купили еще тот "летучий голандец" Салют М-4,7. Напомню, что выпускались они до середины 70-ых годов. С нетерпением ожидаем презентации этого реликта.<br />Анонс пытались связать тематически с путешествием аргонавтов. Получился Летучий Голландец и левиафаны.<br /><br /><br /> <br /><br />\n\n</BODY>\n</HTML>

LOCATION:
END:VEVENT

END:VCALENDAR
