BEGIN:VCALENDAR
VERSION:2.0
PRODID:-//hacksw/handcal//NONSGML v1.0//EN
BEGIN:VEVENT
UID:a796fca040091e0e260b1683ac997a61
DTSTAMP:20260420T210621Z

DTSTART:20170617T100000
DTEND:20170618T091500
SUMMARY:Велопоход имени Жанны Агузаровой
DESCRIPTION:Друзья! \nСмирнов и Волосач приглашают Вас присоединиться к велопоходу по прекрасным лесным массивам произрастающим в бассейне реки Березина.\nВ процессе похода как всегда будем пересекать несколько речек. В том числе и Березину.\nКак всегда обещаем душевную компанию, интересную природу, веселые водные забавы, увлекательный болотинг, хорошую кухню. \nМаршрут, длинной 85-90 км стартует в ст. Крупки и заканчивается в г. Жодино. \nВыезд в субботу утром (около 7 утра). Приезд вечером в воскресенье.\n\nПриглашаем также любителей спокойного отдыха приехать к нам на место стоянки (а также поучаствовать в организации переправы через Березину)\n

X-ALT-DESC;FMTTYPE=text/html:<!DOCTYPE HTML PUBLIC "-//W3C//DTD HTML 3.2//EN">\n<HTML>\n<HEAD>\n<META NAME="Generator" CONTENT="MS Exchange Server version 08.00.0681.000">\n<TITLE></TITLE>\n</HEAD>\n<BODY>\n<!-- Converted from text/rtf format -->\n\nДрузья! <br />Смирнов и Волосач приглашают Вас присоединиться к велопоходу по прекрасным лесным массивам произрастающим в бассейне реки Березина.<br />В процессе похода как всегда будем пересекать несколько речек. В том числе и Березину.<br />Как всегда обещаем душевную компанию, интересную природу, веселые водные забавы, увлекательный болотинг, хорошую кухню. <br />Маршрут, длинной 85-90 км стартует в ст. Крупки и заканчивается в г. Жодино. <br />Выезд в субботу утром (около 7 утра). Приезд вечером в воскресенье.<br /><br />Приглашаем также любителей спокойного отдыха приехать к нам на место стоянки (а также поучаствовать в организации переправы через Березину)<br />\n\n</BODY>\n</HTML>

LOCATION:Белино, Беларусь
END:VEVENT

END:VCALENDAR
