BEGIN:VCALENDAR
VERSION:2.0
PRODID:-//hacksw/handcal//NONSGML v1.0//EN
BEGIN:VEVENT
UID:0f95b7ff64349f494a970d709c0a11fb
DTSTAMP:20260421T084526Z

DTSTART:20170710T130000
DTEND:20170711T113000
SUMMARY:Собираем помощь для родственников и близких погибших
DESCRIPTION:9 июля 2014 года при восхождении на вулкан Камень с северной стороны трагически погибли Сергей Франковский (Могилев) и Андрей Круподеров (Брест). \nСергея Франковского мы знали 4 года. Он был участник наших выездов, мероприятий и совместных походов. Даже не только участник, а бывало движущая сила и вдохновитель.\nНет его уже три года.\nАктив Magadan.by собирает материальную помощь семьям погибших до 10 июля. Сдавать Глазкову Алексею 37529 3274016 (Боровляны, Запад, Каменная Горка)\nДемидовичу Игорю 37529 7911528 (Кижеватова, Юго-Запад)\nПолянской Кате 37529 1350315 (Филимонова, Зеленый Луг)\n10 июля на могилу в Горки и в Могилев где Сергей жил поедут от нас представители. Желающим присоединиться  обращаться к Марату Кинзибулатову 37544 7509697

X-ALT-DESC;FMTTYPE=text/html:<!DOCTYPE HTML PUBLIC "-//W3C//DTD HTML 3.2//EN">\n<HTML>\n<HEAD>\n<META NAME="Generator" CONTENT="MS Exchange Server version 08.00.0681.000">\n<TITLE></TITLE>\n</HEAD>\n<BODY>\n<!-- Converted from text/rtf format -->\n\n9 июля 2014 года при восхождении на вулкан Камень с северной стороны трагически погибли Сергей Франковский (Могилев) и Андрей Круподеров (Брест). <br />Сергея Франковского мы знали 4 года. Он был участник наших выездов, мероприятий и совместных походов. Даже не только участник, а бывало движущая сила и вдохновитель.<br />Нет его уже три года.<br />Актив Magadan.by собирает материальную помощь семьям погибших до 10 июля. Сдавать Глазкову Алексею 37529 3274016 (Боровляны, Запад, Каменная Горка)<br />Демидовичу Игорю 37529 7911528 (Кижеватова, Юго-Запад)<br />Полянской Кате 37529 1350315 (Филимонова, Зеленый Луг)<br />10 июля на могилу в Горки и в Могилев где Сергей жил поедут от нас представители. Желающим присоединиться  обращаться к Марату Кинзибулатову 37544 7509697\n\n</BODY>\n</HTML>

LOCATION:
END:VEVENT

END:VCALENDAR
