BEGIN:VCALENDAR
VERSION:2.0
PRODID:-//hacksw/handcal//NONSGML v1.0//EN
BEGIN:VEVENT
UID:4e813d76a801371ddd7b58f8d6c04f9c
DTSTAMP:20260421T010508Z

DTSTART:20170715T070000
DTEND:20170716T160000
SUMMARY:Детский велопоход-2017
DESCRIPTION:Здравствуйте, любители активного отдыха!\nВ этот раз я приглашаю желающих принять участие в велопоходе выходного дня, в который можно и нужно записываться с детьми.\nМаршрут пока находится в стадии проработки. Километраж - около 60 - 70 км за два дня, движение буду стараться спланировать максимально вне дорог общего пользования. Старт планирую делать в Минске, предполагаемое направление - Вязынка - Радошковичи с ночевкой на Вилейско-Минском канале.\nЭтот поход - отличная возможность весело и интересно провести время не только родителям с детьми, но и тем, кто давно хотел попробовать свои силы в подобных мероприятиях, но опасался не справиться, поскольку предлагается формат передвижения "суперматрас".\nДля слабосильных, маленьких и прочих немощных при желании будет возможность соскочить или сократить трек, так как маршрут проходит вблизи железной дороги (обсуждается индивидуально).\nВ крайнем случае приветствуется и матрасное участие (в этом случае на участника могут быть возложены дополнительные обязанности).\nСтоимость участия будет зависеть от количества и качества участников и будет пропорциональна стоимости ужина и завтрака.\nПриглашение действительно для лиц от 0 до 100 лет (в сопровождении взрослых). Для участвующих в велопоходе - имеющих велосипеды и способных на них перемещаться на заявленное расстояние. Для участвующих в пикнике - не склонных увлекаться, злоупотреблять и могущих быть допущенными к пребыванию в детских коллективах. Для всех - не отягощенных родственными связями в Удмуртской Республике.\nУточнить интересующие вопросы и записаться можно у меня, Константина Минкевича, по телефонам (029) 1140865 или (029) 5043067.\nСроки записи - до 12.07.2017.

X-ALT-DESC;FMTTYPE=text/html:<!DOCTYPE HTML PUBLIC "-//W3C//DTD HTML 3.2//EN">\n<HTML>\n<HEAD>\n<META NAME="Generator" CONTENT="MS Exchange Server version 08.00.0681.000">\n<TITLE></TITLE>\n</HEAD>\n<BODY>\n<!-- Converted from text/rtf format -->\n\nЗдравствуйте, любители активного отдыха!<br />В этот раз я приглашаю желающих принять участие в велопоходе выходного дня, в который можно и нужно записываться с детьми.<br />Маршрут пока находится в стадии проработки. Километраж - около 60 - 70 км за два дня, движение буду стараться спланировать максимально вне дорог общего пользования. Старт планирую делать в Минске, предполагаемое направление - Вязынка - Радошковичи с ночевкой на Вилейско-Минском канале.<br />Этот поход - отличная возможность весело и интересно провести время не только родителям с детьми, но и тем, кто давно хотел попробовать свои силы в подобных мероприятиях, но опасался не справиться, поскольку предлагается формат передвижения "суперматрас".<br />Для слабосильных, маленьких и прочих немощных при желании будет возможность соскочить или сократить трек, так как маршрут проходит вблизи железной дороги (обсуждается индивидуально).<br />В крайнем случае приветствуется и матрасное участие (в этом случае на участника могут быть возложены дополнительные обязанности).<br />Стоимость участия будет зависеть от количества и качества участников и будет пропорциональна стоимости ужина и завтрака.<br />Приглашение действительно для лиц от 0 до 100 лет (в сопровождении взрослых). Для участвующих в велопоходе - имеющих велосипеды и способных на них перемещаться на заявленное расстояние. Для участвующих в пикнике - не склонных увлекаться, злоупотреблять и могущих быть допущенными к пребыванию в детских коллективах. Для всех - не отягощенных родственными связями в Удмуртской Республике.<br />Уточнить интересующие вопросы и записаться можно у меня, Константина Минкевича, по телефонам (029) 1140865 или (029) 5043067.<br />Сроки записи - до 12.07.2017.\n\n</BODY>\n</HTML>

LOCATION:Вязынка, Беларусь
END:VEVENT

END:VCALENDAR
