BEGIN:VCALENDAR
VERSION:2.0
PRODID:-//hacksw/handcal//NONSGML v1.0//EN
BEGIN:VEVENT
UID:179856d774f1845cb0cb4814a4c9b9db
DTSTAMP:20260420T142119Z

DTSTART:20171021T190000
DTEND:20171022T184500
SUMMARY:76А 
DESCRIPTION:Давно мы собирались, чтобы вдруг\nУчастников побольше накопить.\nОдновременно инициативных групп. \nСпособно было несколько ходить.\n\nЯ буду долго гнать велосипед\nПо осени любимой золотой, \nБагряных листьев соберу букет,\nЖелает кто – поехали со мной.\n\nПо Баславщине верст проехал 150,\nХолодным выдался июнь в этом году.\nПонравилась дорога абсолютно вся,\nЕё в любое время повторить могу.\n\nМеня туда случайно занесло.\nХотел продолжить Понемонье изучать.\nНет времени по жизни, как на зло.\nЗато уж не приходится скучать.\n\nТам в Видзах есть двухбашенный костел.\nИ высоко поднялась на холме,\nПлощадка смотровая средь озер,\nПонравился обзор оттуда мне.\n\nНо главное, что нет нигде песка.\nПо грунту твердому велосипед бежит.\nНе напрягаясь, катишься слегка.\nИ среди смешанного леса трек лежит.\n\nДороги очень часто там ветвятся,\nМаршрут заранее нужно изучить.\nОтставшему нетрудно потеряться,\nИ не в ту сторону от трека укатить.\n\nА если дождь или другая жесть,\nГроза или метель случится вдруг.\nУбежища там по маршруту есть.\nБеседок в лагерях полно вокруг.\n\nА если все же и зарядит дождь,\nОсенний с ветром стылым ледяной.\nПоедем в ПВД мы все ж\nПодобный уикэнд не повторить такой!\n\nДля тех озер октябрь – наши дни.\nТам отдыхающих уже почти что нет.\nПустуют берега и мы одни.\nС велосипедами прокатимся без бед.\n\nПогода разная бывает в октябре.\nНо в конце месяц случается всегда, -\nТрадиция по этой вот поре.\nНе пропадет, наверное, никогда.\n\nОктябрь – не агония природы,\nУ осени всегда свои причуды. \nКакая б не стояла на дворе погода,\nВо время это лучшие этюды.\n\nЧто по набору я могу сказать,\nРассчитывайте в день по 65,\nОтставших не пришлось чтобы искать,\nНикто не соскочил чтобы опять.\n\nВелосипеды есть у нас почти у всех,\nВедь это всякого туриста первый друг.\nИз нас любой проедет сотню без помех.\nЗа день и больше, если надо вдруг.\n\nЧто по финансам я могу сказать,\nПридется выложить порядка ста рублей.\nСебе я не намерен деньги брать,\nНо, может, многовато для двух дней.\n\nВ логисты Баскова тогда мы позовем,\nВедь отработана методика у нас.\nУверенность с дорогой видим в нем.\nУж добирались мы туда-сюда не раз.\n\nТам зона пограничная вокруг,\nК Прибалтике мы тяготимся этот год.\nПроверить документы могут вдруг. \nВозьмите паспорта с собой, народ!\n\nПоддержки в этом ПВД не будет группы,\nТак как машинам пропуск нужен специальный.\nРассчитывать на помощь, значит, глупо –\n«Браславские Озера» - Парк Национальный.\n\nЧто по программе я могу сказать,\nВедь пьесы мы не ставили давно.\nСценарий будет нужно написать,\nЧтобы премьера была супер, не говно.\n\nПусть говорят, Глаз любит в детство впасть.\nВыдумывает всякую хуйню.\nИ будет хореографическая часть,\nИ также кулинарное меню. \n\nУчаствовать, желающие лица,\nКогда удобно, набирайте.\nБуду вносить в специальную таблицу,\nНо только не соскакивать давайте.\n\nНадеюсь, информацию донес.\nПоход 76А на этот будет раз.\nОдин из менеджеров Игорь Пузочес.\nРуководителем планируется Глаз.\n\nЯ буду долго гнать велосипед\nПо осени любимой золотой, \nБагряных листьев соберу букет,\nЖелает кто – поехали со мной.\nВремя проведения описываемых событий запланировано на 21-22 октября. Лет семь подряд мы проводим вело ПВД в эти же самые числа. Традиции продолжаются. \nЛогистические приемы отработаны. Забрасывает группу и выбрасывает бусик с вместительным прицепом для велосипедов. Ночевка одна. Планируется очередной мюзикл. Главным произведением его будет пьеса «Корзина С Еловыми Шишками», но кроме того и многое другое. Сценарий  (пока еще только пишется) будет сильно отличаться от одноименного рассказа Константина Паустовского, но общность сюжетной линии будет просматриваться. В пьесе Садко есть Глаз и его играет за Глаза актер. Здесь девочка кроме композитора Эдварда Грига в осеннем лесу также встретит еще ВДВ. На роль пока подходящий актер только подыскивается. Кулинарная программа находится в разработке. Активные участники, завязанные на какой-либо общественной работе, приветствуются. \n\n\n\n\n

X-ALT-DESC;FMTTYPE=text/html:<!DOCTYPE HTML PUBLIC "-//W3C//DTD HTML 3.2//EN">\n<HTML>\n<HEAD>\n<META NAME="Generator" CONTENT="MS Exchange Server version 08.00.0681.000">\n<TITLE></TITLE>\n</HEAD>\n<BODY>\n<!-- Converted from text/rtf format -->\n\nДавно мы собирались, чтобы вдруг<br />Участников побольше накопить.<br />Одновременно инициативных групп. <br />Способно было несколько ходить.<br /><br />Я буду долго гнать велосипед<br />По осени любимой золотой, <br />Багряных листьев соберу букет,<br />Желает кто – поехали со мной.<br /><br />По Баславщине верст проехал 150,<br />Холодным выдался июнь в этом году.<br />Понравилась дорога абсолютно вся,<br />Её в любое время повторить могу.<br /><br />Меня туда случайно занесло.<br />Хотел продолжить Понемонье изучать.<br />Нет времени по жизни, как на зло.<br />Зато уж не приходится скучать.<br /><br />Там в Видзах есть двухбашенный костел.<br />И высоко поднялась на холме,<br />Площадка смотровая средь озер,<br />Понравился обзор оттуда мне.<br /><br />Но главное, что нет нигде песка.<br />По грунту твердому велосипед бежит.<br />Не напрягаясь, катишься слегка.<br />И среди смешанного леса трек лежит.<br /><br />Дороги очень часто там ветвятся,<br />Маршрут заранее нужно изучить.<br />Отставшему нетрудно потеряться,<br />И не в ту сторону от трека укатить.<br /><br />А если дождь или другая жесть,<br />Гроза или метель случится вдруг.<br />Убежища там по маршруту есть.<br />Беседок в лагерях полно вокруг.<br /><br />А если все же и зарядит дождь,<br />Осенний с ветром стылым ледяной.<br />Поедем в ПВД мы все ж<br />Подобный уикэнд не повторить такой!<br /><br />Для тех озер октябрь – наши дни.<br />Там отдыхающих уже почти что нет.<br />Пустуют берега и мы одни.<br />С велосипедами прокатимся без бед.<br /><br />Погода разная бывает в октябре.<br />Но в конце месяц случается всегда, -<br />Традиция по этой вот поре.<br />Не пропадет, наверное, никогда.<br /><br />Октябрь – не агония природы,<br />У осени всегда свои причуды. <br />Какая б не стояла на дворе погода,<br />Во время это лучшие этюды.<br /><br />Что по набору я могу сказать,<br />Рассчитывайте в день по 65,<br />Отставших не пришлось чтобы искать,<br />Никто не соскочил чтобы опять.<br /><br />Велосипеды есть у нас почти у всех,<br />Ведь это всякого туриста первый друг.<br />Из нас любой проедет сотню без помех.<br />За день и больше, если надо вдруг.<br /><br />Что по финансам я могу сказать,<br />Придется выложить порядка ста рублей.<br />Себе я не намерен деньги брать,<br />Но, может, многовато для двух дней.<br /><br />В логисты Баскова тогда мы позовем,<br />Ведь отработана методика у нас.<br />Уверенность с дорогой видим в нем.<br />Уж добирались мы туда-сюда не раз.<br /><br />Там зона пограничная вокруг,<br />К Прибалтике мы тяготимся этот год.<br />Проверить документы могут вдруг. <br />Возьмите паспорта с собой, народ!<br /><br />Поддержки в этом ПВД не будет группы,<br />Так как машинам пропуск нужен специальный.<br />Рассчитывать на помощь, значит, глупо –<br />«Браславские Озера» - Парк Национальный.<br /><br />Что по программе я могу сказать,<br />Ведь пьесы мы не ставили давно.<br />Сценарий будет нужно написать,<br />Чтобы премьера была супер, не говно.<br /><br />Пусть говорят, Глаз любит в детство впасть.<br />Выдумывает всякую хуйню.<br />И будет хореографическая часть,<br />И также кулинарное меню. <br /><br />Участвовать, желающие лица,<br />Когда удобно, набирайте.<br />Буду вносить в специальную таблицу,<br />Но только не соскакивать давайте.<br /><br />Надеюсь, информацию донес.<br />Поход 76А на этот будет раз.<br />Один из менеджеров Игорь Пузочес.<br />Руководителем планируется Глаз.<br /><br />Я буду долго гнать велосипед<br />По осени любимой золотой, <br />Багряных листьев соберу букет,<br />Желает кто – поехали со мной.<br />Время проведения описываемых событий запланировано на 21-22 октября. Лет семь подряд мы проводим вело ПВД в эти же самые числа. Традиции продолжаются. <br />Логистические приемы отработаны. Забрасывает группу и выбрасывает бусик с вместительным прицепом для велосипедов. Ночевка одна. Планируется очередной мюзикл. Главным произведением его будет пьеса «Корзина С Еловыми Шишками», но кроме того и многое другое. Сценарий  (пока еще только пишется) будет сильно отличаться от одноименного рассказа Константина Паустовского, но общность сюжетной линии будет просматриваться. В пьесе Садко есть Глаз и его играет за Глаза актер. Здесь девочка кроме композитора Эдварда Грига в осеннем лесу также встретит еще ВДВ. На роль пока подходящий актер только подыскивается. Кулинарная программа находится в разработке. Активные участники, завязанные на какой-либо общественной работе, приветствуются. <br /><br /><br /><br /><br />\n\n</BODY>\n</HTML>

LOCATION:
END:VEVENT

END:VCALENDAR
