BEGIN:VCALENDAR
VERSION:2.0
PRODID:-//hacksw/handcal//NONSGML v1.0//EN
BEGIN:VEVENT
UID:5df4a467bbd31e21736b10e2a949337b
DTSTAMP:20260420T185405Z

DTSTART:20170916T010000
DTEND:20170917T204500
SUMMARY:Велосипедом по разгильдяйству
DESCRIPTION:Приглашаю завершить велосезон-2017 походом выходного дня.\nУчастников ждет увлекательное путешествие из Старых Дорог в Слуцк. По пути - посещение технических объектов (меловые карьеры, солевые отвалы). Так как официальный доступ к ним ограничен, возможна импровизация.\nТрек - 100 или более магадановских километров за 2 дня, как по асфальту, так и по грунту, состояние и проходимость трека организатору неизвестны, что также не исключает импровизации.\nЛогистика железнодорожная, с пересадками. Возвращение в Минск - около полуночи. При наличии большого количества желающих возможно рассмотрение варианта с трансфером, но это может существенно повысить стоимость.\nКультурно-развлекательная программа стандартна: гастрономические радости, выступления лекторов, купание в водоемах и проч.\nК участию привлекаются лица\n- способные преодолеть заданное расстояние (соскок с трека будет затруднителен)\n- не склонные к излишествам всяким нехорошим\n- приятные в общении\n- без отягощенного удмуртскими родственниками анамнеза.\n\nЗапись - лично, по телефонам (029) 1140865, 5043067, Константин Минкевич. Не позвонившие записавшимися не считаются.\n\nФинансы. Проезд (ж/д) - около 10 - 15 рублей, еда - в зависимости от состава, предварительно 10 - 15 рублей.

X-ALT-DESC;FMTTYPE=text/html:<!DOCTYPE HTML PUBLIC "-//W3C//DTD HTML 3.2//EN">\n<HTML>\n<HEAD>\n<META NAME="Generator" CONTENT="MS Exchange Server version 08.00.0681.000">\n<TITLE></TITLE>\n</HEAD>\n<BODY>\n<!-- Converted from text/rtf format -->\n\nПриглашаю завершить велосезон-2017 походом выходного дня.<br />Участников ждет увлекательное путешествие из Старых Дорог в Слуцк. По пути - посещение технических объектов (меловые карьеры, солевые отвалы). Так как официальный доступ к ним ограничен, возможна импровизация.<br />Трек - 100 или более магадановских километров за 2 дня, как по асфальту, так и по грунту, состояние и проходимость трека организатору неизвестны, что также не исключает импровизации.<br />Логистика железнодорожная, с пересадками. Возвращение в Минск - около полуночи. При наличии большого количества желающих возможно рассмотрение варианта с трансфером, но это может существенно повысить стоимость.<br />Культурно-развлекательная программа стандартна: гастрономические радости, выступления лекторов, купание в водоемах и проч.<br />К участию привлекаются лица<br />- способные преодолеть заданное расстояние (соскок с трека будет затруднителен)<br />- не склонные к излишествам всяким нехорошим<br />- приятные в общении<br />- без отягощенного удмуртскими родственниками анамнеза.<br /><br />Запись - лично, по телефонам (029) 1140865, 5043067, Константин Минкевич. Не позвонившие записавшимися не считаются.<br /><br />Финансы. Проезд (ж/д) - около 10 - 15 рублей, еда - в зависимости от состава, предварительно 10 - 15 рублей.\n\n</BODY>\n</HTML>

LOCATION:Слуцк, Беларусь
END:VEVENT

END:VCALENDAR
