BEGIN:VCALENDAR
VERSION:2.0
PRODID:-//hacksw/handcal//NONSGML v1.0//EN
BEGIN:VEVENT
UID:119b6e6c1759caee063243d60e86fd74
DTSTAMP:20260420T142304Z

DTSTART:20170922T190000
DTEND:20170925T183000
SUMMARY:75:22-25.09.2017
DESCRIPTION:Сентябрь будет месяц наш,\nЧтобы у Птичи взять реванш. \nПрирода сделала подставу, \nНам с неуместным ледоставом.\n\nПо Птичи мы ходили много,\nДо этого аж три похода.\nУчасток Нижней должен быть.\nЕё чтоб, наконец, добить.\n\nНа Свольну мы сходили точно,\nТеперь на ней я ставлю точку.\nЕще один остался квест,\nНа Птичи, бля, поставить крест.\n\nВ два раза шире она Случи,\nНо, а пейзажи там не лучше,\nИ ниже устья же Орессы\nСчитается уже Полесье.\n\nО ней мы в прошлый раз писали,\nНо на неё мы не попали.\nПошли в Дулебское Болото.\nНе утопили чуть кого-то.\n\nПочти в любую пору года\nГлаз очень обожает воду.\nЗаведует Отделом Кадров,\nИ любит собирать эскадру.\n\nИ не годится абы с кем то: \nИдти придется в быстром темпе.\nУдастся нам в три дня едва\nПроделать аж сто тридцать два!\n\nНо трек выходит очень длинный,\nСостав собрать придется сильный.\nНа Эссе-Улле обосрались,\nИ половина потерялись!\n\nДо Припяти добраться главное,\nА дело дальше пойдет ладно.\nНа прямоту без оговорок.\nПо ней проехать нужно сорок!\n\nИ ничего не остается,\nДо Мозыря идти придется.\nТакое принято решение -\nЛогическое завершение.\n\nНе надо много там уменья,\nСильное в Припяти течение.\nИ очень быстро вместе с ним\nТогда до Мозыря домчим.\n\nНапомню вам, ребята, сразу, \nЧто день рождения у Глаза.\nУж средний возраст, в эту осень.\nЕму наступит тридцать восемь.\n\nИ раз такая близко дата,\nПроставлю что-нибудь пиздато.\nС две тысячи шестого года\nГлаз в сентябре всегда в походах.\n\nПремьера завалялась где-то.\n"Садко" – такая оперетта.\nТак ситуация сложилась,\nЧто в прошлый раз не получилось.\n\nПьеса «Садко» в долгу не только,\nЕще ведь есть сценарий «Тополь».\nСо времен Свольны лежит где-то,\nЖдущая свой час ракета. \n\nГруппа поддержки здесь уместна,\nКому то, если интересно.\nПриехать в лагерь, кто хотят,\nНо это двести пятьдесят.\n\nУчастников быть может двадцать,\nПоедем – некуда деваться.\nПоход за три дня проведем,\nМаршрут, наверное, добьем.\n\nВ походе будет, несомненно\nИз нас любому охуенно.\nИз артиллерии возьмет,\nГлазков со Славой миномет.\n\n22-25 сентября будет байдарочный спав по реке Птичь Приустьевая. Выезд в пятницу 22 сентября в 0.00 с перекрестка улиц Одинцова и Лобанка возле рыбного магазина «Виталюр». Возвращение в 22 часа в понедельник 25 сентября. \nМюзикл от кружка ХУЕК (Художественно Увеселительный Единый Кружок)  «Птичь. Завершение 2017г»\nБудет проводиться на лагерной стоянке 23 сентября\nКонферансье Глаз\n1.	Верш пра лета, якое скончылася \n2.     Оперетта «Садко» - премьера – режиссер Пузочес Игорь (сценарий см. приложение)\n3.	«21 июля 1959 года катастрофа самолета Ил-12 в Минске» – общеобозревательная лекция – Слава-Электрик\n4.	Песня «Хабибуллин-Андрюша Хайруллин» - Пузочес Игорь\n5.	«Мозырский район. Особенности ландшафта, экономика и историко-культурное значение» – общеобозревательная лекция.\n6.	«Весной мы купили новый кат…» - музыкальная композиция. Исполнитель  Пузочес Игорь\n7.	«23 июля 2017года ввод в эксплуатацию авиалайнера Ан-10» - лекция.\n8. «Песня про Лабиринт» - исполнитель Игорь Пузо\n9.	Пьеса «Тополиный пух» - премьера - режиссер Пузочес Игорь (сценарий см. приложение)\nПрограмма предварительная и будет в процессе подготовки расширена и скорректирована.\nРасходы на все порядка 100-120 рублей. Байдарки свои или в прокат (300 рублей). Если своя байдарка то общие расходы и того меньше – 70-90 рублей.\nЗапись участников ведет Глаз.\nРекомендуемые материалы для ознакомления\nhttp://magadan.by/tours/rafting/67a-o-ptichi-nizhnej-i-o-lyubvi-v-oba-glaza\nhttp://magadan.by/tours/rafting/67a-23-24-iyulya-2016-nizhnyaya-ptich\nhttp://magadan.by/tours/rafting/pokhod-63-ptich-srednyaya-stviga-2-ili-zdes-i-sejchas-17-20-7-2015\nhttp://magadan.by/tours/rafting/60-ptich-28-30-marta-2015-ptich-verkhnyaya\nhttp://magadan.by/tours/rafting/60-ptich-priklyucheniya-krasnogo-fartsovshchika-28-30-marta-2015\n\nАнонс 69 похода\n\nСчитается декабрь мертвым – \nДля путешествий не сезон.\nНо всё же перед годом новым\nКуда-нибудь сходить резон.\n\nРека Птичь длинная настолько\nЕё проходим по частям –\nПять сотен верст она поскольку,\nСкажу я, не слукавив вам.\n\nПо ней три раза уж ходили \nИ всё равно осталось плыть\nСто километров без трех милей. \nИ нужно будет их добить.\n\nВедь все же надо ставить точку.\nИ завершить сплав наконец.\nПопробуем осилить точно.\nРеке бы не пришел п...ец.\n\nА именно – коль лед вдруг ляжет,\nТогда есть запасной маршрут.\nНикто погоду не предскажет.\nСиноптики все часто врут.\n\nЕсть пеший вариант резервный,\nНо это только в ледостав.\nНо мне так кажется, наверное,\nПо Птичи все же будет сплав.\n\nДекабрь многих устрашает:\nХолодный воздух и вода.\nУчаствовать я приглашаю,\nКому погода ерунда.\n\n\nПоход будет 69-ый.\nХалявы от него не жди.\nБудет на трудности богатый.\nИ тот кто дохлый не иди.\n\nМне говорили воды много,\nВ начале ноября сейчас.\nИ на Полесье слава Богу.\nА это на руку для нас.\n\nФорштевень лодки режет воду.\nКрасиво зимнее Полесье.\nНедалеко от старта с ходу\nСлева минет устье Оресы.\n\nПтичь дальше будет полноводней.\nЕще теченье возрастает.\nПопутный ветер и погода.\nТемпы движенья добавляют.\n\nИ невозможное возможно,\nДорога долгая легка.\nКогда от стылости мороженой,\nПриходишь в тонус от гребка.\n\nНе интригуют говносплавы.\nКак летом ходит большинство.\nИ впечатлений просто валом.\nСходить зимою – каково?\n\nИ кто со мной в этом апреле,\nНа Сакмару-Инзер идет.\nСказать мне должен за неделю\nРешение от вас Глаз ждет.\n\nВыезд вечером 2 декабря. Для удешевления поездки целесообразно сделать подскок на поезде до Жлобина, а на бусе добираться оттуда. Поезд отходит в 23.54. Заброска 120 километров то самое место, где был завершен сплав 67Б возле поселка Рабкор. Антистапель за железнодорожным мостом в Мозыре. Маршрут Птичь-Припять. По Птичи идем 93 километра, и 37 по Припяти. 130 километров даже для трехдневного похода это хардкор. Выброска в Жлобин из Мозыря тоже 120 километров.\nВозвращение во вторник в 5.38 6 декабря. С вокзала прямо на работу!\nБюджет поездки 30р прокат байдарки +35р логистические расходы + расходы на продукты\nБудет специальный транспорт с группой поддержки. В мероприятии могут принять участие кемпингисты.\nДеятельность кружка ХУЕК\n1. Пьеса – оперетта «1декабря 1962года Хрущев на выставке авангардистов» - режиссер и автор сценария Пузо Игорь\n2. Конь-Камень в Тульской области. Магический мегалит, после посещения которого у мужчин усиливается мужская, а у женщин детородная функция. (Последний планируется посетить по дороге в Башкирию в апреле месяце) - лектор Глаз\n3. Белоруский танец Жабка (упраздненный вариант) - Озеринский Александр, Малышкина Анна\n4. 5 декабря 1945г. Звено 19. Исчезнувшие на учебном задании торпедоносцы "Эвенджер". Официальная и альтернативные версии произошедшего. - лектор Слава-Электрик\n5. 5 декабря 1978г. подписание между правительсвами СССР и Афганистана "Договора о дружбе". - Потапов Андрей \nДалее программа будет дополняться по мере поступления идей.\nДо 28 ноября связаться с Глазом и оговорить участие.\nСдать 13 рублей Пузочесу Игорю до 28 ноября на билеты на поезд до Жлобина и обратно. \nС 1 по 07 ноября по официальным данным республиканской службы гидрометцентра уровень воды в Птичи повысился на 14 см (деревня Лучицы). Акватория чистая. Ждем, смотрим, наблюдаем. \nПоложение на 26 ноября согласно официальным данным гидрометцентра РБ возле деревни Лучицы: акватория чистая, уровень воды относительно нулевого поста 273 см. В сравнении с 1 ноября +41см. Суточная динамика +1см\nГлаз в восторге.\nКоличество активных участников 14 (семь байдарок двоек)\nКоличество членов группы обеспечения 3\n\n\n\n\n

X-ALT-DESC;FMTTYPE=text/html:<!DOCTYPE HTML PUBLIC "-//W3C//DTD HTML 3.2//EN">\n<HTML>\n<HEAD>\n<META NAME="Generator" CONTENT="MS Exchange Server version 08.00.0681.000">\n<TITLE></TITLE>\n</HEAD>\n<BODY>\n<!-- Converted from text/rtf format -->\n\nСентябрь будет месяц наш,<br />Чтобы у Птичи взять реванш. <br />Природа сделала подставу, <br />Нам с неуместным ледоставом.<br /><br />По Птичи мы ходили много,<br />До этого аж три похода.<br />Участок Нижней должен быть.<br />Её чтоб, наконец, добить.<br /><br />На Свольну мы сходили точно,<br />Теперь на ней я ставлю точку.<br />Еще один остался квест,<br />На Птичи, бля, поставить крест.<br /><br />В два раза шире она Случи,<br />Но, а пейзажи там не лучше,<br />И ниже устья же Орессы<br />Считается уже Полесье.<br /><br />О ней мы в прошлый раз писали,<br />Но на неё мы не попали.<br />Пошли в Дулебское Болото.<br />Не утопили чуть кого-то.<br /><br />Почти в любую пору года<br />Глаз очень обожает воду.<br />Заведует Отделом Кадров,<br />И любит собирать эскадру.<br /><br />И не годится абы с кем то: <br />Идти придется в быстром темпе.<br />Удастся нам в три дня едва<br />Проделать аж сто тридцать два!<br /><br />Но трек выходит очень длинный,<br />Состав собрать придется сильный.<br />На Эссе-Улле обосрались,<br />И половина потерялись!<br /><br />До Припяти добраться главное,<br />А дело дальше пойдет ладно.<br />На прямоту без оговорок.<br />По ней проехать нужно сорок!<br /><br />И ничего не остается,<br />До Мозыря идти придется.<br />Такое принято решение -<br />Логическое завершение.<br /><br />Не надо много там уменья,<br />Сильное в Припяти течение.<br />И очень быстро вместе с ним<br />Тогда до Мозыря домчим.<br /><br />Напомню вам, ребята, сразу, <br />Что день рождения у Глаза.<br />Уж средний возраст, в эту осень.<br />Ему наступит тридцать восемь.<br /><br />И раз такая близко дата,<br />Проставлю что-нибудь пиздато.<br />С две тысячи шестого года<br />Глаз в сентябре всегда в походах.<br /><br />Премьера завалялась где-то.<br />"Садко" – такая оперетта.<br />Так ситуация сложилась,<br />Что в прошлый раз не получилось.<br /><br />Пьеса «Садко» в долгу не только,<br />Еще ведь есть сценарий «Тополь».<br />Со времен Свольны лежит где-то,<br />Ждущая свой час ракета. <br /><br />Группа поддержки здесь уместна,<br />Кому то, если интересно.<br />Приехать в лагерь, кто хотят,<br />Но это двести пятьдесят.<br /><br />Участников быть может двадцать,<br />Поедем – некуда деваться.<br />Поход за три дня проведем,<br />Маршрут, наверное, добьем.<br /><br />В походе будет, несомненно<br />Из нас любому охуенно.<br />Из артиллерии возьмет,<br />Глазков со Славой миномет.<br /><br />22-25 сентября будет байдарочный спав по реке Птичь Приустьевая. Выезд в пятницу 22 сентября в 0.00 с перекрестка улиц Одинцова и Лобанка возле рыбного магазина «Виталюр». Возвращение в 22 часа в понедельник 25 сентября. <br />Мюзикл от кружка ХУЕК (Художественно Увеселительный Единый Кружок)  «Птичь. Завершение 2017г»<br />Будет проводиться на лагерной стоянке 23 сентября<br />Конферансье Глаз<br />1.	Верш пра лета, якое скончылася <br />2.     Оперетта «Садко» - премьера – режиссер Пузочес Игорь (сценарий см. приложение)<br />3.	«21 июля 1959 года катастрофа самолета Ил-12 в Минске» – общеобозревательная лекция – Слава-Электрик<br />4.	Песня «Хабибуллин-Андрюша Хайруллин» - Пузочес Игорь<br />5.	«Мозырский район. Особенности ландшафта, экономика и историко-культурное значение» – общеобозревательная лекция.<br />6.	«Весной мы купили новый кат…» - музыкальная композиция. Исполнитель  Пузочес Игорь<br />7.	«23 июля 2017года ввод в эксплуатацию авиалайнера Ан-10» - лекция.<br />8. «Песня про Лабиринт» - исполнитель Игорь Пузо<br />9.	Пьеса «Тополиный пух» - премьера - режиссер Пузочес Игорь (сценарий см. приложение)<br />Программа предварительная и будет в процессе подготовки расширена и скорректирована.<br />Расходы на все порядка 100-120 рублей. Байдарки свои или в прокат (300 рублей). Если своя байдарка то общие расходы и того меньше – 70-90 рублей.<br />Запись участников ведет Глаз.<br />Рекомендуемые материалы для ознакомления<br />http://magadan.by/tours/rafting/67a-o-ptichi-nizhnej-i-o-lyubvi-v-oba-glaza<br />http://magadan.by/tours/rafting/67a-23-24-iyulya-2016-nizhnyaya-ptich<br />http://magadan.by/tours/rafting/pokhod-63-ptich-srednyaya-stviga-2-ili-zdes-i-sejchas-17-20-7-2015<br />http://magadan.by/tours/rafting/60-ptich-28-30-marta-2015-ptich-verkhnyaya<br />http://magadan.by/tours/rafting/60-ptich-priklyucheniya-krasnogo-fartsovshchika-28-30-marta-2015<br /><br />Анонс 69 похода<br /><br />Считается декабрь мертвым – <br />Для путешествий не сезон.<br />Но всё же перед годом новым<br />Куда-нибудь сходить резон.<br /><br />Река Птичь длинная настолько<br />Её проходим по частям –<br />Пять сотен верст она поскольку,<br />Скажу я, не слукавив вам.<br /><br />По ней три раза уж ходили <br />И всё равно осталось плыть<br />Сто километров без трех милей. <br />И нужно будет их добить.<br /><br />Ведь все же надо ставить точку.<br />И завершить сплав наконец.<br />Попробуем осилить точно.<br />Реке бы не пришел п...ец.<br /><br />А именно – коль лед вдруг ляжет,<br />Тогда есть запасной маршрут.<br />Никто погоду не предскажет.<br />Синоптики все часто врут.<br /><br />Есть пеший вариант резервный,<br />Но это только в ледостав.<br />Но мне так кажется, наверное,<br />По Птичи все же будет сплав.<br /><br />Декабрь многих устрашает:<br />Холодный воздух и вода.<br />Участвовать я приглашаю,<br />Кому погода ерунда.<br /><br /><br />Поход будет 69-ый.<br />Халявы от него не жди.<br />Будет на трудности богатый.<br />И тот кто дохлый не иди.<br /><br />Мне говорили воды много,<br />В начале ноября сейчас.<br />И на Полесье слава Богу.<br />А это на руку для нас.<br /><br />Форштевень лодки режет воду.<br />Красиво зимнее Полесье.<br />Недалеко от старта с ходу<br />Слева минет устье Оресы.<br /><br />Птичь дальше будет полноводней.<br />Еще теченье возрастает.<br />Попутный ветер и погода.<br />Темпы движенья добавляют.<br /><br />И невозможное возможно,<br />Дорога долгая легка.<br />Когда от стылости мороженой,<br />Приходишь в тонус от гребка.<br /><br />Не интригуют говносплавы.<br />Как летом ходит большинство.<br />И впечатлений просто валом.<br />Сходить зимою – каково?<br /><br />И кто со мной в этом апреле,<br />На Сакмару-Инзер идет.<br />Сказать мне должен за неделю<br />Решение от вас Глаз ждет.<br /><br />Выезд вечером 2 декабря. Для удешевления поездки целесообразно сделать подскок на поезде до Жлобина, а на бусе добираться оттуда. Поезд отходит в 23.54. Заброска 120 километров то самое место, где был завершен сплав 67Б возле поселка Рабкор. Антистапель за железнодорожным мостом в Мозыре. Маршрут Птичь-Припять. По Птичи идем 93 километра, и 37 по Припяти. 130 километров даже для трехдневного похода это хардкор. Выброска в Жлобин из Мозыря тоже 120 километров.<br />Возвращение во вторник в 5.38 6 декабря. С вокзала прямо на работу!<br />Бюджет поездки 30р прокат байдарки +35р логистические расходы + расходы на продукты<br />Будет специальный транспорт с группой поддержки. В мероприятии могут принять участие кемпингисты.<br />Деятельность кружка ХУЕК<br />1. Пьеса – оперетта «1декабря 1962года Хрущев на выставке авангардистов» - режиссер и автор сценария Пузо Игорь<br />2. Конь-Камень в Тульской области. Магический мегалит, после посещения которого у мужчин усиливается мужская, а у женщин детородная функция. (Последний планируется посетить по дороге в Башкирию в апреле месяце) - лектор Глаз<br />3. Белоруский танец Жабка (упраздненный вариант) - Озеринский Александр, Малышкина Анна<br />4. 5 декабря 1945г. Звено 19. Исчезнувшие на учебном задании торпедоносцы "Эвенджер". Официальная и альтернативные версии произошедшего. - лектор Слава-Электрик<br />5. 5 декабря 1978г. подписание между правительсвами СССР и Афганистана "Договора о дружбе". - Потапов Андрей <br />Далее программа будет дополняться по мере поступления идей.<br />До 28 ноября связаться с Глазом и оговорить участие.<br />Сдать 13 рублей Пузочесу Игорю до 28 ноября на билеты на поезд до Жлобина и обратно. <br />С 1 по 07 ноября по официальным данным республиканской службы гидрометцентра уровень воды в Птичи повысился на 14 см (деревня Лучицы). Акватория чистая. Ждем, смотрим, наблюдаем. <br />Положение на 26 ноября согласно официальным данным гидрометцентра РБ возле деревни Лучицы: акватория чистая, уровень воды относительно нулевого поста 273 см. В сравнении с 1 ноября +41см. Суточная динамика +1см<br />Глаз в восторге.<br />Количество активных участников 14 (семь байдарок двоек)<br />Количество членов группы обеспечения 3<br /><br /><br /><br /><br />\n\n</BODY>\n</HTML>

LOCATION:
END:VEVENT

END:VCALENDAR
