BEGIN:VCALENDAR
VERSION:2.0
PRODID:-//hacksw/handcal//NONSGML v1.0//EN
BEGIN:VEVENT
UID:3ae462077ec382f2cdb6f0e3f35cd97f
DTSTAMP:20260420T142304Z

DTSTART:20170818T150000
DTEND:20170820T111500
SUMMARY:Вечеринка на Ислочи
DESCRIPTION:Приглашаю всех хорошо провести выходные, а заодно и отметить возвращение наших альпинистов из Грузии и Памира.\nМесто проведения - поляна на реке Ислочь (координаты скину)\n \nВ  программе вечера:\n1. обсуждение итогов походов и планов на будущее\n2. презентация проекта "Словакия-Высокие Татры" (Катя В.-П.)\n3. просмотр видео из Грузии. (Если Глеб успеет подготовить)\n4. волейбол\n5. купания\n6. шашлык и другие кулинарные изыски\n7. ритуальное употребление алкоголя\n\nМожно и нужно брать с собой детей, друзей и животных. \nПо вопросам участия  звонить Саше Смирнову +375 29 685 75 87

X-ALT-DESC;FMTTYPE=text/html:<!DOCTYPE HTML PUBLIC "-//W3C//DTD HTML 3.2//EN">\n<HTML>\n<HEAD>\n<META NAME="Generator" CONTENT="MS Exchange Server version 08.00.0681.000">\n<TITLE></TITLE>\n</HEAD>\n<BODY>\n<!-- Converted from text/rtf format -->\n\nПриглашаю всех хорошо провести выходные, а заодно и отметить возвращение наших альпинистов из Грузии и Памира.<br />Место проведения - поляна на реке Ислочь (координаты скину)<br /> <br />В  программе вечера:<br />1. обсуждение итогов походов и планов на будущее<br />2. презентация проекта "Словакия-Высокие Татры" (Катя В.-П.)<br />3. просмотр видео из Грузии. (Если Глеб успеет подготовить)<br />4. волейбол<br />5. купания<br />6. шашлык и другие кулинарные изыски<br />7. ритуальное употребление алкоголя<br /><br />Можно и нужно брать с собой детей, друзей и животных. <br />По вопросам участия  звонить Саше Смирнову +375 29 685 75 87\n\n</BODY>\n</HTML>

LOCATION:
END:VEVENT

END:VCALENDAR
