BEGIN:VCALENDAR
VERSION:2.0
PRODID:-//hacksw/handcal//NONSGML v1.0//EN
BEGIN:VEVENT
UID:976f2b467b0a3b91d52d78d9da3e056a
DTSTAMP:20260421T004725Z

DTSTART:20171007T000000
DTEND:20171008T170000
SUMMARY:День ВДВ: Велосипеды, Друскининкай, Выходные.
DESCRIPTION:Пора уже осваивать  велонаправления в соседние страны. Приглашаю присоединиться в ознакомительный велопоход по Друскининкаю и окресностям и впитать в себя красоты литовской осени. \nДрускининкай расположен в живописнейших лесах вдоль Нямунаса. В последнее время в него вложено столько инвестиций, что позавидовать могут даже приморские балтийские города. Именно поэтому, он является одним из самых популярных "белорусских" курортов. \nВосточнее Друскининкая расположен Дзукийский национальный парк - красивейшее место, через которое проложено более 50 км велодорожек. \nПоход будет не сложный, ориентирован на взрослых и детей 10+.\nПрограмма:\n1-й день, 7 октября\n- Около 3 утра выезд  на личном транспорте к границе Беларуси (пропускной пункт Привалка). 330 км. Если соберется достаточно народа, то можем арендовать микроавтобус с прицепом для велосипедов.\n- Пересечение границы на велосипедах\n- Велопробег вдоль Немана (около 30 км)\n- Посещение аквапарка \n- Ночлег в кемпинге в Друскининкае\n2-й день 8 октября\n- Велоосмотр окрестностей Друскининкая. Посещение парка советского периода Грутас (около 30 км)\n- Возврат  в Беларусь и в Минск \nОбщая протяженность маршрута 60-70 км может быть увеличена до 100-150 км, если соберется более спортивная и выносливая команда \nФинансы:\n1. Аквапарк - около 13 евро за 2 часа (для взрослого. если с баней, то от 19 евро)\n2. Кемпинг - 7 евро\n3. Питание и трансфер - пока не ясно (20-30 евро)\n4. Виза \nПо всем вопросам обращаться к Александру Смирнову +375 29 685 75 87

X-ALT-DESC;FMTTYPE=text/html:<!DOCTYPE HTML PUBLIC "-//W3C//DTD HTML 3.2//EN">\n<HTML>\n<HEAD>\n<META NAME="Generator" CONTENT="MS Exchange Server version 08.00.0681.000">\n<TITLE></TITLE>\n</HEAD>\n<BODY>\n<!-- Converted from text/rtf format -->\n\nПора уже осваивать  велонаправления в соседние страны. Приглашаю присоединиться в ознакомительный велопоход по Друскининкаю и окресностям и впитать в себя красоты литовской осени. <br />Друскининкай расположен в живописнейших лесах вдоль Нямунаса. В последнее время в него вложено столько инвестиций, что позавидовать могут даже приморские балтийские города. Именно поэтому, он является одним из самых популярных "белорусских" курортов. <br />Восточнее Друскининкая расположен Дзукийский национальный парк - красивейшее место, через которое проложено более 50 км велодорожек. <br />Поход будет не сложный, ориентирован на взрослых и детей 10+.<br />Программа:<br />1-й день, 7 октября<br />- Около 3 утра выезд  на личном транспорте к границе Беларуси (пропускной пункт Привалка). 330 км. Если соберется достаточно народа, то можем арендовать микроавтобус с прицепом для велосипедов.<br />- Пересечение границы на велосипедах<br />- Велопробег вдоль Немана (около 30 км)<br />- Посещение аквапарка <br />- Ночлег в кемпинге в Друскининкае<br />2-й день 8 октября<br />- Велоосмотр окрестностей Друскининкая. Посещение парка советского периода Грутас (около 30 км)<br />- Возврат  в Беларусь и в Минск <br />Общая протяженность маршрута 60-70 км может быть увеличена до 100-150 км, если соберется более спортивная и выносливая команда <br />Финансы:<br />1. Аквапарк - около 13 евро за 2 часа (для взрослого. если с баней, то от 19 евро)<br />2. Кемпинг - 7 евро<br />3. Питание и трансфер - пока не ясно (20-30 евро)<br />4. Виза <br />По всем вопросам обращаться к Александру Смирнову +375 29 685 75 87\n\n</BODY>\n</HTML>

LOCATION:Друскининкай, Литва
END:VEVENT

END:VCALENDAR
