BEGIN:VCALENDAR
VERSION:2.0
PRODID:-//hacksw/handcal//NONSGML v1.0//EN
BEGIN:VEVENT
UID:d96044607a5ed99036c6d786d86eac47
DTSTAMP:20260421T005938Z

DTSTART:20171013T150000
DTEND:20171015T190000
SUMMARY:Людзі на балоце
DESCRIPTION:Вось і пачуўся подых восені. Птушкі ляцяць у вырай, дожджык стучыцца ў вакенца, а вятры нысуць прахалоду.\nВосень - добры час для таго, каб узгадаць свае карані і вярнуцца на балота.\nГэтым разам я запрашаю ўзяць удзел у паходзе на балота Ельня - адно з найбуйнейшых верхавых балотаў Еўропы.\nСтарт у пятніцу, першая начоўка - на падыходзе да балота, ля вёскі Буды. Трэк складае каля 25 км, зь іх каля 20 - по балоце. У праграме - наведваньне шэрагу азёр і начоўка на Ельнянскай высьпе. Як і звычайна, вялікая роля адведзена гастранамічным і культурна-асьветніцкім захадам.\n\nДа ўдзелу запрашаюцца ўсе цікаўныя, здольные пераадолець, не злоўжываючыя, самастойныя. Удмурты і камфортафілы могуць не турбавацца.\nВопратка ў адпаведнасьці з надвор'ем, пажадана мець гумавыя боты і запасную пару абутку.\nЛагістыка - аўтамабільная (асабісты аўтатранспарт), пры наяўнасьці вялікае колькасьці ўдзельнікаў - аўтобусная.\nКошт удзелу - каля 20 - 25 руб. на ежу, ад 10 руб. на праезд\nЗапіс - па тэлефоне (+375291140865, +375295043067) у Канстанціна Мінкевіча, апошні тэрмін запісу - 07.10.17

X-ALT-DESC;FMTTYPE=text/html:<!DOCTYPE HTML PUBLIC "-//W3C//DTD HTML 3.2//EN">\n<HTML>\n<HEAD>\n<META NAME="Generator" CONTENT="MS Exchange Server version 08.00.0681.000">\n<TITLE></TITLE>\n</HEAD>\n<BODY>\n<!-- Converted from text/rtf format -->\n\nВось і пачуўся подых восені. Птушкі ляцяць у вырай, дожджык стучыцца ў вакенца, а вятры нысуць прахалоду.<br />Восень - добры час для таго, каб узгадаць свае карані і вярнуцца на балота.<br />Гэтым разам я запрашаю ўзяць удзел у паходзе на балота Ельня - адно з найбуйнейшых верхавых балотаў Еўропы.<br />Старт у пятніцу, першая начоўка - на падыходзе да балота, ля вёскі Буды. Трэк складае каля 25 км, зь іх каля 20 - по балоце. У праграме - наведваньне шэрагу азёр і начоўка на Ельнянскай высьпе. Як і звычайна, вялікая роля адведзена гастранамічным і культурна-асьветніцкім захадам.<br /><br />Да ўдзелу запрашаюцца ўсе цікаўныя, здольные пераадолець, не злоўжываючыя, самастойныя. Удмурты і камфортафілы могуць не турбавацца.<br />Вопратка ў адпаведнасьці з надвор'ем, пажадана мець гумавыя боты і запасную пару абутку.<br />Лагістыка - аўтамабільная (асабісты аўтатранспарт), пры наяўнасьці вялікае колькасьці ўдзельнікаў - аўтобусная.<br />Кошт удзелу - каля 20 - 25 руб. на ежу, ад 10 руб. на праезд<br />Запіс - па тэлефоне (+375291140865, +375295043067) у Канстанціна Мінкевіча, апошні тэрмін запісу - 07.10.17\n\n</BODY>\n</HTML>

LOCATION:Болото Ельня, Беларусь
END:VEVENT

END:VCALENDAR
