BEGIN:VCALENDAR
VERSION:2.0
PRODID:-//hacksw/handcal//NONSGML v1.0//EN
BEGIN:VEVENT
UID:601a949fda16d7e3318be4c48316965f
DTSTAMP:20260420T173912Z

DTSTART:20171103T210000
DTEND:20171105T203000
SUMMARY:  4 ноября ДОЛБ 6  
DESCRIPTION:\nЧтоб был в спортивной форме толк,\nПридумали когда-то ДОЛБ.\nНачальником сего союза\nСо временем назначен Пузо.\n\nИ дело спорилось как раз,\nКогда за это взялся Глаз.\nАктивно, жестко не гламурно,\nИ получалось физкультурно.\n\nВедь кто не любит быстрый бег,\nТот не нормальный человек.\nА средний уровень спортивный \nУ Магадана примитивный.\n\nНо Игорь дело завалил,\nИ ничего не проводил.\nХоть год прошел, у нас опять, -\nПоследним был ДОЛБ номер 5.\n\nНас окружает бытовуха\nИ деградирует физуха.\nИ с этим надо что-то делать,\nКак минимум хотя бы бегать.\n\nА летом следующим Глаз,\nПойдет, возможно, на Кавказ.\nМаршрут красивый, но тяжелый:\nПодняться нужно на Гестолу.\n\nБразды правления ядрено\nНа этот раз взяла Матрена.\nУ ней хоть опыт минимальный,\nПотенциал же колоссальный.\n\nИ провести ДОЛБ номер шесть\nПо осени неплохо ж ведь.\nЗабег начнется, наконец\nС поселка типа Ивенец.\n\nБежит особо о…..нно\nСредь прочих Дмитрий Прокопенко.\nИ нужно очень постараться,\nЧтобы примерно с ним сравняться.\n\nПо лесу нужно пробежать\nДесятку целую опять.\nИ приблизительно сейчас\nСкажу: Вложиться нужно в час.\n\nА кто не сможет пробежать,\nТех к Синим нужно отправлять.\nУ них проводит ПВД\nНе кто иной сам ВДВ!\n\nПоходы тоже там спортивные,\nРебята только малость жирные.\nА троллить Синих – это бонус:\nДержать им позволяет тонус.\n\nВеревки будут в конце дня,\nНе расслабляться чтобы, бля\nПланирую в программе сей\nКружок с названием «Прометей».\n\nИ будет нам залезть куда:\nТам есть прекрасная труба.\nИ к снаряжению быть чтоб ближе,\nТогда страховка будет нижней.\n\nУже отвыкли и опять,\nКонечно, будем очковать.\nХорошее пробежки дело,\nДушою отдохнешь и телом.\n\nПроект простаивает долго.\nВернуть обратно нужно ДОЛБы.\nЯ выложил анонс на форум,\nЧтобы собрать на это кворум.\n\nЗа лексику меня простите,\nИ в положение войдите.\nОна всегда нас выручает,\nМне лично с рифмой помогает.\n\nЖелающие если есть,\n(В виду имейте – это жесть)\nТурист кто, водник, скалолаз,\nЗвоните абоненту Глаз.\n\n\n

X-ALT-DESC;FMTTYPE=text/html:<!DOCTYPE HTML PUBLIC "-//W3C//DTD HTML 3.2//EN">\n<HTML>\n<HEAD>\n<META NAME="Generator" CONTENT="MS Exchange Server version 08.00.0681.000">\n<TITLE></TITLE>\n</HEAD>\n<BODY>\n<!-- Converted from text/rtf format -->\n\n<br />Чтоб был в спортивной форме толк,<br />Придумали когда-то ДОЛБ.<br />Начальником сего союза<br />Со временем назначен Пузо.<br /><br />И дело спорилось как раз,<br />Когда за это взялся Глаз.<br />Активно, жестко не гламурно,<br />И получалось физкультурно.<br /><br />Ведь кто не любит быстрый бег,<br />Тот не нормальный человек.<br />А средний уровень спортивный <br />У Магадана примитивный.<br /><br />Но Игорь дело завалил,<br />И ничего не проводил.<br />Хоть год прошел, у нас опять, -<br />Последним был ДОЛБ номер 5.<br /><br />Нас окружает бытовуха<br />И деградирует физуха.<br />И с этим надо что-то делать,<br />Как минимум хотя бы бегать.<br /><br />А летом следующим Глаз,<br />Пойдет, возможно, на Кавказ.<br />Маршрут красивый, но тяжелый:<br />Подняться нужно на Гестолу.<br /><br />Бразды правления ядрено<br />На этот раз взяла Матрена.<br />У ней хоть опыт минимальный,<br />Потенциал же колоссальный.<br /><br />И провести ДОЛБ номер шесть<br />По осени неплохо ж ведь.<br />Забег начнется, наконец<br />С поселка типа Ивенец.<br /><br />Бежит особо о…..нно<br />Средь прочих Дмитрий Прокопенко.<br />И нужно очень постараться,<br />Чтобы примерно с ним сравняться.<br /><br />По лесу нужно пробежать<br />Десятку целую опять.<br />И приблизительно сейчас<br />Скажу: Вложиться нужно в час.<br /><br />А кто не сможет пробежать,<br />Тех к Синим нужно отправлять.<br />У них проводит ПВД<br />Не кто иной сам ВДВ!<br /><br />Походы тоже там спортивные,<br />Ребята только малость жирные.<br />А троллить Синих – это бонус:<br />Держать им позволяет тонус.<br /><br />Веревки будут в конце дня,<br />Не расслабляться чтобы, бля<br />Планирую в программе сей<br />Кружок с названием «Прометей».<br /><br />И будет нам залезть куда:<br />Там есть прекрасная труба.<br />И к снаряжению быть чтоб ближе,<br />Тогда страховка будет нижней.<br /><br />Уже отвыкли и опять,<br />Конечно, будем очковать.<br />Хорошее пробежки дело,<br />Душою отдохнешь и телом.<br /><br />Проект простаивает долго.<br />Вернуть обратно нужно ДОЛБы.<br />Я выложил анонс на форум,<br />Чтобы собрать на это кворум.<br /><br />За лексику меня простите,<br />И в положение войдите.<br />Она всегда нас выручает,<br />Мне лично с рифмой помогает.<br /><br />Желающие если есть,<br />(В виду имейте – это жесть)<br />Турист кто, водник, скалолаз,<br />Звоните абоненту Глаз.<br /><br /><br />\n\n</BODY>\n</HTML>

LOCATION:
END:VEVENT

END:VCALENDAR
