BEGIN:VCALENDAR
VERSION:2.0
PRODID:-//hacksw/handcal//NONSGML v1.0//EN
BEGIN:VEVENT
UID:5b01db9d2b5d63be7095f386f93e3928
DTSTAMP:20260420T142103Z

DTSTART:20171111T190000
DTEND:20171113T191500
SUMMARY:77: Нарочь-Вилия. 105км с озерами
DESCRIPTION:Семнадцатый уходит,\nА неплохой был год.\nЗима уж близко бродит,\nБыстрей пошли в поход!\n\nХолОдна эта осень,\nНемало и дождей.\nИ много в планах очень,\nКуда пойти идей!\n\nЕще успеем в водный \nПо ноябрю сходить.\nМаршрут очень удобный,\nПоходу – нужно быть!\n\nИ мы решили напрочь,\nПройти такую реку:\nНазвание будет Нарочь,\nИ представляет мекку.\n\nТуристов Беларуси,\nТех по воде кто ходит.\nИ утверждать берусь я, -\nНам в ноябре подходит!\n\nРека подобна Страче,\nНо больше водоносна.\nДаже в верховьях мрачна:\nКрасива без вопросов!\n\nНоябрь – месяц стремный.\nИ вдарить может холод.\nПойдет, когда сенсорный\nИспытываешь голод!\n\nУдача улыбнутся\nДолжна, коль две семерки,\nНам хорошо даются\nПодобные аферки!\n\nКогда дождей нет Нарочь,\nНе так пересыхает.\nВоды в два раза где-то \nУзлянка добавляет!\n\nМаршрут этот довольно \nПроходит много лесом.\nИ «отдыхает» Свольна,\nЕстественно, и Эсса!\n\nКак Страчу, Нарочанку,\nПройти я всю желаю.\nС озер начать сначала,\nЛогичней, полагаю!\n\nПотаповых с Сапрыкиной\nВ эскадру мы возьмем.\nНо штрафников с барыгами\nС собою не берем!\n\nВозле деревни Ужа\nЖдать будет наш агент. \nЛагерь и знатный ужин,\nА к ужину абсент!\n\nМюзикл организуем \nС тематикой осенней.\nСценарий нарисуем\nСо сценками и пестней!\n\nОт Нарочанки много\nЭмоций ожидаю.\nИ паузу надолго,\nПотом я объявляю!\n\nВоднотуристический сектор Magadan.by снова в теме. Скорее всего речь идет теперь о закрытии сезона. \nПредварительно сказавши - 2017-ый для Организации прошел исключительно насыщенно. Итого за текущий год пройдено более 800 километров пути по воде. Льва, март - 40км (20 участников), Страча-Вилия, апрель - 84 (24 участника), Сакмара-Большой Инзер-Малый Инзер, апрель-май - 375 (11участников),  Эсса-Улла, июнь 108 (25 участников), Свольна-Западная Двина, июль - 63 (33 участника), Птичь-Припять, сентябрь - 135 (12 активных участников). Всё из прошедшего запомнилось с самой лучшей стороны, почерпнут максимум впечатлений. Отснято богато фото и видеоматериала. События зафиксировались не только в Историю Клуба, но и индивидуально в опыт и хронику каждого туриста. \nЗаключительный водный поход (№77) 17-ого года будет  расстоянием в 105 километров. Выбор пал на мекку байдарочников.  Маршрут такой: озеро Баторино-озеро Мястро-озеро Нарочь-река Нарочь-река Вилия. Динамично, разнообразно, многолико. Маршрут этот входит в топ 10-и самых популярных байдарочных маршрутов Беларуси. \nБолее того, этой осенью воды для прохождения этого похода более чем достаточно, что обыкновенно не характерно для осени (мне ребята сказали, информация от 07-08.10).\nЛетом Нарочь, пожалуй, менее привлекательна. Река значительно запрессингована байдарочными туристами и отдыхающими. Определенный негатив вносит обилие проводимых на маршруте коммерческих туров. Возможность реализовать по ней, Нарочи, магистральный сплав с прохождением всей дистанции выпадает теперь как нельзя лучшая. Мероприятие, однако, будет сопряжено с определенными сложностями: как то холодное время года и короткий световой день. График хода, разумеется, плотный и как обычно режим похода в межсезонье будет по-Глазовски, то есть в стиле хардкор. \nЗаписываю желающих. Требования стандартные.\nВыезд 1.00 11 ноября с перекрестка улиц Одинцова и Лобанка от рыбного магазина Виталюр, прибытие туда же в 22.30 13 ноября (понедельник). Бюджет стандартный 100+ рублей. \n

X-ALT-DESC;FMTTYPE=text/html:<!DOCTYPE HTML PUBLIC "-//W3C//DTD HTML 3.2//EN">\n<HTML>\n<HEAD>\n<META NAME="Generator" CONTENT="MS Exchange Server version 08.00.0681.000">\n<TITLE></TITLE>\n</HEAD>\n<BODY>\n<!-- Converted from text/rtf format -->\n\nСемнадцатый уходит,<br />А неплохой был год.<br />Зима уж близко бродит,<br />Быстрей пошли в поход!<br /><br />ХолОдна эта осень,<br />Немало и дождей.<br />И много в планах очень,<br />Куда пойти идей!<br /><br />Еще успеем в водный <br />По ноябрю сходить.<br />Маршрут очень удобный,<br />Походу – нужно быть!<br /><br />И мы решили напрочь,<br />Пройти такую реку:<br />Название будет Нарочь,<br />И представляет мекку.<br /><br />Туристов Беларуси,<br />Тех по воде кто ходит.<br />И утверждать берусь я, -<br />Нам в ноябре подходит!<br /><br />Река подобна Страче,<br />Но больше водоносна.<br />Даже в верховьях мрачна:<br />Красива без вопросов!<br /><br />Ноябрь – месяц стремный.<br />И вдарить может холод.<br />Пойдет, когда сенсорный<br />Испытываешь голод!<br /><br />Удача улыбнутся<br />Должна, коль две семерки,<br />Нам хорошо даются<br />Подобные аферки!<br /><br />Когда дождей нет Нарочь,<br />Не так пересыхает.<br />Воды в два раза где-то <br />Узлянка добавляет!<br /><br />Маршрут этот довольно <br />Проходит много лесом.<br />И «отдыхает» Свольна,<br />Естественно, и Эсса!<br /><br />Как Страчу, Нарочанку,<br />Пройти я всю желаю.<br />С озер начать сначала,<br />Логичней, полагаю!<br /><br />Потаповых с Сапрыкиной<br />В эскадру мы возьмем.<br />Но штрафников с барыгами<br />С собою не берем!<br /><br />Возле деревни Ужа<br />Ждать будет наш агент. <br />Лагерь и знатный ужин,<br />А к ужину абсент!<br /><br />Мюзикл организуем <br />С тематикой осенней.<br />Сценарий нарисуем<br />Со сценками и пестней!<br /><br />От Нарочанки много<br />Эмоций ожидаю.<br />И паузу надолго,<br />Потом я объявляю!<br /><br />Воднотуристический сектор Magadan.by снова в теме. Скорее всего речь идет теперь о закрытии сезона. <br />Предварительно сказавши - 2017-ый для Организации прошел исключительно насыщенно. Итого за текущий год пройдено более 800 километров пути по воде. Льва, март - 40км (20 участников), Страча-Вилия, апрель - 84 (24 участника), Сакмара-Большой Инзер-Малый Инзер, апрель-май - 375 (11участников),  Эсса-Улла, июнь 108 (25 участников), Свольна-Западная Двина, июль - 63 (33 участника), Птичь-Припять, сентябрь - 135 (12 активных участников). Всё из прошедшего запомнилось с самой лучшей стороны, почерпнут максимум впечатлений. Отснято богато фото и видеоматериала. События зафиксировались не только в Историю Клуба, но и индивидуально в опыт и хронику каждого туриста. <br />Заключительный водный поход (№77) 17-ого года будет  расстоянием в 105 километров. Выбор пал на мекку байдарочников.  Маршрут такой: озеро Баторино-озеро Мястро-озеро Нарочь-река Нарочь-река Вилия. Динамично, разнообразно, многолико. Маршрут этот входит в топ 10-и самых популярных байдарочных маршрутов Беларуси. <br />Более того, этой осенью воды для прохождения этого похода более чем достаточно, что обыкновенно не характерно для осени (мне ребята сказали, информация от 07-08.10).<br />Летом Нарочь, пожалуй, менее привлекательна. Река значительно запрессингована байдарочными туристами и отдыхающими. Определенный негатив вносит обилие проводимых на маршруте коммерческих туров. Возможность реализовать по ней, Нарочи, магистральный сплав с прохождением всей дистанции выпадает теперь как нельзя лучшая. Мероприятие, однако, будет сопряжено с определенными сложностями: как то холодное время года и короткий световой день. График хода, разумеется, плотный и как обычно режим похода в межсезонье будет по-Глазовски, то есть в стиле хардкор. <br />Записываю желающих. Требования стандартные.<br />Выезд 1.00 11 ноября с перекрестка улиц Одинцова и Лобанка от рыбного магазина Виталюр, прибытие туда же в 22.30 13 ноября (понедельник). Бюджет стандартный 100+ рублей. <br />\n\n</BODY>\n</HTML>

LOCATION:
END:VEVENT

END:VCALENDAR
