BEGIN:VCALENDAR
VERSION:2.0
PRODID:-//hacksw/handcal//NONSGML v1.0//EN
BEGIN:VEVENT
UID:e551b571ba7f18a22b3182fabccb34d0
DTSTAMP:20260420T180701Z

DTSTART:20171118T060000
DTEND:20171119T170000
SUMMARY:В горы на велосипедах
DESCRIPTION:Зима близко!\nНоябрь - месяц, в который возможно всё: сугробы и морозы и последние отголоски осеннего тепла. Холодные ветры и теплые дожди. Густые туманы и ясное низкое солнце.\nНикак не хочет завершаться велосезон-2017. Мы начали под снегом, продолжали под снегом и закончить постараемся не хуже.\nПриглашаю всех желающих в финальный велопоход 18 - 19 ноября. Он будет не совсем обычным. У него простейшая логистика, со стартом и финишем в Минске. Протяженность трека также невелика, каких-то 120 км, пустяк для конца сезона.\nЗато это будет горный поход, суммарный набор высоты - более 900м, придется крепиться.\nУчитывая близость к Минску и потенциальную перегруженность дорог, даже местных, я постарался максимально проложить трек по проселкам, грунтовкам, полям и лесам, что, впрочем, не исключает и езды по асфальту на значительном отрезке маршрута. Ночевка - на Ислочи.\nПравила участия достаточно традиционны: мочь, не напрягать, не злоупотреблять. А отсутствие привязки к транспорту позволяет лояльнее отнестись к генетическим удмуртам.\nДля неспособных к езде, но способных украсить своим присутствием вечер в лагере предлагается матрасное участие.\n\nЗапись, по традиции, путем непосредственного контакта со мной (029-1140865, 029-5043067, фейсбук). Последний срок подачи заявок - 15 ноября.\n\nПримечание. В случае совсем уже зимней зимы с сугробами возможен пересмотр формата мероприятия в сторону пешего/лыжного.

X-ALT-DESC;FMTTYPE=text/html:<!DOCTYPE HTML PUBLIC "-//W3C//DTD HTML 3.2//EN">\n<HTML>\n<HEAD>\n<META NAME="Generator" CONTENT="MS Exchange Server version 08.00.0681.000">\n<TITLE></TITLE>\n</HEAD>\n<BODY>\n<!-- Converted from text/rtf format -->\n\nЗима близко!<br />Ноябрь - месяц, в который возможно всё: сугробы и морозы и последние отголоски осеннего тепла. Холодные ветры и теплые дожди. Густые туманы и ясное низкое солнце.<br />Никак не хочет завершаться велосезон-2017. Мы начали под снегом, продолжали под снегом и закончить постараемся не хуже.<br />Приглашаю всех желающих в финальный велопоход 18 - 19 ноября. Он будет не совсем обычным. У него простейшая логистика, со стартом и финишем в Минске. Протяженность трека также невелика, каких-то 120 км, пустяк для конца сезона.<br />Зато это будет горный поход, суммарный набор высоты - более 900м, придется крепиться.<br />Учитывая близость к Минску и потенциальную перегруженность дорог, даже местных, я постарался максимально проложить трек по проселкам, грунтовкам, полям и лесам, что, впрочем, не исключает и езды по асфальту на значительном отрезке маршрута. Ночевка - на Ислочи.<br />Правила участия достаточно традиционны: мочь, не напрягать, не злоупотреблять. А отсутствие привязки к транспорту позволяет лояльнее отнестись к генетическим удмуртам.<br />Для неспособных к езде, но способных украсить своим присутствием вечер в лагере предлагается матрасное участие.<br /><br />Запись, по традиции, путем непосредственного контакта со мной (029-1140865, 029-5043067, фейсбук). Последний срок подачи заявок - 15 ноября.<br /><br />Примечание. В случае совсем уже зимней зимы с сугробами возможен пересмотр формата мероприятия в сторону пешего/лыжного.\n\n</BODY>\n</HTML>

LOCATION:Дзержинская, Беларусь
END:VEVENT

END:VCALENDAR
