BEGIN:VCALENDAR
VERSION:2.0
PRODID:-//hacksw/handcal//NONSGML v1.0//EN
BEGIN:VEVENT
UID:f03c905c018c484a57958fd736a75e86
DTSTAMP:20260420T154720Z

DTSTART:20171103T110000
DTEND:20171107T103000
SUMMARY:И снова Дениши
DESCRIPTION:С 3-го по 7-е ноября Магадан проводит традиционные учебно-тренировочные сборы по скалолазанию на естественном рельефе в районе села Дениши (Житомирская область).\nПриглашаем всех желающих. \nДобраться туда можно на личном автотранспорте, либо (если нет) договорившись с владельцами авто. Вопросы с трансфером решаются в общем вайбер-чате. По всем вопросам звонить или писать Смирнову +375 29 685 75 87

X-ALT-DESC;FMTTYPE=text/html:<!DOCTYPE HTML PUBLIC "-//W3C//DTD HTML 3.2//EN">\n<HTML>\n<HEAD>\n<META NAME="Generator" CONTENT="MS Exchange Server version 08.00.0681.000">\n<TITLE></TITLE>\n</HEAD>\n<BODY>\n<!-- Converted from text/rtf format -->\n\nС 3-го по 7-е ноября Магадан проводит традиционные учебно-тренировочные сборы по скалолазанию на естественном рельефе в районе села Дениши (Житомирская область).<br />Приглашаем всех желающих. <br />Добраться туда можно на личном автотранспорте, либо (если нет) договорившись с владельцами авто. Вопросы с трансфером решаются в общем вайбер-чате. По всем вопросам звонить или писать Смирнову +375 29 685 75 87\n\n</BODY>\n</HTML>

LOCATION:Дениши, Житомирская область, Украина, 12422
END:VEVENT

END:VCALENDAR
