BEGIN:VCALENDAR
VERSION:2.0
PRODID:-//hacksw/handcal//NONSGML v1.0//EN
BEGIN:VEVENT
UID:5ca2e3e57f8c4cabc005a4f2f66576f7
DTSTAMP:20260420T142219Z

DTSTART:20171210T100000
DTEND:20171210T220000
SUMMARY:Собрание ордена батавов (водников)
DESCRIPTION:Весной, в начале лета вектор – \nПреобладает водный сектор.\nЗаранее надо бы решить,\nКуда бы нам еще сходить!\nНа Кару в следующем году\nЯ предложить вам не могу.\nПроект не выношу на форум:\nВедь вряд ли соберется кворум…\n(Из тундры выбраться не просто.\nИ дорога весьма заброска.\nЧтобы попасть туда в поход,\nНанять придется вездеход.\nОсобенно с деньгами влет:\nНазад блять нужен вертолет).\nНарод у нас довольно бедный:\nЕму поход нужен бюджетный.\nНе первый уж от Секты год\nМы ходим на Урал в поход.\nЗагвоздка ехать на Урал –\nМаксим, наверное, бус просрал!\nНо связываться не берусь я \nС веселым компанейским Русей.\nС логистикой же разберемся,\nКогда совместно соберемся.\nТак предварительно решил,\nСходить нам с группой на Зилим.\nИ долг еще с того разА –\nРека с названием Лемеза!\nИ Малый Инзер по пути\nЕще раз по нему пройти.\nВ рамках похода будет можно\nНе торопясь и осторожно!\nКак стратегический поход\nСобрание два раза в год.\nКуда пойти, как и когда.\nПовестка схожая всегда.\nЧтоб время не ворочать вспять,\nИ график отпуска подать,\nВ какие сроки нам пойти,\nСобрание нужно провести.\nБайдарочных походов много.\nВсе с ними просто и знакомо.\nВ большой поход при прочих равных.\nПойдем мы на катамаранах.\nЯ совещание проводить\nСобрался, чтобы обсудить\nВ декабрь 10-ого числа,\nКак эти порешать дела.\nА в 18-ом резон\nОткрыть байдарочный сезон,\nПланирую пока сперва,\nНачав его по речке Льва!\nИ сообщу в анонсе новость,\nБудет поход по речке Полисть!\nК ней просьба относиться строго,\nТам много по весне порогов!\nСводить по ней меня просили,\nНаходится она в России.\nВас на собрание приглашаю,\nПослушать лекции желаю.\nКто хочет в следующий год.\nПойти в байдарочный поход.\n\nВодные маршруты Магадана занимают существенную долю всех организуемых мероприятий. Пусть им подчас не хватает экстремальности и спортивности, однако, в краеведческой компоненте и экспедиционной составляющей оным здесь не занимать. Год от года Организация их совершенствуется. Получается абсолютно всегда бюджетно, динамично, с высокой долей эстетики и поэтизма!  Глаз, как и многие другие, семейный человек и государственный работник, весьма обремененный дефицитом времени и существенно стесненный свободными средствами. Но решить и спланировать можно любое дело, однако, только планово-административным подходом. Подобные собрания с проектором и лекциями, как показывает опыт – высокоэффективный организующий группу инструмент. Одного такого как показала практика достаточно, чтобы представить фабулу проекта, вместо многочисленных звонков и согласований. \nВстреча в 12.30 10 декабря на том же месте в то же время. Бус доставит и туда и обратно (развезет потом по домам -10рублей, как обычно). Делегаты будут оповещены заранее и вызваны повесткой. Дополнительные интересующиеся воднотуристическим сектором Магадана звоните заранее. В промежутках между лекциями новинки от кружка «Прометей», увеселительная сценка от кружка «ХУЕК»*, шведский стол.\nХУЕК* - Художественно-Увеселительный Единый Кружок\n\n\n

X-ALT-DESC;FMTTYPE=text/html:<!DOCTYPE HTML PUBLIC "-//W3C//DTD HTML 3.2//EN">\n<HTML>\n<HEAD>\n<META NAME="Generator" CONTENT="MS Exchange Server version 08.00.0681.000">\n<TITLE></TITLE>\n</HEAD>\n<BODY>\n<!-- Converted from text/rtf format -->\n\nВесной, в начале лета вектор – <br />Преобладает водный сектор.<br />Заранее надо бы решить,<br />Куда бы нам еще сходить!<br />На Кару в следующем году<br />Я предложить вам не могу.<br />Проект не выношу на форум:<br />Ведь вряд ли соберется кворум…<br />(Из тундры выбраться не просто.<br />И дорога весьма заброска.<br />Чтобы попасть туда в поход,<br />Нанять придется вездеход.<br />Особенно с деньгами влет:<br />Назад блять нужен вертолет).<br />Народ у нас довольно бедный:<br />Ему поход нужен бюджетный.<br />Не первый уж от Секты год<br />Мы ходим на Урал в поход.<br />Загвоздка ехать на Урал –<br />Максим, наверное, бус просрал!<br />Но связываться не берусь я <br />С веселым компанейским Русей.<br />С логистикой же разберемся,<br />Когда совместно соберемся.<br />Так предварительно решил,<br />Сходить нам с группой на Зилим.<br />И долг еще с того разА –<br />Река с названием Лемеза!<br />И Малый Инзер по пути<br />Еще раз по нему пройти.<br />В рамках похода будет можно<br />Не торопясь и осторожно!<br />Как стратегический поход<br />Собрание два раза в год.<br />Куда пойти, как и когда.<br />Повестка схожая всегда.<br />Чтоб время не ворочать вспять,<br />И график отпуска подать,<br />В какие сроки нам пойти,<br />Собрание нужно провести.<br />Байдарочных походов много.<br />Все с ними просто и знакомо.<br />В большой поход при прочих равных.<br />Пойдем мы на катамаранах.<br />Я совещание проводить<br />Собрался, чтобы обсудить<br />В декабрь 10-ого числа,<br />Как эти порешать дела.<br />А в 18-ом резон<br />Открыть байдарочный сезон,<br />Планирую пока сперва,<br />Начав его по речке Льва!<br />И сообщу в анонсе новость,<br />Будет поход по речке Полисть!<br />К ней просьба относиться строго,<br />Там много по весне порогов!<br />Сводить по ней меня просили,<br />Находится она в России.<br />Вас на собрание приглашаю,<br />Послушать лекции желаю.<br />Кто хочет в следующий год.<br />Пойти в байдарочный поход.<br /><br />Водные маршруты Магадана занимают существенную долю всех организуемых мероприятий. Пусть им подчас не хватает экстремальности и спортивности, однако, в краеведческой компоненте и экспедиционной составляющей оным здесь не занимать. Год от года Организация их совершенствуется. Получается абсолютно всегда бюджетно, динамично, с высокой долей эстетики и поэтизма!  Глаз, как и многие другие, семейный человек и государственный работник, весьма обремененный дефицитом времени и существенно стесненный свободными средствами. Но решить и спланировать можно любое дело, однако, только планово-административным подходом. Подобные собрания с проектором и лекциями, как показывает опыт – высокоэффективный организующий группу инструмент. Одного такого как показала практика достаточно, чтобы представить фабулу проекта, вместо многочисленных звонков и согласований. <br />Встреча в 12.30 10 декабря на том же месте в то же время. Бус доставит и туда и обратно (развезет потом по домам -10рублей, как обычно). Делегаты будут оповещены заранее и вызваны повесткой. Дополнительные интересующиеся воднотуристическим сектором Магадана звоните заранее. В промежутках между лекциями новинки от кружка «Прометей», увеселительная сценка от кружка «ХУЕК»*, шведский стол.<br />ХУЕК* - Художественно-Увеселительный Единый Кружок<br /><br /><br />\n\n</BODY>\n</HTML>

LOCATION:
END:VEVENT

END:VCALENDAR
