BEGIN:VCALENDAR
VERSION:2.0
PRODID:-//hacksw/handcal//NONSGML v1.0//EN
BEGIN:VEVENT
UID:5c7b8e6b69ebf975c83ed009284c95c8
DTSTAMP:20260420T142755Z

DTSTART:20180112T220000
DTEND:20180113T213000
SUMMARY:77А:По следам Тихомирова Кирилла
DESCRIPTION:У нас циклично все походы происходят.\nВсегда зимой мероприятий много.\nИ сонм идей от разных лиц исходят,\nКакой грядущий раз пойти дорогой.\n\nТут предложу не религиозную мистерию\nСезон не водный и не для велосипедов.\nКак нельзя лучше пешей инфантерией.\nПройтись и территорию разведать.\n\nПо Тихомирова Кирилла по следам,\nСходить хотелось бы по январю.\nНа Витебщину ехать предлагаю вам.\nТам интересные места смотрю.\n\nНа Громоть чтоб заброску заодно\nРазведать, как пройти удобнее там,\nПопасть туда мне хочется давно.\nПо тем еще я не ходил местам.\n\nПо Громоти придет пора пройтись,\nКак вышеупомянутый Кирилл.\nИ стапель оптимальный бы найти:\nТащить байдарки, чтоб по минимому сил.\n\nТам лес болотный чередуется с песком,\nРучьи по пойме переходить жесть.\nПридется пробираться тростником,\nНо и сухого леса там участки есть.\n\nВпадает река Громоть в Лужеснянку.\nНа той весной обычно перекаты.\nНе хуже она классики-Сарьянки.\nИ по Сарьянке тоже спустимся когда-то.\n\nРельефна пишет Тихомиров местность:\nХолмы, распадки и болота…\nОбзор с высот на всю окрестность.\nИ населенки мало что-то…\n\nИметь в виду прошу – будем крепиться!\nНа деле выходило до сих пор,\nС весёлым Глазом где, б не находится –\nВсе время получается хардкор!\n\nСухого леса много будет тоже.\nИдти болотом лишь частично.\nПо большей части трек не сложный.\nДолжны к Двине выйти отлично.\n\nТридцать один км – хватит с лихвою!\nИдти в конце шеренги будет Анрей Бай!\nНе потерялся, чтоб никто и мы с тобою,\nИди внимательней и не зевай!\n\nВозможно, где-то чтоб не провалиться,\nПо льду придется и переползать.\nНе надо много, дабы замочиться.\nПотом в одежде мокрой замерзать.\n\nВослепно озеро придется пересечь\nПо акватории, но поперек.\nЮго-восточным курсом дальше лечь.\nПо навигатору сквозь лес вперед.\n\nМаршрут закончится возле поселка Руба.\nТрек говорил уже, что чуть за тридцать.\nПопробуем снять ролик для ютуба.\nВ движении, отдыхе и лицах.\n\nРебята, в группу не записывайтесь много.\nБольшой не нужен численный состав.\nВедь по пересечёнке не проста дорога,\nИ на болотах не надежный ледостав.\n\nОграничения будут по набору,\nХоть это и обычный ПВД.\nНо не беру любого без разбору,\nЧто Русю, Мюцага иль даже ВДВ.  \n\nВитебщина не запрессингована туристами и много где, как и в подобной этому походу местности, можно окунуться в природу с минимальными и не навязчивыми антропогенными стигмами. \nДекабрь. У Глаза каникулы. Подгонка снаряжения, покупки, заработок положительных акций. К ПВД 77А по вылазкам уже изрядно соскучусь! Уже даже давно соскучился! По зимнему лесу!\n\nСначала ту местность разведал Тихомиров Кирилл в виде похода соло, затем несколькими месяцами позже в предельно сжатый срок сплавился по Громоти и Лужеснянке (маршрут весьма оригинальный, начинается с обширных природных резерватов и заканчивается городскими кварталами Витебска). Это турист из Минска. Ходит регулярно камерными группами. Походы широкопрофильные. Маршруты оригинальные, не без авантюрной составляющей. И с более спортивной, чем в глазовских проекцией. \n13-14 января 2018г будет первый поход года или ПВД 77А. В пешем формате. Местность очень разнообразная. Как уже выше упоминалось. Начальная часть трека (около семи километров) будет - разведка пешей заброски к реке Громоть. Ибо адекватных подъездов к ней нет. Но от этого ценность  маршрута сплава лишь усиливается. Будет изучен подход к реке с запада, также и более короткий вариант заброски на реку Громоть с востока (продолжение пешего трека после переправы через реку). С востока к Громоти попасть тоже можно - пешком от деревни Козловичи (3,6км). После чего движение в самую юго-западную часть озера, где можно перетянуть гряду и оказаться на реке Громоть. Гряда примерно такая же, как между Страчей и Балдуком. \nОрганизация похода по классической схеме. Цена вопроса до 100 рублей. Из них затраты на дорогу порядка 40, остальное на продукты и спиртное. Событие будет проводится вне зависимости от погоды, то есть состоится в любом случае. Отмечание Старого Нового Года входит в программу тура. Желающим просьба предварительно записываться.  Участие подтвердить до 9 января.\n\n\n

X-ALT-DESC;FMTTYPE=text/html:<!DOCTYPE HTML PUBLIC "-//W3C//DTD HTML 3.2//EN">\n<HTML>\n<HEAD>\n<META NAME="Generator" CONTENT="MS Exchange Server version 08.00.0681.000">\n<TITLE></TITLE>\n</HEAD>\n<BODY>\n<!-- Converted from text/rtf format -->\n\nУ нас циклично все походы происходят.<br />Всегда зимой мероприятий много.<br />И сонм идей от разных лиц исходят,<br />Какой грядущий раз пойти дорогой.<br /><br />Тут предложу не религиозную мистерию<br />Сезон не водный и не для велосипедов.<br />Как нельзя лучше пешей инфантерией.<br />Пройтись и территорию разведать.<br /><br />По Тихомирова Кирилла по следам,<br />Сходить хотелось бы по январю.<br />На Витебщину ехать предлагаю вам.<br />Там интересные места смотрю.<br /><br />На Громоть чтоб заброску заодно<br />Разведать, как пройти удобнее там,<br />Попасть туда мне хочется давно.<br />По тем еще я не ходил местам.<br /><br />По Громоти придет пора пройтись,<br />Как вышеупомянутый Кирилл.<br />И стапель оптимальный бы найти:<br />Тащить байдарки, чтоб по минимому сил.<br /><br />Там лес болотный чередуется с песком,<br />Ручьи по пойме переходить жесть.<br />Придется пробираться тростником,<br />Но и сухого леса там участки есть.<br /><br />Впадает река Громоть в Лужеснянку.<br />На той весной обычно перекаты.<br />Не хуже она классики-Сарьянки.<br />И по Сарьянке тоже спустимся когда-то.<br /><br />Рельефна пишет Тихомиров местность:<br />Холмы, распадки и болота…<br />Обзор с высот на всю окрестность.<br />И населенки мало что-то…<br /><br />Иметь в виду прошу – будем крепиться!<br />На деле выходило до сих пор,<br />С весёлым Глазом где, б не находится –<br />Все время получается хардкор!<br /><br />Сухого леса много будет тоже.<br />Идти болотом лишь частично.<br />По большей части трек не сложный.<br />Должны к Двине выйти отлично.<br /><br />Тридцать один км – хватит с лихвою!<br />Идти в конце шеренги будет Анрей Бай!<br />Не потерялся, чтоб никто и мы с тобою,<br />Иди внимательней и не зевай!<br /><br />Возможно, где-то чтоб не провалиться,<br />По льду придется и переползать.<br />Не надо много, дабы замочиться.<br />Потом в одежде мокрой замерзать.<br /><br />Вослепно озеро придется пересечь<br />По акватории, но поперек.<br />Юго-восточным курсом дальше лечь.<br />По навигатору сквозь лес вперед.<br /><br />Маршрут закончится возле поселка Руба.<br />Трек говорил уже, что чуть за тридцать.<br />Попробуем снять ролик для ютуба.<br />В движении, отдыхе и лицах.<br /><br />Ребята, в группу не записывайтесь много.<br />Большой не нужен численный состав.<br />Ведь по пересечёнке не проста дорога,<br />И на болотах не надежный ледостав.<br /><br />Ограничения будут по набору,<br />Хоть это и обычный ПВД.<br />Но не беру любого без разбору,<br />Что Русю, Мюцага иль даже ВДВ.  <br /><br />Витебщина не запрессингована туристами и много где, как и в подобной этому походу местности, можно окунуться в природу с минимальными и не навязчивыми антропогенными стигмами. <br />Декабрь. У Глаза каникулы. Подгонка снаряжения, покупки, заработок положительных акций. К ПВД 77А по вылазкам уже изрядно соскучусь! Уже даже давно соскучился! По зимнему лесу!<br /><br />Сначала ту местность разведал Тихомиров Кирилл в виде похода соло, затем несколькими месяцами позже в предельно сжатый срок сплавился по Громоти и Лужеснянке (маршрут весьма оригинальный, начинается с обширных природных резерватов и заканчивается городскими кварталами Витебска). Это турист из Минска. Ходит регулярно камерными группами. Походы широкопрофильные. Маршруты оригинальные, не без авантюрной составляющей. И с более спортивной, чем в глазовских проекцией. <br />13-14 января 2018г будет первый поход года или ПВД 77А. В пешем формате. Местность очень разнообразная. Как уже выше упоминалось. Начальная часть трека (около семи километров) будет - разведка пешей заброски к реке Громоть. Ибо адекватных подъездов к ней нет. Но от этого ценность  маршрута сплава лишь усиливается. Будет изучен подход к реке с запада, также и более короткий вариант заброски на реку Громоть с востока (продолжение пешего трека после переправы через реку). С востока к Громоти попасть тоже можно - пешком от деревни Козловичи (3,6км). После чего движение в самую юго-западную часть озера, где можно перетянуть гряду и оказаться на реке Громоть. Гряда примерно такая же, как между Страчей и Балдуком. <br />Организация похода по классической схеме. Цена вопроса до 100 рублей. Из них затраты на дорогу порядка 40, остальное на продукты и спиртное. Событие будет проводится вне зависимости от погоды, то есть состоится в любом случае. Отмечание Старого Нового Года входит в программу тура. Желающим просьба предварительно записываться.  Участие подтвердить до 9 января.<br /><br /><br />\n\n</BODY>\n</HTML>

LOCATION:
END:VEVENT

END:VCALENDAR
