BEGIN:VCALENDAR
VERSION:2.0
PRODID:-//hacksw/handcal//NONSGML v1.0//EN
BEGIN:VEVENT
UID:244c3ace2983f1239c81005ed5ddab36
DTSTAMP:20260420T195225Z

DTSTART:20171202T043000
DTEND:20171202T190000
SUMMARY:Субботнее вело оливье.
DESCRIPTION:Пришла зима а это значит что пришла пора велопрогулок.\n\nВ любую погоду 65 км по грязи и лесу и приключениям. Но на последнюю электричку нужно успеть.\n\nПримерный трек - https://www.gpsies.com/map.do?fileId=ehxalzglormvrsqd\n\nВ программе:\n- посещение легендарного озера Бездонка - http://posmotrim.by/article/mificheskoe_bezdonnoe_ozero_v_belarusi.html\n- посещение орудийно-пулеметных и артилерийских полукапониров - http://posmotrim.by/article/doty_vtoroy_mirovoy_ukreprayon_polonevichi.html (линия Сталина)\n- песчаный карьер на месте бывшей деревни Живица\n- фундамент на  месте бывшей пограничной заставы\n- место слияния рек Сула и Тонва\n- таинственный могильный курган посреди леса\n- место зачарованного фольварка Гранова Горка\n- легендарная деревня (о)ливье (дегустация салата в программу не входит)\n- успеваем на последнюю электричку.\n\nПо мотивам ПГ зимнее оливье 2016 добираем КП которые не добрались в прошлый раз. А также навещаем взятые.\n\nОтправление электричка 7:50 на Барановичи до станции Энергетик.\nОбратно 16:03/18:00/19:00/20:50 на последнюю электричку на девять вечера нужно успеть.\n\nтелефон для связи +375 29 753-06-66 Дима (Непал/Каркасс)

X-ALT-DESC;FMTTYPE=text/html:<!DOCTYPE HTML PUBLIC "-//W3C//DTD HTML 3.2//EN">\n<HTML>\n<HEAD>\n<META NAME="Generator" CONTENT="MS Exchange Server version 08.00.0681.000">\n<TITLE></TITLE>\n</HEAD>\n<BODY>\n<!-- Converted from text/rtf format -->\n\nПришла зима а это значит что пришла пора велопрогулок.<br /><br />В любую погоду 65 км по грязи и лесу и приключениям. Но на последнюю электричку нужно успеть.<br /><br />Примерный трек - https://www.gpsies.com/map.do?fileId=ehxalzglormvrsqd<br /><br />В программе:<br />- посещение легендарного озера Бездонка - http://posmotrim.by/article/mificheskoe_bezdonnoe_ozero_v_belarusi.html<br />- посещение орудийно-пулеметных и артилерийских полукапониров - http://posmotrim.by/article/doty_vtoroy_mirovoy_ukreprayon_polonevichi.html (линия Сталина)<br />- песчаный карьер на месте бывшей деревни Живица<br />- фундамент на  месте бывшей пограничной заставы<br />- место слияния рек Сула и Тонва<br />- таинственный могильный курган посреди леса<br />- место зачарованного фольварка Гранова Горка<br />- легендарная деревня (о)ливье (дегустация салата в программу не входит)<br />- успеваем на последнюю электричку.<br /><br />По мотивам ПГ зимнее оливье 2016 добираем КП которые не добрались в прошлый раз. А также навещаем взятые.<br /><br />Отправление электричка 7:50 на Барановичи до станции Энергетик.<br />Обратно 16:03/18:00/19:00/20:50 на последнюю электричку на девять вечера нужно успеть.<br /><br />телефон для связи +375 29 753-06-66 Дима (Непал/Каркасс)\n\n</BODY>\n</HTML>

LOCATION:Ливье, Беларусь
END:VEVENT

END:VCALENDAR
