BEGIN:VCALENDAR
VERSION:2.0
PRODID:-//hacksw/handcal//NONSGML v1.0//EN
BEGIN:VEVENT
UID:d11a01d8c11f283be48e2ba2e82a3073
DTSTAMP:20260420T142224Z

DTSTART:20180210T190000
DTEND:20180211T193000
SUMMARY:77Б: По следам Тихомирова Кирилла 2
DESCRIPTION:Скажу стихами невзначай я,\nЧто по природе я скучаю!\nРаз в месяц выбраться б, ребята,\nЧтоб «зарядить аккумулятор».\n\nПосле «декабрьских каникул»\nУ Глаза прошвырнуться стимул.\nБля, по болоту с рюкзаком.\nЕстественно, теперь пешком.\n\nПогода эта заебала,\nНо наше где не пропадала.\nА в феврале, на то надеюсь, -\nМороза хоть бы на неделю.\n\nЗима теперь совсем отстойна.\nИ что ни год, то не достойна.\nТеперь уж целый менеджмент,\nС погодой подгадать момент.\n\nПешком по лету смысла нет, -\nУдобнее велосипед.\nЕсть лишь два месяца, друзья,\nИх игнорировать нельзя!\n\nПотом погода ерунда:\nВсе тает и везде вода.\nВесною лучше на байдарке,\n(Для Синих с Мюцагом в Татарке).\n\nВозможно очень, в этот год, -\n77Б крайний поход.\nОт Глаза пешего формата.\n(Ходить и так нужно когда-то).\n\nЗдесь не получится нежнее:\nЭтот поход будет сложнее.\nЧем, бля, январский предыдущий,\nЗдесь первых нет и отстающих. \n\nБолотный лес зовет и манит.\nЗимой в походы очень тянет.\nЗдесь предложу не плагиат.\n(Пусть что угодно говорят).\n\nЗаказник есть Выгонощанский,\nК нашим событиям причастный.\nВ 13-ом году когда-то\nС востока мы прошли на запад.\n\nАнонс кладу теперь на сервер,\nНа этот раз идти на север.\nВнимательнее трек смотри,\nПуть километра тридцать три.\n\nХодил заказником Кирилл,\nИменно так трек проложил,\nКак собирался сделать Глаз:\nПо «дюнам»: так не в первый раз.\n\nКак шли Ольманское Болото.\nТам тоже «дюны» отчего то,\nБыстрей по ним передвигаться,\nЧем среди кочек пробираться.\n\nВыгонощанский же заказник,\nДля ПВД он просто праздник.\nБолотная всё поебень,\nИ нет в округе деревень!\n\nЛетом пройти сложней гораздо:\nКусает всякая зараза.\nВ июне всё в цветах пушицы,\nИ негде от жарищи скрыться.\n\nВ места такие рады мы\nХодить в условиях зимы.\nПо льду передвигаться проще\nЧерез болотистые рощи.\n\nГде речка Щара протекает, \nМышанка там в неё впадает.\nПо Щаре как-то мы ходили,\n И на Мышанке тоже были.\n\nБобровичское озеро\nПридется перейти,\nСтрого на север вроде бы \nЗалив нужно найти.\n\nСветовой день более длинный,\nТемно в седьмого половине.\nИдти пересечёнкой много,\nСамим прокладывать дорогу.\n\nИ это будет Предполесье:\nБолотистое редколесье.\nНа кочках будет, говорю вам,\nЕще с того сезона клюква.\n\nКонец заказника земель бля,\nКак раз Добромысель деревня.\nОттуда и уехать можно,\nГде есть асфальт – это не сложно.\n\nЭпистолирую анонсы,\nОрганизации вопросы,\nЧтобы заранее решить, \nИдти, как ехать, жить и быть.\n10-11 февраля будет проводиться поход выходного дня 77Б. Формат пешеходный. Начало маршрута с южного берега Бобровичского озера. Далее через заболоченную территорию Выгонощанского гидрологически-ландшафтного заказника. Сам маршрут просится, как и 71-ый «Прорыв через Ольманы» проложить его по точно таким же «дюнам». Бог весть откуда они там взялись. Без трека любой имеющий минимальный навык работы с Гугл-Землей проложил бы маршрут именно так. Удивительным образом оказалось, что уже так ходил Тихомиров Кирилл – конкурирующая фирма, харизматичный турист камерного типа, точно такой же по возрасту и во многом с нами схожий. Может более дисциплинированный и спортивный, менее разве что мизантропичный, эпилептойдный и агрессивный.\nТо, что заявлено в анонсе уже нельзя взять назад. ПВД состоится в любом случае в вышеуказанные даты. Привожу две ссылки. Одна про пересечение этого самого заказника в 2013-ом году на лыжах (52-ой). Другая, про «Ольманский Прорыв» (71-ый). Должно получится что-то среднее между этими двумя мероприятиями. Желающие записывайтесь. Группа возможно камерная. Не балуем. Будет как обычно цейтнот и хардкор. \nhttp://magadan.by/tours/ski-tuurizm/52-oy-baydarochnyiy-pohod-na-lyizhah-bez-i-na-samokate-mart-13-ogo\nhttp://magadan.by/tours/by-food/71-proryv-cherez-olmany-10-14-2-2017\n\n\n\n\n\n\n\n\n\n\n\n \n

X-ALT-DESC;FMTTYPE=text/html:<!DOCTYPE HTML PUBLIC "-//W3C//DTD HTML 3.2//EN">\n<HTML>\n<HEAD>\n<META NAME="Generator" CONTENT="MS Exchange Server version 08.00.0681.000">\n<TITLE></TITLE>\n</HEAD>\n<BODY>\n<!-- Converted from text/rtf format -->\n\nСкажу стихами невзначай я,<br />Что по природе я скучаю!<br />Раз в месяц выбраться б, ребята,<br />Чтоб «зарядить аккумулятор».<br /><br />После «декабрьских каникул»<br />У Глаза прошвырнуться стимул.<br />Бля, по болоту с рюкзаком.<br />Естественно, теперь пешком.<br /><br />Погода эта заебала,<br />Но наше где не пропадала.<br />А в феврале, на то надеюсь, -<br />Мороза хоть бы на неделю.<br /><br />Зима теперь совсем отстойна.<br />И что ни год, то не достойна.<br />Теперь уж целый менеджмент,<br />С погодой подгадать момент.<br /><br />Пешком по лету смысла нет, -<br />Удобнее велосипед.<br />Есть лишь два месяца, друзья,<br />Их игнорировать нельзя!<br /><br />Потом погода ерунда:<br />Все тает и везде вода.<br />Весною лучше на байдарке,<br />(Для Синих с Мюцагом в Татарке).<br /><br />Возможно очень, в этот год, -<br />77Б крайний поход.<br />От Глаза пешего формата.<br />(Ходить и так нужно когда-то).<br /><br />Здесь не получится нежнее:<br />Этот поход будет сложнее.<br />Чем, бля, январский предыдущий,<br />Здесь первых нет и отстающих. <br /><br />Болотный лес зовет и манит.<br />Зимой в походы очень тянет.<br />Здесь предложу не плагиат.<br />(Пусть что угодно говорят).<br /><br />Заказник есть Выгонощанский,<br />К нашим событиям причастный.<br />В 13-ом году когда-то<br />С востока мы прошли на запад.<br /><br />Анонс кладу теперь на сервер,<br />На этот раз идти на север.<br />Внимательнее трек смотри,<br />Путь километра тридцать три.<br /><br />Ходил заказником Кирилл,<br />Именно так трек проложил,<br />Как собирался сделать Глаз:<br />По «дюнам»: так не в первый раз.<br /><br />Как шли Ольманское Болото.<br />Там тоже «дюны» отчего то,<br />Быстрей по ним передвигаться,<br />Чем среди кочек пробираться.<br /><br />Выгонощанский же заказник,<br />Для ПВД он просто праздник.<br />Болотная всё поебень,<br />И нет в округе деревень!<br /><br />Летом пройти сложней гораздо:<br />Кусает всякая зараза.<br />В июне всё в цветах пушицы,<br />И негде от жарищи скрыться.<br /><br />В места такие рады мы<br />Ходить в условиях зимы.<br />По льду передвигаться проще<br />Через болотистые рощи.<br /><br />Где речка Щара протекает, <br />Мышанка там в неё впадает.<br />По Щаре как-то мы ходили,<br /> И на Мышанке тоже были.<br /><br />Бобровичское озеро<br />Придется перейти,<br />Строго на север вроде бы <br />Залив нужно найти.<br /><br />Световой день более длинный,<br />Темно в седьмого половине.<br />Идти пересечёнкой много,<br />Самим прокладывать дорогу.<br /><br />И это будет Предполесье:<br />Болотистое редколесье.<br />На кочках будет, говорю вам,<br />Еще с того сезона клюква.<br /><br />Конец заказника земель бля,<br />Как раз Добромысель деревня.<br />Оттуда и уехать можно,<br />Где есть асфальт – это не сложно.<br /><br />Эпистолирую анонсы,<br />Организации вопросы,<br />Чтобы заранее решить, <br />Идти, как ехать, жить и быть.<br />10-11 февраля будет проводиться поход выходного дня 77Б. Формат пешеходный. Начало маршрута с южного берега Бобровичского озера. Далее через заболоченную территорию Выгонощанского гидрологически-ландшафтного заказника. Сам маршрут просится, как и 71-ый «Прорыв через Ольманы» проложить его по точно таким же «дюнам». Бог весть откуда они там взялись. Без трека любой имеющий минимальный навык работы с Гугл-Землей проложил бы маршрут именно так. Удивительным образом оказалось, что уже так ходил Тихомиров Кирилл – конкурирующая фирма, харизматичный турист камерного типа, точно такой же по возрасту и во многом с нами схожий. Может более дисциплинированный и спортивный, менее разве что мизантропичный, эпилептойдный и агрессивный.<br />То, что заявлено в анонсе уже нельзя взять назад. ПВД состоится в любом случае в вышеуказанные даты. Привожу две ссылки. Одна про пересечение этого самого заказника в 2013-ом году на лыжах (52-ой). Другая, про «Ольманский Прорыв» (71-ый). Должно получится что-то среднее между этими двумя мероприятиями. Желающие записывайтесь. Группа возможно камерная. Не балуем. Будет как обычно цейтнот и хардкор. <br />http://magadan.by/tours/ski-tuurizm/52-oy-baydarochnyiy-pohod-na-lyizhah-bez-i-na-samokate-mart-13-ogo<br />http://magadan.by/tours/by-food/71-proryv-cherez-olmany-10-14-2-2017<br /><br /><br /><br /><br /><br /><br /><br /><br /><br /><br /><br /> <br />\n\n</BODY>\n</HTML>

LOCATION:
END:VEVENT

END:VCALENDAR
