BEGIN:VCALENDAR
VERSION:2.0
PRODID:-//hacksw/handcal//NONSGML v1.0//EN
BEGIN:VEVENT
UID:5c857a75f307d90065ac10b8d281075b
DTSTAMP:20260420T161829Z

DTSTART:20180127T050000
DTEND:20180128T190000
SUMMARY:Зимняя прогулка к реке
DESCRIPTION:Зима! Время пеших прогулок, которых ждали многие.\nВ этот раз я приглашаю желающих присоединиться в ПВД в пешем (при наличии подходящих погодных условий - лыжном) формате. Планируемый трек вполне умеренный - чуть больше 30 км, местность хорошо знакома - окрестности Столбцов с ночевкой на Немане.\nОсновная цель мероприятия на сей раз не краеведческая, а преимущественно коммуникативная.\nПри удачном стечении организационных обстоятельств возможны кулинарные и прочие банно-развлекательные мероприятия, интерес к которым был продемонстрирован в горном велопоходе, поэтому заинтересованные лица (Максим Белякович и Эдуард Кисиль) приглашаются особо.\nВ общем, подходим, интересуемся, записываемся.\n\nТребования к участникам традиционны - хотеть, мочь, не злоупотреблять.\nЗапись - через телефон и прочие современные коммуникативные средства.\nЛогистика железнодорожная. Стоимость питания - около 20 рублей на человека.

X-ALT-DESC;FMTTYPE=text/html:<!DOCTYPE HTML PUBLIC "-//W3C//DTD HTML 3.2//EN">\n<HTML>\n<HEAD>\n<META NAME="Generator" CONTENT="MS Exchange Server version 08.00.0681.000">\n<TITLE></TITLE>\n</HEAD>\n<BODY>\n<!-- Converted from text/rtf format -->\n\nЗима! Время пеших прогулок, которых ждали многие.<br />В этот раз я приглашаю желающих присоединиться в ПВД в пешем (при наличии подходящих погодных условий - лыжном) формате. Планируемый трек вполне умеренный - чуть больше 30 км, местность хорошо знакома - окрестности Столбцов с ночевкой на Немане.<br />Основная цель мероприятия на сей раз не краеведческая, а преимущественно коммуникативная.<br />При удачном стечении организационных обстоятельств возможны кулинарные и прочие банно-развлекательные мероприятия, интерес к которым был продемонстрирован в горном велопоходе, поэтому заинтересованные лица (Максим Белякович и Эдуард Кисиль) приглашаются особо.<br />В общем, подходим, интересуемся, записываемся.<br /><br />Требования к участникам традиционны - хотеть, мочь, не злоупотреблять.<br />Запись - через телефон и прочие современные коммуникативные средства.<br />Логистика железнодорожная. Стоимость питания - около 20 рублей на человека.\n\n</BODY>\n</HTML>

LOCATION:
END:VEVENT

END:VCALENDAR
