BEGIN:VCALENDAR
VERSION:2.0
PRODID:-//hacksw/handcal//NONSGML v1.0//EN
BEGIN:VEVENT
UID:56a58d6a97baa5df58f29d5a33493794
DTSTAMP:20260420T142242Z

DTSTART:20180224T120000
DTEND:20180224T221500
SUMMARY:Магадану 9 лет
DESCRIPTION:Уж Магадану девять лет,\nНе знаю, много это или нет…\nМожно сказать за эти годы\nСоздать успели очень много.\nСтареем вроде – это нипочем,\nЗдесь жизнь всегда била ключом!\n\nСказать уверенно берусь я,\nЧто мы известны в Беларуси.\nПроводим время мы отлично,\nВ походах очень динамично.\n\nЗа девять лет это зачетно:\nПорядка тысячи отчетов!\nК походам страсть не утихает,\nАктивность только возрастает!\n\nСмирнов есть, Константин Минкевич,\nS.klim, был Леня Мацукевич,\nТурко, Бай, Рощина, Паленый,\nСостав разбух определенно!\n\nПолянская, Ухват, Капризка,\nУчастников до сотни близко!\nЛазовская, Гюго, Конькова,\nИ не забудем про Глазкова!\n\nБыл Горбиков и есть Гламурный,\nЭкспансия проходит бурно!\nМы по TV когда-то выступали,\nО нас в газетах много раз писали!\n\nМазаник, Басков, Волосач,\nС Надира есть Михайлович усач!\nМатрос, Лимонов Эдуард,\nУпомянуть про всех здесь рад!\n\nЖанна Сергей и Довгулевич,\nКалина, Леха Михасевич!\nВиталий Роговцов, Потапов,\nЖаль что уехал Новик в Штаты.\n\nЖелтый, Шаро, Электрик-Слава,\nСредь нас туристов много стало!\nЕсть Опытный и Прокопенко,\nМощный Антон, Сергей Савенко!\n\nМиша-БХ и Ярошевич Маша,\nБыстро расширилась сеть наша!\nА Миша Миндибеков, а Марат,\nВ походах наших был стократ!\n\nЛившиц, Свидрицкая и Ашик,\nБорушко, есть Сантехник даже!\nЮля Кутилова и Игорь Пузо,\nОн вырос (раньше был обузой).\n\nКрасочко Вита, Алисейчик Женя,\nДядя Борис ходил в былое время.\nВстречался раньше Коля Армянин,\nНо Волосач поссорился вдруг с ним.\n\nПолковник Малышев и Ковальчук,\nБывает ходит с нами Назарчук\nЖивет последний на Мирошниченко,\nРаньше ходил в походы Павлюченко.\n\nПрофессор Мориарти и Перепелица,\nВиктор Коровкин пробовал водиться!\nА Дима Рыбинский, Виталий Ким,\nИз Жлобина Хайруллин с ним.\nВстречался Сонька и Петров Кирилл,\nВ поездках на велосипедах был!\n\nНе только ходим мы в походы,\nДруг другу помогаем мимоходом.\nА если что-нибудь случиться,\nОдин к другому может обратиться!\n\nРюкзак, весло, байдарка, ледорубы, \nСпальный мешок, с катамарана трубы…\nВеревка, лыжи, карабины, кошки…\nБотинки, котелки, миска и ложка…\n\nТопор, пила, палатка, ледоруб,\nГидрокостюмы и жумар для рук.\nГорелки, газ, бензин, рейншнур,\nЗакладки, петли, крючья, ледобур.\n \nВсе атрибуты хоть замысловаты,\nТуризм вот этим и пиздатый!\nПоходы наши не коммерческое лобби,\nДля большинства они, конечно, хобби!\n\nИ вот причина веская создалась,\nНа девять лет чтобы компания собралась!\nПо настоящему, ведь не лгуны мы,\nИ приглашаем в стены Джомолунгмы!\n\nНо будет не Непала панорама,\nА ожидается культурная программа!\nКафе от ЦУМа на востоке,\nСтол, выпивка и даже караоке!\n Призы планируются, сувениры,\nИ можно пригласить друзей с Надира!\n\nНа майки скидывайтесь с логотипом,\nУже составлены их прототипы!\nЖелающие все на вечер приходите\n1350315 предварительно звоните!\n\n24 планируется это февраля,\nЗатеяли всё это мы не зря!\nВедь Магадану будет девять лет,\nНе знаю, много это или нет…\n\nMagadan.by в феврале этого года исполняется 9 лет. Это событие мы хотим отметить пафосно, в стенах ресторана Джомолунгма. Дата 24 февраля 2018. Начало мероприятия и формат будут уточнены. В программе (пока в фазе разработки) конкурсы, поздравления, краоке-батл. Имеющим конструктивные идеи просьба вносить на рассмотрение. Участников ожидают призы. Желающим просьба определиться до 5 февраля. Для заказа ресторана необходимо оценить количество мест. Ориентировочная стоимость 40 у.е. \nЗвоните  по телефону +375291350315 Катя\n\n\n

X-ALT-DESC;FMTTYPE=text/html:<!DOCTYPE HTML PUBLIC "-//W3C//DTD HTML 3.2//EN">\n<HTML>\n<HEAD>\n<META NAME="Generator" CONTENT="MS Exchange Server version 08.00.0681.000">\n<TITLE></TITLE>\n</HEAD>\n<BODY>\n<!-- Converted from text/rtf format -->\n\nУж Магадану девять лет,<br />Не знаю, много это или нет…<br />Можно сказать за эти годы<br />Создать успели очень много.<br />Стареем вроде – это нипочем,<br />Здесь жизнь всегда била ключом!<br /><br />Сказать уверенно берусь я,<br />Что мы известны в Беларуси.<br />Проводим время мы отлично,<br />В походах очень динамично.<br /><br />За девять лет это зачетно:<br />Порядка тысячи отчетов!<br />К походам страсть не утихает,<br />Активность только возрастает!<br /><br />Смирнов есть, Константин Минкевич,<br />S.klim, был Леня Мацукевич,<br />Турко, Бай, Рощина, Паленый,<br />Состав разбух определенно!<br /><br />Полянская, Ухват, Капризка,<br />Участников до сотни близко!<br />Лазовская, Гюго, Конькова,<br />И не забудем про Глазкова!<br /><br />Был Горбиков и есть Гламурный,<br />Экспансия проходит бурно!<br />Мы по TV когда-то выступали,<br />О нас в газетах много раз писали!<br /><br />Мазаник, Басков, Волосач,<br />С Надира есть Михайлович усач!<br />Матрос, Лимонов Эдуард,<br />Упомянуть про всех здесь рад!<br /><br />Жанна Сергей и Довгулевич,<br />Калина, Леха Михасевич!<br />Виталий Роговцов, Потапов,<br />Жаль что уехал Новик в Штаты.<br /><br />Желтый, Шаро, Электрик-Слава,<br />Средь нас туристов много стало!<br />Есть Опытный и Прокопенко,<br />Мощный Антон, Сергей Савенко!<br /><br />Миша-БХ и Ярошевич Маша,<br />Быстро расширилась сеть наша!<br />А Миша Миндибеков, а Марат,<br />В походах наших был стократ!<br /><br />Лившиц, Свидрицкая и Ашик,<br />Борушко, есть Сантехник даже!<br />Юля Кутилова и Игорь Пузо,<br />Он вырос (раньше был обузой).<br /><br />Красочко Вита, Алисейчик Женя,<br />Дядя Борис ходил в былое время.<br />Встречался раньше Коля Армянин,<br />Но Волосач поссорился вдруг с ним.<br /><br />Полковник Малышев и Ковальчук,<br />Бывает ходит с нами Назарчук<br />Живет последний на Мирошниченко,<br />Раньше ходил в походы Павлюченко.<br /><br />Профессор Мориарти и Перепелица,<br />Виктор Коровкин пробовал водиться!<br />А Дима Рыбинский, Виталий Ким,<br />Из Жлобина Хайруллин с ним.<br />Встречался Сонька и Петров Кирилл,<br />В поездках на велосипедах был!<br /><br />Не только ходим мы в походы,<br />Друг другу помогаем мимоходом.<br />А если что-нибудь случиться,<br />Один к другому может обратиться!<br /><br />Рюкзак, весло, байдарка, ледорубы, <br />Спальный мешок, с катамарана трубы…<br />Веревка, лыжи, карабины, кошки…<br />Ботинки, котелки, миска и ложка…<br /><br />Топор, пила, палатка, ледоруб,<br />Гидрокостюмы и жумар для рук.<br />Горелки, газ, бензин, рейншнур,<br />Закладки, петли, крючья, ледобур.<br /> <br />Все атрибуты хоть замысловаты,<br />Туризм вот этим и пиздатый!<br />Походы наши не коммерческое лобби,<br />Для большинства они, конечно, хобби!<br /><br />И вот причина веская создалась,<br />На девять лет чтобы компания собралась!<br />По настоящему, ведь не лгуны мы,<br />И приглашаем в стены Джомолунгмы!<br /><br />Но будет не Непала панорама,<br />А ожидается культурная программа!<br />Кафе от ЦУМа на востоке,<br />Стол, выпивка и даже караоке!<br /> Призы планируются, сувениры,<br />И можно пригласить друзей с Надира!<br /><br />На майки скидывайтесь с логотипом,<br />Уже составлены их прототипы!<br />Желающие все на вечер приходите<br />1350315 предварительно звоните!<br /><br />24 планируется это февраля,<br />Затеяли всё это мы не зря!<br />Ведь Магадану будет девять лет,<br />Не знаю, много это или нет…<br /><br />Magadan.by в феврале этого года исполняется 9 лет. Это событие мы хотим отметить пафосно, в стенах ресторана Джомолунгма. Дата 24 февраля 2018. Начало мероприятия и формат будут уточнены. В программе (пока в фазе разработки) конкурсы, поздравления, краоке-батл. Имеющим конструктивные идеи просьба вносить на рассмотрение. Участников ожидают призы. Желающим просьба определиться до 5 февраля. Для заказа ресторана необходимо оценить количество мест. Ориентировочная стоимость 40 у.е. <br />Звоните  по телефону +375291350315 Катя<br /><br /><br />\n\n</BODY>\n</HTML>

LOCATION:
END:VEVENT

END:VCALENDAR
