BEGIN:VCALENDAR
VERSION:2.0
PRODID:-//hacksw/handcal//NONSGML v1.0//EN
BEGIN:VEVENT
UID:993e489d945a7787a90a311faf680efb
DTSTAMP:20260420T142119Z

DTSTART:20180410T150000
DTEND:20180415T141500
SUMMARY:78: «По весенней Полисти»
DESCRIPTION:В проекте у меня поход есть\nСпустится вниз по речке Полисть.\nСреди туристов её знают,\nИ регулярно посещают.\n\nСравнительно скажу я к Минску,\nЧто Полисть протекает близко, \nРека с наличием порогов, \nИ необычная природа.\n\nПолисть не скучна, динамична,\nНа фотках очень симпатична.\nИ Тихомиров же Кирилл\nТоже по Полисти ходил.\n\nПопасть в неё можно по Цавле.\nВыходов нет, болото, цапли.\nВпадает в озеро Полисто:\nБерег везде затоплен, низкий.\n\nПолисто озеро огромно,\nДай Бог без волн, чтоб было ровно.\nВ апреле может быть и влет, -\nА что если там будет лед?!\n\nУ Магадана не отнимешь,\nЭкстрим есть, авантюры, кипишь.\nНо пересечь весной Полисто:\nОй, стремно, там края не близко.\n\nХоть бы с погодой было путно,\nИ чтобы ветер был попутный.\nИначе нужно с ним сражаться.\nКак встречный, можно обосраться.\n\nНе думайте, что Глаз новатор,\nИли истерик-провокатор.\nЭтот маршрут не я придумал,\nА просто взял его из гугла.\n\nЕдешь по Полисти лесами,\nНет населенки, чисто сами.\nДеревни там все нежилые,\nНи как во времена былые.\n\n80 верст до Карабинца,\nТам некуда с маршрута сбиться.\nМеняется потом природа,\nПорог идет вниз за порогом.\n\nПока примите все на веру,\nДальше река это шивера.\nНаверное, ехать там пиздато:\nНиже – сплошные перекаты.\n\nА берега как уникальны,\nТаких красот не все видали!\nЧто поворот, так то обрыв,\nКрасная глина, сучья ив.\n\nРусло извилисто, неровно.\nТам много валунов огромных.\nИ не бывает таких сплавов,\nСовсем чтоб не было завалов.\n\nПорог там Браклавицкий главный\nЗа левым поворотом плавным.\nОгромная косая бочка.\nПеревернуться можно точно!\n\nКилометраж будет длиннее,\n170 верст, если точнее.\nВ четыре дня это чрезмерно\nДолжны мы справиться наверно.\n\n10 апреля вечер 22.00 отъезд. Едем до озеро Цавло. Собираем байдарки. Пару километров идем по озеру Цавло. Оттуда по реке Цавла до озера Полисто. Пересекаем озеро Полисто с юга на север. По воде двигаться можно, но причаливать нельзя, ибо это Полистовский заповедник. Из озера Полисто вытекает река Полисть. Очень долго и очень красиво Полисть бежит порядка 70 километров в лесу. Деревень и дорог нет. Те деревни, которые раньше были, давно вымерли. Характер реки меняется после деревни Карабинец. Река ускоряется. В русле огромные валуны. Перекат идет за перекатом, пороги. Обнести придется несколько встретившихся шлюзов. Берега высокие с древними обнажениями. Овраги. Встречаются высокие срезы-обрывы с красной глиной. Наиболее сильный порог Браклавицкий. Он и последний. Дальше река спокойная, унылая и течет через населенку. Уезжаем после Браклавиц домой. Рано утром 16 апреля дома.\nПоход сильнее уровнем регулярных походов выходного дня. Также подразумевает взятие на работе дней за свой счет. Технически сложнее обычных байдарочных. Хардкорен по темпу. Вместе с тем ехать в Тверскую область за этими впечатлениями относительно недалеко. Желающим присоединиться, просьба записываться.   \n\n\n

X-ALT-DESC;FMTTYPE=text/html:<!DOCTYPE HTML PUBLIC "-//W3C//DTD HTML 3.2//EN">\n<HTML>\n<HEAD>\n<META NAME="Generator" CONTENT="MS Exchange Server version 08.00.0681.000">\n<TITLE></TITLE>\n</HEAD>\n<BODY>\n<!-- Converted from text/rtf format -->\n\nВ проекте у меня поход есть<br />Спустится вниз по речке Полисть.<br />Среди туристов её знают,<br />И регулярно посещают.<br /><br />Сравнительно скажу я к Минску,<br />Что Полисть протекает близко, <br />Река с наличием порогов, <br />И необычная природа.<br /><br />Полисть не скучна, динамична,<br />На фотках очень симпатична.<br />И Тихомиров же Кирилл<br />Тоже по Полисти ходил.<br /><br />Попасть в неё можно по Цавле.<br />Выходов нет, болото, цапли.<br />Впадает в озеро Полисто:<br />Берег везде затоплен, низкий.<br /><br />Полисто озеро огромно,<br />Дай Бог без волн, чтоб было ровно.<br />В апреле может быть и влет, -<br />А что если там будет лед?!<br /><br />У Магадана не отнимешь,<br />Экстрим есть, авантюры, кипишь.<br />Но пересечь весной Полисто:<br />Ой, стремно, там края не близко.<br /><br />Хоть бы с погодой было путно,<br />И чтобы ветер был попутный.<br />Иначе нужно с ним сражаться.<br />Как встречный, можно обосраться.<br /><br />Не думайте, что Глаз новатор,<br />Или истерик-провокатор.<br />Этот маршрут не я придумал,<br />А просто взял его из гугла.<br /><br />Едешь по Полисти лесами,<br />Нет населенки, чисто сами.<br />Деревни там все нежилые,<br />Ни как во времена былые.<br /><br />80 верст до Карабинца,<br />Там некуда с маршрута сбиться.<br />Меняется потом природа,<br />Порог идет вниз за порогом.<br /><br />Пока примите все на веру,<br />Дальше река это шивера.<br />Наверное, ехать там пиздато:<br />Ниже – сплошные перекаты.<br /><br />А берега как уникальны,<br />Таких красот не все видали!<br />Что поворот, так то обрыв,<br />Красная глина, сучья ив.<br /><br />Русло извилисто, неровно.<br />Там много валунов огромных.<br />И не бывает таких сплавов,<br />Совсем чтоб не было завалов.<br /><br />Порог там Браклавицкий главный<br />За левым поворотом плавным.<br />Огромная косая бочка.<br />Перевернуться можно точно!<br /><br />Километраж будет длиннее,<br />170 верст, если точнее.<br />В четыре дня это чрезмерно<br />Должны мы справиться наверно.<br /><br />10 апреля вечер 22.00 отъезд. Едем до озеро Цавло. Собираем байдарки. Пару километров идем по озеру Цавло. Оттуда по реке Цавла до озера Полисто. Пересекаем озеро Полисто с юга на север. По воде двигаться можно, но причаливать нельзя, ибо это Полистовский заповедник. Из озера Полисто вытекает река Полисть. Очень долго и очень красиво Полисть бежит порядка 70 километров в лесу. Деревень и дорог нет. Те деревни, которые раньше были, давно вымерли. Характер реки меняется после деревни Карабинец. Река ускоряется. В русле огромные валуны. Перекат идет за перекатом, пороги. Обнести придется несколько встретившихся шлюзов. Берега высокие с древними обнажениями. Овраги. Встречаются высокие срезы-обрывы с красной глиной. Наиболее сильный порог Браклавицкий. Он и последний. Дальше река спокойная, унылая и течет через населенку. Уезжаем после Браклавиц домой. Рано утром 16 апреля дома.<br />Поход сильнее уровнем регулярных походов выходного дня. Также подразумевает взятие на работе дней за свой счет. Технически сложнее обычных байдарочных. Хардкорен по темпу. Вместе с тем ехать в Тверскую область за этими впечатлениями относительно недалеко. Желающим присоединиться, просьба записываться.   <br /><br /><br />\n\n</BODY>\n</HTML>

LOCATION:
END:VEVENT

END:VCALENDAR
