BEGIN:VCALENDAR
VERSION:2.0
PRODID:-//hacksw/handcal//NONSGML v1.0//EN
BEGIN:VEVENT
UID:a66e3e96539f489284c8cd4dc76f499f
DTSTAMP:20260420T142227Z

DTSTART:20180420T140000
DTEND:20180510T131500
SUMMARY:79: «Уральские Рассказы»
DESCRIPTION:На Кару дорого идти,\nТуда состав сложно найти.\nС деньгами может выйти влёт\nЗа поезд, груз и вертолет.\n\nЧетвертый год подряд настал,\nВесною ходим на Урал.\nС катамараном налегке\nСпускаемся вниз по реке.\n\nЗилим хочу я предложить,\nНо не частично проходить.\nВ отличии от Полисти\nС истока в устье полностью.\n\nИ не нуждается Урал\nРекламу чтобы я давал.\nЭто уж уровень другой\nВ сравнение с местною рекой.\n\nПороги, перекаты, плесы,\nПоток стремиться меж утесов.\nПопасть в сезон нужно туда,\nПока высокая вода.\n\nКатамаран течение прёт.\nЕго река сама несет.\nИной бывает скорость раз\nЗа десять километров в час.\n\nНе исключение и теперь,\nМало финансовых потерь.\nИ сообщить вам очень рад,\nПо-минимуму будет трат.\n\nПоэтому я предлагаю вам\nСплав абсолютно по средстам.\nРасходы уместить вполне\nВ триста-четыреста у.е.\n\nЧего я сам не ожидал, -\nСудебный пристав бус отдал.\n(Максим был как-то оступился,\nЗа что, конечно поплатился!)\n\nЕхать довольно далеко.\nИ по России нелегко.\nВ дороге Глаз всегда бухает,\nЗа что физически страдает.\n\nИ по пути, хочу сказать, \nМузей мы будем посещать. \nНа берегу стоит совсем.\nПодлодка «Сом» Б-307.\n\nЕще заехать бы могли\nМы в песенные Жигули.\nВ дороге много мы проводим, \nКогда в походы ходим.\n\nК проекту Лемезу добавлю\nНа эту реку тоже ставлю.\nПорог там на четверку тянет:\nСвечой катамараны ставит!\n\nПослушай, Друг сердечный,ты ж\nТам будет по пути Атыш,\nЯ сообщить в анонсе рад,\nЭто прикольный водопад!\n\nА Лемеза впадает в Сим.\nДальше не нужно нам, хуй с ним.\nОттуда можно по прямой\nСкорей направиться домой.\n\nЕще участника ищу.\nСоздать эскадру я хочу.\nЧтоб получился в этот год,\nНе хуже тех других поход.\n\nОт Организации Magadan.by будет проводиться стратегический поход номер 79 - сплав в сроки 20 апреля-10 мая. По рекам Зигаза-Зилим 250км, Малый Инзер 33км, Лемеза 105км. Суммарно сплавная часть 393км. Заброска и все переезды на бусе с прицепом. Достопримечательности, запланированные для посещения по дороге, - Взорванная церковь Михаила Архангела, Конь-Камень, Ишутинское Городище, дизель-электрическая подводная лодка Б-307. Требуется один активный участник. Самостоятельный. Мотивированный.\nДля друзей будут традиционно организованы проводы. При желании присоединиться экипажа 2-4 участника придется дополнительно решать вопросы заброски оных. Руководитель проекта Глаз.\n\n

X-ALT-DESC;FMTTYPE=text/html:<!DOCTYPE HTML PUBLIC "-//W3C//DTD HTML 3.2//EN">\n<HTML>\n<HEAD>\n<META NAME="Generator" CONTENT="MS Exchange Server version 08.00.0681.000">\n<TITLE></TITLE>\n</HEAD>\n<BODY>\n<!-- Converted from text/rtf format -->\n\nНа Кару дорого идти,<br />Туда состав сложно найти.<br />С деньгами может выйти влёт<br />За поезд, груз и вертолет.<br /><br />Четвертый год подряд настал,<br />Весною ходим на Урал.<br />С катамараном налегке<br />Спускаемся вниз по реке.<br /><br />Зилим хочу я предложить,<br />Но не частично проходить.<br />В отличии от Полисти<br />С истока в устье полностью.<br /><br />И не нуждается Урал<br />Рекламу чтобы я давал.<br />Это уж уровень другой<br />В сравнение с местною рекой.<br /><br />Пороги, перекаты, плесы,<br />Поток стремиться меж утесов.<br />Попасть в сезон нужно туда,<br />Пока высокая вода.<br /><br />Катамаран течение прёт.<br />Его река сама несет.<br />Иной бывает скорость раз<br />За десять километров в час.<br /><br />Не исключение и теперь,<br />Мало финансовых потерь.<br />И сообщить вам очень рад,<br />По-минимуму будет трат.<br /><br />Поэтому я предлагаю вам<br />Сплав абсолютно по средстам.<br />Расходы уместить вполне<br />В триста-четыреста у.е.<br /><br />Чего я сам не ожидал, -<br />Судебный пристав бус отдал.<br />(Максим был как-то оступился,<br />За что, конечно поплатился!)<br /><br />Ехать довольно далеко.<br />И по России нелегко.<br />В дороге Глаз всегда бухает,<br />За что физически страдает.<br /><br />И по пути, хочу сказать, <br />Музей мы будем посещать. <br />На берегу стоит совсем.<br />Подлодка «Сом» Б-307.<br /><br />Еще заехать бы могли<br />Мы в песенные Жигули.<br />В дороге много мы проводим, <br />Когда в походы ходим.<br /><br />К проекту Лемезу добавлю<br />На эту реку тоже ставлю.<br />Порог там на четверку тянет:<br />Свечой катамараны ставит!<br /><br />Послушай, Друг сердечный,ты ж<br />Там будет по пути Атыш,<br />Я сообщить в анонсе рад,<br />Это прикольный водопад!<br /><br />А Лемеза впадает в Сим.<br />Дальше не нужно нам, хуй с ним.<br />Оттуда можно по прямой<br />Скорей направиться домой.<br /><br />Еще участника ищу.<br />Создать эскадру я хочу.<br />Чтоб получился в этот год,<br />Не хуже тех других поход.<br /><br />От Организации Magadan.by будет проводиться стратегический поход номер 79 - сплав в сроки 20 апреля-10 мая. По рекам Зигаза-Зилим 250км, Малый Инзер 33км, Лемеза 105км. Суммарно сплавная часть 393км. Заброска и все переезды на бусе с прицепом. Достопримечательности, запланированные для посещения по дороге, - Взорванная церковь Михаила Архангела, Конь-Камень, Ишутинское Городище, дизель-электрическая подводная лодка Б-307. Требуется один активный участник. Самостоятельный. Мотивированный.<br />Для друзей будут традиционно организованы проводы. При желании присоединиться экипажа 2-4 участника придется дополнительно решать вопросы заброски оных. Руководитель проекта Глаз.<br /><br />\n\n</BODY>\n</HTML>

LOCATION:
END:VEVENT

END:VCALENDAR
