BEGIN:VCALENDAR
VERSION:2.0
PRODID:-//hacksw/handcal//NONSGML v1.0//EN
BEGIN:VEVENT
UID:e01d6967e93b8cbd792acd7286359a48
DTSTAMP:20260420T154647Z

DTSTART:20180429T140000
DTEND:20180514T131500
SUMMARY:В Крым на скалы!
DESCRIPTION:Едем из Гомеля в Крым на авто.\n\nЦель - полазить/похожить на южном берегу, отлично отдохнуть. Пока не жарко, пока не выгорела трава, когда всё уже цветёт - будет очень красиво!\n\n30-35 часов в пути (включая паромную переправу). 2200+ км дистанции. \n

X-ALT-DESC;FMTTYPE=text/html:<!DOCTYPE HTML PUBLIC "-//W3C//DTD HTML 3.2//EN">\n<HTML>\n<HEAD>\n<META NAME="Generator" CONTENT="MS Exchange Server version 08.00.0681.000">\n<TITLE></TITLE>\n</HEAD>\n<BODY>\n<!-- Converted from text/rtf format -->\n\nЕдем из Гомеля в Крым на авто.<br /><br />Цель - полазить/похожить на южном берегу, отлично отдохнуть. Пока не жарко, пока не выгорела трава, когда всё уже цветёт - будет очень красиво!<br /><br />30-35 часов в пути (включая паромную переправу). 2200+ км дистанции. <br />\n\n</BODY>\n</HTML>

LOCATION:Гомель, Беларусь
END:VEVENT

END:VCALENDAR
