BEGIN:VCALENDAR
VERSION:2.0
PRODID:-//hacksw/handcal//NONSGML v1.0//EN
BEGIN:VEVENT
UID:0205cc931eca1f2666ab81d82d3ad178
DTSTAMP:20260420T154420Z

DTSTART:20180608T210000
DTEND:20180610T204500
SUMMARY:О! Боль
DESCRIPTION:Витя Куцко говорил:\nЯкобы, жизнь это боль!\nЯ тут анонс разместил,\nПланы сходить на О! Боль!\n\nВ Витебской области есть\nРяд замечательных рек.\nВ гугл предлагаю залезть\nТебе, дорогой человек!\n\nГде Городокский район,\nОболь оттуда течет.\nИ к юго-западу он,\nВоду Двине блять несет!\n\nВ июне ходить благодать:\nДлинный световой день.\nИ на обед можно стать,\nЕсли совсем ехать лень.\n\nНе был вот лично я сам,\nНе довелось до сих пор!\nТридцать килОметров там\nСплошь тростника коридор.\n\nЭтот участок пути \nНужно быстрей проплывать.\nНегде на берег сойти,\nДаже хотя бы посрать.\n\nДальше с обеих сторон\nЛес берегами идет.\nТянется длительно он,\nРусло петлисто течет!\n\nВстретится пару запруд,\nМельниц разрушенных там.\nЭто тяжелый маршрут,\nСкажу откровенно я вам.\n\nДевять десятков кило\nЗа ПВД предстоит.\nЛишь бы с водой повезло.\nС ней быстрей речка бежит.\n\nГлаза чтоб не подставлять,\nЗдесь поумерю я пыл.\nОтставших чтобы не искать,\nВзвесьте запас своих сил.\n\nЛетом тем (в прошлом году)\nЖдали четыре часа.\nБольше я так не могу,\nКак быть, - не знаю и сам.\n\nКомпании любит Глазков,\nИ веселей ходить так.\nНо случай бывает таков, -\nВыходит не сплав, а бардак.\n\nКоманду покрепче ищу,\nЧтобы на Оболь пойти.\nНа этой реки я хочу\nСвои впечатления найти!\n\n Уборть, Случь, Свольна, Эсса… Все это не забываемые июньские походы! \nВ 2018-ом не будем изменять традиции. 9-10 июня будет проводиться сплав по реке Оболь. От истока (озеро Езерище) до шоссейного моста, который первый после устья притока Свины. Сразу отмечу, что идти 90 километров, не больше, не меньше. Июнь тепло, светло, привольно. Обычно записывается много желающих. В каждом июньском походе, тем не менее, большие группы доставляют Глазу в большей или меньшей степени заботы по субъективным причинам. В последний раз при прохождении 28 (!) километров пути разница между авангардом и арьергардом (резкое меньшинство) составила 4 часа (!). Последствия: нервы, приезд домой не в 11 вечера, а в три утра, расходы на такси и пр., плюс утром большинству на работу. Километраж прошу учесть. Не подводите.\nВсе остальные организационные вопросы «по обычной схеме». Предварительная заявка-за неделю подтверждение-за пять дней информационное письмо в почту. После рассылки письма выбывать из состава категорически нельзя.\n В последнее время неплохо себя зарекомендовал регламентированный режим движения по «пешеходным сериям». Попробую сымпровизировать нечто и в этот раз. Что-то типа «каботажных серий», естественно более длинных, нежели пешеходные.\nПопулярность реки примерно, как у Эссы. Из нашего клуба по Оболю никто не ходил. Верховья сильно заболочены (Эсса, Страча, Нарочанка, Нища, Свольна – это типично). Потом река довольно лесиста. После завершения нашего маршрута что-то типа Уллы в районе Чашников. Все новое мне очень любопытно. Чем удивит река, не знаю. Информации по ней сравнительно мало. Знаю, что витебские туристы водят по ней коммерсов.\n Кулинарная программа и деятельность кружка ХУЕК в разработке. \nЖелающих просьба записываться. Фотографы и корреспонденты могут рассчитывать на преференции.\n

X-ALT-DESC;FMTTYPE=text/html:<!DOCTYPE HTML PUBLIC "-//W3C//DTD HTML 3.2//EN">\n<HTML>\n<HEAD>\n<META NAME="Generator" CONTENT="MS Exchange Server version 08.00.0681.000">\n<TITLE></TITLE>\n</HEAD>\n<BODY>\n<!-- Converted from text/rtf format -->\n\nВитя Куцко говорил:<br />Якобы, жизнь это боль!<br />Я тут анонс разместил,<br />Планы сходить на О! Боль!<br /><br />В Витебской области есть<br />Ряд замечательных рек.<br />В гугл предлагаю залезть<br />Тебе, дорогой человек!<br /><br />Где Городокский район,<br />Оболь оттуда течет.<br />И к юго-западу он,<br />Воду Двине блять несет!<br /><br />В июне ходить благодать:<br />Длинный световой день.<br />И на обед можно стать,<br />Если совсем ехать лень.<br /><br />Не был вот лично я сам,<br />Не довелось до сих пор!<br />Тридцать килОметров там<br />Сплошь тростника коридор.<br /><br />Этот участок пути <br />Нужно быстрей проплывать.<br />Негде на берег сойти,<br />Даже хотя бы посрать.<br /><br />Дальше с обеих сторон<br />Лес берегами идет.<br />Тянется длительно он,<br />Русло петлисто течет!<br /><br />Встретится пару запруд,<br />Мельниц разрушенных там.<br />Это тяжелый маршрут,<br />Скажу откровенно я вам.<br /><br />Девять десятков кило<br />За ПВД предстоит.<br />Лишь бы с водой повезло.<br />С ней быстрей речка бежит.<br /><br />Глаза чтоб не подставлять,<br />Здесь поумерю я пыл.<br />Отставших чтобы не искать,<br />Взвесьте запас своих сил.<br /><br />Летом тем (в прошлом году)<br />Ждали четыре часа.<br />Больше я так не могу,<br />Как быть, - не знаю и сам.<br /><br />Компании любит Глазков,<br />И веселей ходить так.<br />Но случай бывает таков, -<br />Выходит не сплав, а бардак.<br /><br />Команду покрепче ищу,<br />Чтобы на Оболь пойти.<br />На этой реки я хочу<br />Свои впечатления найти!<br /><br /> Уборть, Случь, Свольна, Эсса… Все это не забываемые июньские походы! <br />В 2018-ом не будем изменять традиции. 9-10 июня будет проводиться сплав по реке Оболь. От истока (озеро Езерище) до шоссейного моста, который первый после устья притока Свины. Сразу отмечу, что идти 90 километров, не больше, не меньше. Июнь тепло, светло, привольно. Обычно записывается много желающих. В каждом июньском походе, тем не менее, большие группы доставляют Глазу в большей или меньшей степени заботы по субъективным причинам. В последний раз при прохождении 28 (!) километров пути разница между авангардом и арьергардом (резкое меньшинство) составила 4 часа (!). Последствия: нервы, приезд домой не в 11 вечера, а в три утра, расходы на такси и пр., плюс утром большинству на работу. Километраж прошу учесть. Не подводите.<br />Все остальные организационные вопросы «по обычной схеме». Предварительная заявка-за неделю подтверждение-за пять дней информационное письмо в почту. После рассылки письма выбывать из состава категорически нельзя.<br /> В последнее время неплохо себя зарекомендовал регламентированный режим движения по «пешеходным сериям». Попробую сымпровизировать нечто и в этот раз. Что-то типа «каботажных серий», естественно более длинных, нежели пешеходные.<br />Популярность реки примерно, как у Эссы. Из нашего клуба по Оболю никто не ходил. Верховья сильно заболочены (Эсса, Страча, Нарочанка, Нища, Свольна – это типично). Потом река довольно лесиста. После завершения нашего маршрута что-то типа Уллы в районе Чашников. Все новое мне очень любопытно. Чем удивит река, не знаю. Информации по ней сравнительно мало. Знаю, что витебские туристы водят по ней коммерсов.<br /> Кулинарная программа и деятельность кружка ХУЕК в разработке. <br />Желающих просьба записываться. Фотографы и корреспонденты могут рассчитывать на преференции.<br />\n\n</BODY>\n</HTML>

LOCATION:
END:VEVENT

END:VCALENDAR
