BEGIN:VCALENDAR
VERSION:2.0
PRODID:-//hacksw/handcal//NONSGML v1.0//EN
BEGIN:VEVENT
UID:86654711a196ab0eeb701f694bc9eccf
DTSTAMP:20260420T142123Z

DTSTART:20181103T100000
DTEND:20181105T220000
SUMMARY:81: Slovechna
DESCRIPTION:81: Slovechna\nЗдорово и вечно…\nБылое и думы…\nНа реку Словечна\nЯ взял и махнул бы.\n\nТакая одна \nНа Полесье осталась.\nИ в зоне она\nПэГэРЭЗ затерялась.\n\nПо ней уж не ходят\n(Граница и зона)\nНам это подходит\nПриродное лоно.\n\nВ дубравах и кленах \nБежит её русло.\nВот это блять отдых!\nНо осенью грустно…\n\nКак только придет \nК нам пора золотая, \nТо в этот поход \nЯ пойти предлагаю.\n\nА очень приличный \nСловечны уклон.\nАналогичный \nУ Ислочи он!\n\nОтсюда выходит,\nЧто речка бежит,\nСкажу мимоходом:\n«Душа к ней лежит».\n\nПусть всех не смущает, \nЧто близко граница.\nНе запрещают \nТам находится.\n\nА чтоб не попали \nНа Украину,\nОбъедем каналом\nРечную долину.\n\nНо в ПэГэРЭЗ \nМы в итоге упремся.\nИ пропуска без.\nТуда не суемся.\n\nМаршрут завершен, - \nПора ехать домой.\n«Подходит тебе?» -\nДумай, друг дорогой…\n\nНедавно я считал, что из заслуживающих внимание рек белорусского Полесья для меня остался лишь маршрут Льва-Ствига. Но его не прошли в этом году из-за затянувшейся зимы. Маршрут сезонный и реализовать его возможно лишь весной. Что опять и буду пробовать в 2019-ом году. \nЕсть еще, оказывается, Словечна. Я был в курсе, что река эта протекает по территории ПГРЭЗ. Но дай, думаю, посмотрю.  Еле отыскал ее, впадающую в Припять по Гугл-Земле. Из-за своей мутной воды русло сливается с зеленью. Изучение реки снизу вверх заинтриговало меня сильнейшим образом. Рассматривал неторопливо. Вроде как и заповедник закончился. Дальше, кажется, сплавляться можно. \nОсобенно живописными и необычными реками я считаю Уборть и особенно Случь. Сплошные дубовые леса, идущие по обоим берегам, оставляют неизгладимое впечатление. Такие же лиственные леса обнаружены и на Словечне. И более того, река по предварительной оценке выглядит гораздо динамичнее. Вобрала в себя и обширные болота, и сплошные заросли кустарника, и песчаные обрывы, и пустоши, и луговины с редколесьем, выворотни и гигантские корни в русле. Это все кроме леса. Нигде отчетов о сплавах по реке Словечна да и прочей информации не было до мая 2018г. Так что можно  было стать в какой-то степени пионерами в прохождении этого маршрута. Уклон 1,1 промилле. Для сранения Ислочь 1,3 промилле, Эсса 0,4 промилле, Бобр 0,56 промилле, Гайна 0.7. Река, по идее, в пример белорусским, сравнительно шустрая.\nПоход байдарочный. 03-05 октября 2018г. Состав 4-20 участников. Маршрут трехдневный. Протяженность 77 км. Как нельзя лучше для усиления эффекта подходит пройти его в последние дни золотой осени. А на Полесье такая в самом начале ноября. \nУчасток около пяти километров, где река протекает по территории Украины, можно объехать по каналу. По визуальной оценке канал этот проходимый в любое время года. Так и сделала прошедшая по Словечне в мае месяце группа. Заблаговременно получать пропуска для разрешения нахождения в пограничной полосе не нужно. Трек не попадает в погранполосу. Наш агент занимался вопросами юриспруденции маршрута. Запрос зарегистрирован и получен официальный ответ от офицера управления охраны Государственной границы в/ч 1257 майора Садыкова Б.В. На Украину и в заповедник не разрешает, всё остальное дозволено. То есть объехать по каналу. До него 800 метров волока. \nПройти Словечну до устья не получится. Приустьевая часть входит в территорию Полесского Государственного Радиационно-Экологического Заповедника (ПГРЭЗ). Туда без специального разрешения нельзя. Зато можно выброситься с трассы Наровля-Александровка. Она и является западной границей заповедника. \nВоде в реке не радиоактивная. Заинтересовавшихся просьба записываться к Глазу. Кроме похода в программе лекции и самодеятельность кружка ХУЕК. Поездка к месту катастрофы пассажирского самолета Як 42  28 июня 1982 года. \n\n \n \n

X-ALT-DESC;FMTTYPE=text/html:<!DOCTYPE HTML PUBLIC "-//W3C//DTD HTML 3.2//EN">\n<HTML>\n<HEAD>\n<META NAME="Generator" CONTENT="MS Exchange Server version 08.00.0681.000">\n<TITLE></TITLE>\n</HEAD>\n<BODY>\n<!-- Converted from text/rtf format -->\n\n81: Slovechna<br />Здорово и вечно…<br />Былое и думы…<br />На реку Словечна<br />Я взял и махнул бы.<br /><br />Такая одна <br />На Полесье осталась.<br />И в зоне она<br />ПэГэРЭЗ затерялась.<br /><br />По ней уж не ходят<br />(Граница и зона)<br />Нам это подходит<br />Природное лоно.<br /><br />В дубравах и кленах <br />Бежит её русло.<br />Вот это блять отдых!<br />Но осенью грустно…<br /><br />Как только придет <br />К нам пора золотая, <br />То в этот поход <br />Я пойти предлагаю.<br /><br />А очень приличный <br />Словечны уклон.<br />Аналогичный <br />У Ислочи он!<br /><br />Отсюда выходит,<br />Что речка бежит,<br />Скажу мимоходом:<br />«Душа к ней лежит».<br /><br />Пусть всех не смущает, <br />Что близко граница.<br />Не запрещают <br />Там находится.<br /><br />А чтоб не попали <br />На Украину,<br />Объедем каналом<br />Речную долину.<br /><br />Но в ПэГэРЭЗ <br />Мы в итоге упремся.<br />И пропуска без.<br />Туда не суемся.<br /><br />Маршрут завершен, - <br />Пора ехать домой.<br />«Подходит тебе?» -<br />Думай, друг дорогой…<br /><br />Недавно я считал, что из заслуживающих внимание рек белорусского Полесья для меня остался лишь маршрут Льва-Ствига. Но его не прошли в этом году из-за затянувшейся зимы. Маршрут сезонный и реализовать его возможно лишь весной. Что опять и буду пробовать в 2019-ом году. <br />Есть еще, оказывается, Словечна. Я был в курсе, что река эта протекает по территории ПГРЭЗ. Но дай, думаю, посмотрю.  Еле отыскал ее, впадающую в Припять по Гугл-Земле. Из-за своей мутной воды русло сливается с зеленью. Изучение реки снизу вверх заинтриговало меня сильнейшим образом. Рассматривал неторопливо. Вроде как и заповедник закончился. Дальше, кажется, сплавляться можно. <br />Особенно живописными и необычными реками я считаю Уборть и особенно Случь. Сплошные дубовые леса, идущие по обоим берегам, оставляют неизгладимое впечатление. Такие же лиственные леса обнаружены и на Словечне. И более того, река по предварительной оценке выглядит гораздо динамичнее. Вобрала в себя и обширные болота, и сплошные заросли кустарника, и песчаные обрывы, и пустоши, и луговины с редколесьем, выворотни и гигантские корни в русле. Это все кроме леса. Нигде отчетов о сплавах по реке Словечна да и прочей информации не было до мая 2018г. Так что можно  было стать в какой-то степени пионерами в прохождении этого маршрута. Уклон 1,1 промилле. Для сранения Ислочь 1,3 промилле, Эсса 0,4 промилле, Бобр 0,56 промилле, Гайна 0.7. Река, по идее, в пример белорусским, сравнительно шустрая.<br />Поход байдарочный. 03-05 октября 2018г. Состав 4-20 участников. Маршрут трехдневный. Протяженность 77 км. Как нельзя лучше для усиления эффекта подходит пройти его в последние дни золотой осени. А на Полесье такая в самом начале ноября. <br />Участок около пяти километров, где река протекает по территории Украины, можно объехать по каналу. По визуальной оценке канал этот проходимый в любое время года. Так и сделала прошедшая по Словечне в мае месяце группа. Заблаговременно получать пропуска для разрешения нахождения в пограничной полосе не нужно. Трек не попадает в погранполосу. Наш агент занимался вопросами юриспруденции маршрута. Запрос зарегистрирован и получен официальный ответ от офицера управления охраны Государственной границы в/ч 1257 майора Садыкова Б.В. На Украину и в заповедник не разрешает, всё остальное дозволено. То есть объехать по каналу. До него 800 метров волока. <br />Пройти Словечну до устья не получится. Приустьевая часть входит в территорию Полесского Государственного Радиационно-Экологического Заповедника (ПГРЭЗ). Туда без специального разрешения нельзя. Зато можно выброситься с трассы Наровля-Александровка. Она и является западной границей заповедника. <br />Воде в реке не радиоактивная. Заинтересовавшихся просьба записываться к Глазу. Кроме похода в программе лекции и самодеятельность кружка ХУЕК. Поездка к месту катастрофы пассажирского самолета Як 42  28 июня 1982 года. <br /><br /> <br /> <br />\n\n</BODY>\n</HTML>

LOCATION:
END:VEVENT

END:VCALENDAR
