BEGIN:VCALENDAR
VERSION:2.0
PRODID:-//hacksw/handcal//NONSGML v1.0//EN
BEGIN:VEVENT
UID:8b2121dc74fd30fd4a7d66284d30d13d
DTSTAMP:20260421T002506Z

DTSTART:20180824T190000
DTEND:20180826T190000
SUMMARY:Задумчивая Друть - 2
DESCRIPTION:А Пузочес неугомонный \nПо рекам продолжает путь.\nИ сплав организует водный\nПо среднему течению Друть.\n\n\nМаршрут семейный и удобный:\nКругом сухие берега.\nКилометраж все же огромный:\n86 – не ерунда!\n\nПо Друти ехать интересно,\nНа Чигиринском же волна.\nОкружено оно хоть лесом,\nНо нагребутся все сполна,\n\nОсобенно, как ветер южный,\n21 км пути\nТогда ему навстречу нужно,\nСражаясь с волнами, пройти.\n\nОбнос будет еще плотины,\nА после ехать по реке,\nА расстояние шишь с полтиной, \nНо дальше просто, налегке.\n\nТечение неплохое в Друти,\nБайдарка не катамаран.\nЧасов за пять можно по сути,\nДойти потом до Озеран.\n\nВ конце маршрута будет Мюцаг,\nОн должен баню истопить.\nАпперитивчик, чай на блюдах\nПоход придется замочить.\n\nОграничений по набору\nУ Игоря почти что нет.\nПо жизни Пузо очень добрый,\nЕго мы знаем много лет.\n\nТеперь эскадра создается,\nЧтоб Друть продолжить изучать.\nМне ничего не остается,\nУспехов только пожелать!\n\nПузочёс собирает друзей в байдарочный поход «Задумчивая Друть - 2» 25-26.08.18. \nВ целях упрощения логистики путь к стапелю будет по железной дороге. Отправление 24.08 в 19-11 (поезд на Гомель). Пересадка в Осиповичах на Могилёвский поезд. Прибытие на станцию Друть в 22.10. Марш-бросок 2 км за ж/д мост. Там Глаз, Граф Слава и Луша в 2006 г. обнаружили место для стапеля и стоянки. Культурный отдых до утра. 25.08 с утреца – весёлые сборы. Однако, поход предстоит в бодром темпе. Первый день - 45 км гребли. Поиски ставшего легендарным совхоза им. Жданова (пчелопитомник «Лужки» уже нашли ниже по течению в прошлом августе и тех же числах). Лагерь на Чигиринском водохранилище, любование закатом, посильная ловля рыбы на фидеры, культурный отдых. Утром сборы в темпе вальса, форсирование водохранилища, траверс насыпи. 41 км до антистапеля в деревне Озераны. Там кто-нибудь заберёт на бусе до Миннска (может быть, даже сам Басков). Километраж, конечно, Глазовский (86 км, из них 20 – по водохранилищу), но кого это напугает. Приглашаются Стальные, Синие и вообще все желающие. Обращайтесь к Игорю Пузо.\n\nhttp://magadan.by/tours/rafting/zadumchivyj-druz\nhttp://magadan.by/tours/rafting/29-pokhod-drut-dnepr-2006-god\nhttp://magadan.by/tours/by-food/poslednie-dni-leta-19-20-sentyabrya-2015g\nТри ссылки на отчеты походов и разных авторов в той или иной степени связанные с анонсируемыми событиями. Напомню, что в прошлый раз группа действительно нашла призрачный «пчелопитомник Лужки». Повстречавшиеся пожилые крестьяне были ошеломлены: «Да, здесь он и был, но это же было тридцать (!) лет назад…». Еще более эфемерного совхоза имени Жданова там разочарую, что нет. За давностью событий не припомню, где его, я Глаз откопал. На каком-то генштабе есть, но не там. Еще раз пересмотрел карты Друти. Не там это всё-таки. Зато есть деревни с прикольными названиями – Вязьма и Ядрёная Слобода. Есть еще интрига. Жизнь идет и события происходят. \nАнонс пытались связать тематически с путешествием аргонавтов. Получился Летучий Голландец и левиафаны.\n

X-ALT-DESC;FMTTYPE=text/html:<!DOCTYPE HTML PUBLIC "-//W3C//DTD HTML 3.2//EN">\n<HTML>\n<HEAD>\n<META NAME="Generator" CONTENT="MS Exchange Server version 08.00.0681.000">\n<TITLE></TITLE>\n</HEAD>\n<BODY>\n<!-- Converted from text/rtf format -->\n\nА Пузочес неугомонный <br />По рекам продолжает путь.<br />И сплав организует водный<br />По среднему течению Друть.<br /><br /><br />Маршрут семейный и удобный:<br />Кругом сухие берега.<br />Километраж все же огромный:<br />86 – не ерунда!<br /><br />По Друти ехать интересно,<br />На Чигиринском же волна.<br />Окружено оно хоть лесом,<br />Но нагребутся все сполна,<br /><br />Особенно, как ветер южный,<br />21 км пути<br />Тогда ему навстречу нужно,<br />Сражаясь с волнами, пройти.<br /><br />Обнос будет еще плотины,<br />А после ехать по реке,<br />А расстояние шишь с полтиной, <br />Но дальше просто, налегке.<br /><br />Течение неплохое в Друти,<br />Байдарка не катамаран.<br />Часов за пять можно по сути,<br />Дойти потом до Озеран.<br /><br />В конце маршрута будет Мюцаг,<br />Он должен баню истопить.<br />Апперитивчик, чай на блюдах<br />Поход придется замочить.<br /><br />Ограничений по набору<br />У Игоря почти что нет.<br />По жизни Пузо очень добрый,<br />Его мы знаем много лет.<br /><br />Теперь эскадра создается,<br />Чтоб Друть продолжить изучать.<br />Мне ничего не остается,<br />Успехов только пожелать!<br /><br />Пузочёс собирает друзей в байдарочный поход «Задумчивая Друть - 2» 25-26.08.18. <br />В целях упрощения логистики путь к стапелю будет по железной дороге. Отправление 24.08 в 19-11 (поезд на Гомель). Пересадка в Осиповичах на Могилёвский поезд. Прибытие на станцию Друть в 22.10. Марш-бросок 2 км за ж/д мост. Там Глаз, Граф Слава и Луша в 2006 г. обнаружили место для стапеля и стоянки. Культурный отдых до утра. 25.08 с утреца – весёлые сборы. Однако, поход предстоит в бодром темпе. Первый день - 45 км гребли. Поиски ставшего легендарным совхоза им. Жданова (пчелопитомник «Лужки» уже нашли ниже по течению в прошлом августе и тех же числах). Лагерь на Чигиринском водохранилище, любование закатом, посильная ловля рыбы на фидеры, культурный отдых. Утром сборы в темпе вальса, форсирование водохранилища, траверс насыпи. 41 км до антистапеля в деревне Озераны. Там кто-нибудь заберёт на бусе до Миннска (может быть, даже сам Басков). Километраж, конечно, Глазовский (86 км, из них 20 – по водохранилищу), но кого это напугает. Приглашаются Стальные, Синие и вообще все желающие. Обращайтесь к Игорю Пузо.<br /><br />http://magadan.by/tours/rafting/zadumchivyj-druz<br />http://magadan.by/tours/rafting/29-pokhod-drut-dnepr-2006-god<br />http://magadan.by/tours/by-food/poslednie-dni-leta-19-20-sentyabrya-2015g<br />Три ссылки на отчеты походов и разных авторов в той или иной степени связанные с анонсируемыми событиями. Напомню, что в прошлый раз группа действительно нашла призрачный «пчелопитомник Лужки». Повстречавшиеся пожилые крестьяне были ошеломлены: «Да, здесь он и был, но это же было тридцать (!) лет назад…». Еще более эфемерного совхоза имени Жданова там разочарую, что нет. За давностью событий не припомню, где его, я Глаз откопал. На каком-то генштабе есть, но не там. Еще раз пересмотрел карты Друти. Не там это всё-таки. Зато есть деревни с прикольными названиями – Вязьма и Ядрёная Слобода. Есть еще интрига. Жизнь идет и события происходят. <br />Анонс пытались связать тематически с путешествием аргонавтов. Получился Летучий Голландец и левиафаны.<br />\n\n</BODY>\n</HTML>

LOCATION:Беларусь
END:VEVENT

END:VCALENDAR
