BEGIN:VCALENDAR
VERSION:2.0
PRODID:-//hacksw/handcal//NONSGML v1.0//EN
BEGIN:VEVENT
UID:0e07b4c802262a28dd838052b5afba6c
DTSTAMP:20260420T142756Z

DTSTART:20180720T200000
DTEND:20180722T194500
SUMMARY:79В:"Оболь. Продолжение"
DESCRIPTION:Недавно встречали,\nКажись, Новый Год,\nА с ним начинали \nТот пеший поход.\n\nКак возраст за четверть,\nТак время идет. \nНе хочется верить, -\nУж липа цветет.\n\nПолгода, как месяц,\nПрошли мимо нас.\nГде год, там и десять,\nНо, что же сейчас!? –\n\nИнтрига засела\nО! Боль завершить, -\nТакое вот дело\nХочу предложить.\n\nГлазков обожает \nНа лодках поход.\nНа них разъезжает\nПочти круглый год.\n\nЧуть более месяца \nЖдать продолжения,\nА Глаз сильно бесится\nЖить без движения.\n\nДесятков под восемь\nВот этот маршрут.\nИной, может, спросит:\n- А наши пройдут?\n\n - Проедем, конечно,\nНе мудрено.\nА в осень Словечну \nПройдем заодно!\n\nСело Пролетарск,\nНачало пути.\nДа хоть Мухосранск,\nОт него и идти.\n\nРека веселее \nВ низовьях течет.\nТечение сильнее\nМестами нас ждет.\n\nИ берег повыше,\nК воде круче склон.\nА к устью поближе\nКустов сплошь заслон.\n\nСначала долина \nЛесом бежит.\nПотом в луговинах\nРусло лежит.\n\nНа время анонса \nУпала вода.\nЗасушье и солнце. –\nДела ерунда.\n\nПройдут, я надеюсь,\nВот грозы, друзья.\nГлядишь за неделю. –\nВоды дохуя!\n\nТам роголистник \nРеку закрывает,\nСвоими он листьями\nВсе вытесняет.\n\nПлети огромные,\nВ русле к июлю.\nЗаросли водные,\nВ тени. А хуле?!\n\nОльса река \nВидел так зарастает,\nГоворят, иногода\nИ Оболь бывает.\n\nВосемнадцатый год,\nХоть начАлся недавно,\nНо много походов\nПроведено славно!\n\nЛюдей собираю,\nЧтоб О! Боль «закрыть».\nВсех приглашаю,\nЕго посетить.\n\nНа группы состав\nПоделю, как логично.\nПрошел, чтобы сплав\nВесьма динамично.\n\n20 (23.30)-22 (23.30) июля 2018г будет проводится ПВД байдарочного формата. Продолжение сплава по реке Оболь. Интриговать и специально как-то завлекать коллектив, пожалуй, не буду. Сплав для тех кто любит эти байдарочные походы, природу и воду. Стапель - Пролетарск. Место завершения мост в 10 км от устья. Километраж 80 км. Оболь динамичная живописная река с часто меняющимся характером берегов и окружающих пейзажей. Поход не сложный и подходящий для дебютантов, особенно учитывая теплое время года. Проектная стоимость 100 рублей без покупки спиртных напитков. Запись в состав открыта с 06 июня. \nВ прошлом июне я был приятно удивлен. Также, как и теперь Оболь, Глаз решил "добить" реку Свольна. "Паршивая река с неудобными глинистыми берегами (в отчетах Свольну от Леонишево не жалуют) и терракотово-коричневой водой" неожиданно оставила самые приятные впечатления! Вот того же жду и теперь. Оболь в своей нижней части, предварительно вам скажу, что-то типа Уллы. Высокие берега, тоннели ив и в июле тяжелые и колыхающие на течение плети роголистника. Желающим "добить" или познакомиться с Оболем просьба записываться!\nТьфу! Чуть не забыл. Будет проведена экскурсия и осмотрена чудовищная бетонобойная самоходка ИСУ-152. Один её только внешний вид наводил на противника смертельный ужас!\n  \n

X-ALT-DESC;FMTTYPE=text/html:<!DOCTYPE HTML PUBLIC "-//W3C//DTD HTML 3.2//EN">\n<HTML>\n<HEAD>\n<META NAME="Generator" CONTENT="MS Exchange Server version 08.00.0681.000">\n<TITLE></TITLE>\n</HEAD>\n<BODY>\n<!-- Converted from text/rtf format -->\n\nНедавно встречали,<br />Кажись, Новый Год,<br />А с ним начинали <br />Тот пеший поход.<br /><br />Как возраст за четверть,<br />Так время идет. <br />Не хочется верить, -<br />Уж липа цветет.<br /><br />Полгода, как месяц,<br />Прошли мимо нас.<br />Где год, там и десять,<br />Но, что же сейчас!? –<br /><br />Интрига засела<br />О! Боль завершить, -<br />Такое вот дело<br />Хочу предложить.<br /><br />Глазков обожает <br />На лодках поход.<br />На них разъезжает<br />Почти круглый год.<br /><br />Чуть более месяца <br />Ждать продолжения,<br />А Глаз сильно бесится<br />Жить без движения.<br /><br />Десятков под восемь<br />Вот этот маршрут.<br />Иной, может, спросит:<br />- А наши пройдут?<br /><br /> - Проедем, конечно,<br />Не мудрено.<br />А в осень Словечну <br />Пройдем заодно!<br /><br />Село Пролетарск,<br />Начало пути.<br />Да хоть Мухосранск,<br />От него и идти.<br /><br />Река веселее <br />В низовьях течет.<br />Течение сильнее<br />Местами нас ждет.<br /><br />И берег повыше,<br />К воде круче склон.<br />А к устью поближе<br />Кустов сплошь заслон.<br /><br />Сначала долина <br />Лесом бежит.<br />Потом в луговинах<br />Русло лежит.<br /><br />На время анонса <br />Упала вода.<br />Засушье и солнце. –<br />Дела ерунда.<br /><br />Пройдут, я надеюсь,<br />Вот грозы, друзья.<br />Глядишь за неделю. –<br />Воды дохуя!<br /><br />Там роголистник <br />Реку закрывает,<br />Своими он листьями<br />Все вытесняет.<br /><br />Плети огромные,<br />В русле к июлю.<br />Заросли водные,<br />В тени. А хуле?!<br /><br />Ольса река <br />Видел так зарастает,<br />Говорят, иногода<br />И Оболь бывает.<br /><br />Восемнадцатый год,<br />Хоть начАлся недавно,<br />Но много походов<br />Проведено славно!<br /><br />Людей собираю,<br />Чтоб О! Боль «закрыть».<br />Всех приглашаю,<br />Его посетить.<br /><br />На группы состав<br />Поделю, как логично.<br />Прошел, чтобы сплав<br />Весьма динамично.<br /><br />20 (23.30)-22 (23.30) июля 2018г будет проводится ПВД байдарочного формата. Продолжение сплава по реке Оболь. Интриговать и специально как-то завлекать коллектив, пожалуй, не буду. Сплав для тех кто любит эти байдарочные походы, природу и воду. Стапель - Пролетарск. Место завершения мост в 10 км от устья. Километраж 80 км. Оболь динамичная живописная река с часто меняющимся характером берегов и окружающих пейзажей. Поход не сложный и подходящий для дебютантов, особенно учитывая теплое время года. Проектная стоимость 100 рублей без покупки спиртных напитков. Запись в состав открыта с 06 июня. <br />В прошлом июне я был приятно удивлен. Также, как и теперь Оболь, Глаз решил "добить" реку Свольна. "Паршивая река с неудобными глинистыми берегами (в отчетах Свольну от Леонишево не жалуют) и терракотово-коричневой водой" неожиданно оставила самые приятные впечатления! Вот того же жду и теперь. Оболь в своей нижней части, предварительно вам скажу, что-то типа Уллы. Высокие берега, тоннели ив и в июле тяжелые и колыхающие на течение плети роголистника. Желающим "добить" или познакомиться с Оболем просьба записываться!<br />Тьфу! Чуть не забыл. Будет проведена экскурсия и осмотрена чудовищная бетонобойная самоходка ИСУ-152. Один её только внешний вид наводил на противника смертельный ужас!<br />  <br />\n\n</BODY>\n</HTML>

LOCATION:
END:VEVENT

END:VCALENDAR
