BEGIN:VCALENDAR
VERSION:2.0
PRODID:-//hacksw/handcal//NONSGML v1.0//EN
BEGIN:VEVENT
UID:5d5c5479a29665864c9bff0cf679848e
DTSTAMP:20260420T142214Z

DTSTART:20180623T220000
DTEND:20180623T220000
SUMMARY:79Б
DESCRIPTION:Не Витебщиной иль Полесье, -\nПрошли приустьевую Беседь!\nВ семнадцатом году удался\nВодный поход по речке Бася!\n\nРутиною не тяготимся:\nОчень банальностей боимся!\nНе лишены мы демиурга:\nВедь близится День Металлурга!\n\nПусть Гильдия не ходит в горы,\nНо есть в пороховницах порох!\nУже сложилась предпосылка\n(Закономерно, баз бутылки)…\n\nМы не нуждаемся в рекламе,\nДосуг организуем сами! \nНе думайте, что в не у дел\nСтал «Миндибекова Отдел»!?\n\nА в сплавы ж на природу тянет,\nЖара в июле так и манит!\nПроект создался налегке\nПо новой, блять, пройти  реке!\n\nРуководит Манцевич Саша,\n(А с ним всегда мы сварим кашу!)\nОт Магадана в этот раз \nБудет поход эконом-класс!\n\nМаршрут вот этот не болотный:\nКамыш, рогоз, касатик водный…\nГоворят, чистая река:\nПочти до дна видна вода!\n\nРека не Птичь и не Ореса.\nПланируется Проня с Рестой!\nНа веслах, я могу сказать,\nИдти верст где-то 75!\n\nВиталий Роговцов пойдет\nВ этот байдарочный поход.\nТакже сосед, коллега с ним:\nКонечно же - Виталий Ким!\n\nДобавлю, сплав этот логичный:\nОсваиваем методично\nМы Белоруссии восток, -\nБассейна Сожа сток!\n\nТут не разводят эпатаж, -\nА приглашают экипаж!\nЕщё один на этот  сплав:\nПополнить кадровый состав!\n\nЖлобинское подразделение Гильдии Миндибекова  в рамках приближающегося Дня Металлурга решило под руководством одного из лидеров Александра Манцевича провести в байдарочный поход по маршруту Реста-Проня с завершением в райцентре Славгород. Запланированные сроки мероприятия "ПВД 79Б" 01-03.07.18. Выбор маршрута  определило желание завершить прохождение реки Проня до впадения в Сож, которая  произвела  неизгладимое впечатление в рамках прошлогоднего похода «Бася-Проня» (2017год, к сожалению, отчет отсутствует). Длина маршрута  75 км. Состав 12 (на текущий момент) человек и собака-волкодав Тэгги.  Стапель на реке Реста в деревне Захарполье (по трассе М71). Далее по всему маршруту несколько мелких деревень Черенки, Долгий Мох, Потеряевка, Хоронево. Через 40 км впадение Ресты в реку Проня. Населенные пункты потом отсутствуют. Антистапель планируется в городском парке райцентра Славгород. Будет ко всему прочему культурно-развлекательная программа - музыкальные вечера посвященные творчеству бардов Егора Летова и Янки Дягилевой (Мацак Сергей и Лариса Манцевич). На прелюдии мероприятия  Виталий Ким с творчеством Дмитрия Маликова и Солодухи. В кулинарном  меню татарские изыски от шеф-повара Андрюши Хайруллина. И более того, витаминные коктейли, блинный день от женской половины. Дополнительным креативным желающим просьба записываться. Саша Манцевич 375296139765\n\n\n

X-ALT-DESC;FMTTYPE=text/html:<!DOCTYPE HTML PUBLIC "-//W3C//DTD HTML 3.2//EN">\n<HTML>\n<HEAD>\n<META NAME="Generator" CONTENT="MS Exchange Server version 08.00.0681.000">\n<TITLE></TITLE>\n</HEAD>\n<BODY>\n<!-- Converted from text/rtf format -->\n\nНе Витебщиной иль Полесье, -<br />Прошли приустьевую Беседь!<br />В семнадцатом году удался<br />Водный поход по речке Бася!<br /><br />Рутиною не тяготимся:<br />Очень банальностей боимся!<br />Не лишены мы демиурга:<br />Ведь близится День Металлурга!<br /><br />Пусть Гильдия не ходит в горы,<br />Но есть в пороховницах порох!<br />Уже сложилась предпосылка<br />(Закономерно, баз бутылки)…<br /><br />Мы не нуждаемся в рекламе,<br />Досуг организуем сами! <br />Не думайте, что в не у дел<br />Стал «Миндибекова Отдел»!?<br /><br />А в сплавы ж на природу тянет,<br />Жара в июле так и манит!<br />Проект создался налегке<br />По новой, блять, пройти  реке!<br /><br />Руководит Манцевич Саша,<br />(А с ним всегда мы сварим кашу!)<br />От Магадана в этот раз <br />Будет поход эконом-класс!<br /><br />Маршрут вот этот не болотный:<br />Камыш, рогоз, касатик водный…<br />Говорят, чистая река:<br />Почти до дна видна вода!<br /><br />Река не Птичь и не Ореса.<br />Планируется Проня с Рестой!<br />На веслах, я могу сказать,<br />Идти верст где-то 75!<br /><br />Виталий Роговцов пойдет<br />В этот байдарочный поход.<br />Также сосед, коллега с ним:<br />Конечно же - Виталий Ким!<br /><br />Добавлю, сплав этот логичный:<br />Осваиваем методично<br />Мы Белоруссии восток, -<br />Бассейна Сожа сток!<br /><br />Тут не разводят эпатаж, -<br />А приглашают экипаж!<br />Ещё один на этот  сплав:<br />Пополнить кадровый состав!<br /><br />Жлобинское подразделение Гильдии Миндибекова  в рамках приближающегося Дня Металлурга решило под руководством одного из лидеров Александра Манцевича провести в байдарочный поход по маршруту Реста-Проня с завершением в райцентре Славгород. Запланированные сроки мероприятия "ПВД 79Б" 01-03.07.18. Выбор маршрута  определило желание завершить прохождение реки Проня до впадения в Сож, которая  произвела  неизгладимое впечатление в рамках прошлогоднего похода «Бася-Проня» (2017год, к сожалению, отчет отсутствует). Длина маршрута  75 км. Состав 12 (на текущий момент) человек и собака-волкодав Тэгги.  Стапель на реке Реста в деревне Захарполье (по трассе М71). Далее по всему маршруту несколько мелких деревень Черенки, Долгий Мох, Потеряевка, Хоронево. Через 40 км впадение Ресты в реку Проня. Населенные пункты потом отсутствуют. Антистапель планируется в городском парке райцентра Славгород. Будет ко всему прочему культурно-развлекательная программа - музыкальные вечера посвященные творчеству бардов Егора Летова и Янки Дягилевой (Мацак Сергей и Лариса Манцевич). На прелюдии мероприятия  Виталий Ким с творчеством Дмитрия Маликова и Солодухи. В кулинарном  меню татарские изыски от шеф-повара Андрюши Хайруллина. И более того, витаминные коктейли, блинный день от женской половины. Дополнительным креативным желающим просьба записываться. Саша Манцевич 375296139765<br /><br /><br />\n\n</BODY>\n</HTML>

LOCATION:
END:VEVENT

END:VCALENDAR
