BEGIN:VCALENDAR
VERSION:2.0
PRODID:-//hacksw/handcal//NONSGML v1.0//EN
BEGIN:VEVENT
UID:f1367e7c49b0a62349b70eca1efc3f91
DTSTAMP:20260420T142814Z

DTSTART:20180804T100000
DTEND:20180805T193000
SUMMARY:9 июля 2014г
DESCRIPTION:В горах гибли и будут гибнуть всегда, на то есть объективные причины. Восхождения своего рода состязания, но когда соперник не  персонализирован. Сначала поверить, потом принять и смириться не просто, когда гибель касается твоих близких и знакомых. \n9 июля 2014г при восхождении  на вулкан Камень по северному ребру (Ключевская группа вулканов на Камчатке) погибли Сергей Франковский и Андрей Круподеров. В эту дату 9 июля съездить на кладбище в Горки не получилось, но 4 августа я специально выделил на то день. Желающие могут присоединиться или сдать добровольный взнос семье. Собираюсь навестить родителей Сергея, детей у них не осталось...\nКарточка есть только Белкарт. В Минске постоянно бываю на Одинцова, Октябрьской Площади и в Боровлянах.

X-ALT-DESC;FMTTYPE=text/html:<!DOCTYPE HTML PUBLIC "-//W3C//DTD HTML 3.2//EN">\n<HTML>\n<HEAD>\n<META NAME="Generator" CONTENT="MS Exchange Server version 08.00.0681.000">\n<TITLE></TITLE>\n</HEAD>\n<BODY>\n<!-- Converted from text/rtf format -->\n\nВ горах гибли и будут гибнуть всегда, на то есть объективные причины. Восхождения своего рода состязания, но когда соперник не  персонализирован. Сначала поверить, потом принять и смириться не просто, когда гибель касается твоих близких и знакомых. <br />9 июля 2014г при восхождении  на вулкан Камень по северному ребру (Ключевская группа вулканов на Камчатке) погибли Сергей Франковский и Андрей Круподеров. В эту дату 9 июля съездить на кладбище в Горки не получилось, но 4 августа я специально выделил на то день. Желающие могут присоединиться или сдать добровольный взнос семье. Собираюсь навестить родителей Сергея, детей у них не осталось...<br />Карточка есть только Белкарт. В Минске постоянно бываю на Одинцова, Октябрьской Площади и в Боровлянах.\n\n</BODY>\n</HTML>

LOCATION:
END:VEVENT

END:VCALENDAR
