BEGIN:VCALENDAR
VERSION:2.0
PRODID:-//hacksw/handcal//NONSGML v1.0//EN
BEGIN:VEVENT
UID:b9550e0122b4a7a258c12ab1fe5b24be
DTSTAMP:20260421T021055Z

DTSTART:20180906T180000
DTEND:20180916T171500
SUMMARY:Грузия
DESCRIPTION:Сплав по трем грузинским рекам, отдых на море. Стоимость примерно 350 у.е. Либо просто трансфер туда-обратно 150 у.е.\n+375 44 712-55-38

X-ALT-DESC;FMTTYPE=text/html:<!DOCTYPE HTML PUBLIC "-//W3C//DTD HTML 3.2//EN">\n<HTML>\n<HEAD>\n<META NAME="Generator" CONTENT="MS Exchange Server version 08.00.0681.000">\n<TITLE></TITLE>\n</HEAD>\n<BODY>\n<!-- Converted from text/rtf format -->\n\nСплав по трем грузинским рекам, отдых на море. Стоимость примерно 350 у.е. Либо просто трансфер туда-обратно 150 у.е.<br />+375 44 712-55-38\n\n</BODY>\n</HTML>

LOCATION:
END:VEVENT

END:VCALENDAR
