BEGIN:VCALENDAR
VERSION:2.0
PRODID:-//hacksw/handcal//NONSGML v1.0//EN
BEGIN:VEVENT
UID:b72984275a11bbdac95bc5586009aefe
DTSTAMP:20260420T142257Z

DTSTART:20180811T050000
DTEND:20180812T170000
SUMMARY:Велосуперлайт
DESCRIPTION:Приглашаю всех желающих присоединиться к велосуперлайт походу вдоль главного канала вилейско-минской водной системы.\nТрек - около 100 км за два дня, пополам асфальт/грунт. Пересеченка и переправы не планируются, если и случатся - это будет чистый экспромт.\nНочевка на р. Илия или на самом канале, где найдем место.\nНачало маршрута полностью повторяет прошлогодний детский велопоход. Стартуем от Минского моря. Финиш в Молодечно, проезд электричками, дешевый.\n\nВкусное питание, веселье, купания, все дела.\n\nТребования к участникам стандартные: хотеть и мочь.\nЗапись - через личный контакт со мной до 8 августа.

X-ALT-DESC;FMTTYPE=text/html:<!DOCTYPE HTML PUBLIC "-//W3C//DTD HTML 3.2//EN">\n<HTML>\n<HEAD>\n<META NAME="Generator" CONTENT="MS Exchange Server version 08.00.0681.000">\n<TITLE></TITLE>\n</HEAD>\n<BODY>\n<!-- Converted from text/rtf format -->\n\nПриглашаю всех желающих присоединиться к велосуперлайт походу вдоль главного канала вилейско-минской водной системы.<br />Трек - около 100 км за два дня, пополам асфальт/грунт. Пересеченка и переправы не планируются, если и случатся - это будет чистый экспромт.<br />Ночевка на р. Илия или на самом канале, где найдем место.<br />Начало маршрута полностью повторяет прошлогодний детский велопоход. Стартуем от Минского моря. Финиш в Молодечно, проезд электричками, дешевый.<br /><br />Вкусное питание, веселье, купания, все дела.<br /><br />Требования к участникам стандартные: хотеть и мочь.<br />Запись - через личный контакт со мной до 8 августа.\n\n</BODY>\n</HTML>

LOCATION:Радошковичи, Беларусь
END:VEVENT

END:VCALENDAR
