BEGIN:VCALENDAR
VERSION:2.0
PRODID:-//hacksw/handcal//NONSGML v1.0//EN
BEGIN:VEVENT
UID:e728f161b4df16cf37ad0587dcb2160b
DTSTAMP:20260420T193416Z

DTSTART:20181027T030000
DTEND:20181028T200000
SUMMARY:Ельня-2018
DESCRIPTION:Приглашаю желающих принять участие в традиционном уже октябрьском болотинге. Как и в прошлом году, отправимся на Ельню.\nПочему болотинг? Это дико. Это красиво. Это экстремально (на самом деле - не очень). Всё, что мы любим. В этот раз я хочу пройти Ельню насквозь от дер. Буды до дер. Суховержье (или от наркологической тропы до экологической), поэтому трек будет отличаться от прошлогоднего. С отчетом о пршлогодней Ельне можно ознакомиться здесь http://magadan.by/tours/doroga-za-solntsem-ili-kak-my-brodili-po-bolotam-zapovednika-elnya\nПротяженность трека - 22 - 23 км, почти весь километраж - болотный, ночевка на Еленском острове. Программа традиционная: физические упражнения, гастрономические излишества, культурно-массовые мероприятия, водные процедуры (добровольные и вынужденные) и прочие радости отдыха на природе.\nК участию приглашаются желающие, способные, не увлекающиеся и не злоупотребляющие, в связях с удмуртскими бабушками не замеченные.\nДля проезда, вероятно, будем заказывать трансфер, зависит от количества участников, поэтому желательно записываться заблаговременно. Последний срок подачи заявок - 18 октября.\nСтоимость участия: 10 - 15 рублей на общественную еду, от 40 рублей на проезд (сильно зависит от числа вовлеченных).\nЗапись личная через телефон, телеграм, вайбер, фейсбук, голубиную почту и прочие современные средства коммуникации.

X-ALT-DESC;FMTTYPE=text/html:<!DOCTYPE HTML PUBLIC "-//W3C//DTD HTML 3.2//EN">\n<HTML>\n<HEAD>\n<META NAME="Generator" CONTENT="MS Exchange Server version 08.00.0681.000">\n<TITLE></TITLE>\n</HEAD>\n<BODY>\n<!-- Converted from text/rtf format -->\n\nПриглашаю желающих принять участие в традиционном уже октябрьском болотинге. Как и в прошлом году, отправимся на Ельню.<br />Почему болотинг? Это дико. Это красиво. Это экстремально (на самом деле - не очень). Всё, что мы любим. В этот раз я хочу пройти Ельню насквозь от дер. Буды до дер. Суховержье (или от наркологической тропы до экологической), поэтому трек будет отличаться от прошлогоднего. С отчетом о пршлогодней Ельне можно ознакомиться здесь http://magadan.by/tours/doroga-za-solntsem-ili-kak-my-brodili-po-bolotam-zapovednika-elnya<br />Протяженность трека - 22 - 23 км, почти весь километраж - болотный, ночевка на Еленском острове. Программа традиционная: физические упражнения, гастрономические излишества, культурно-массовые мероприятия, водные процедуры (добровольные и вынужденные) и прочие радости отдыха на природе.<br />К участию приглашаются желающие, способные, не увлекающиеся и не злоупотребляющие, в связях с удмуртскими бабушками не замеченные.<br />Для проезда, вероятно, будем заказывать трансфер, зависит от количества участников, поэтому желательно записываться заблаговременно. Последний срок подачи заявок - 18 октября.<br />Стоимость участия: 10 - 15 рублей на общественную еду, от 40 рублей на проезд (сильно зависит от числа вовлеченных).<br />Запись личная через телефон, телеграм, вайбер, фейсбук, голубиную почту и прочие современные средства коммуникации.\n\n</BODY>\n</HTML>

LOCATION:Болото Ельня, Беларусь
END:VEVENT

END:VCALENDAR
