BEGIN:VCALENDAR
VERSION:2.0
PRODID:-//hacksw/handcal//NONSGML v1.0//EN
BEGIN:VEVENT
UID:d9755bd979155e69640b287a93c2cfc7
DTSTAMP:20260420T142756Z

DTSTART:20190221T210000
DTEND:20190224T203000
SUMMARY:81Б: Запад 81- Magadan.by 19
DESCRIPTION:У обывателя спросил:\n«У Magadan.by много сил?»\nИ обыватель мне сказал:\n«Активней Секты не видал…»\n\nПримерно двадцать раз в году\nМероприятия в ходу.\nКлуб существует много лет,\n У всех высокий интеллект.\n\nКруглогодично год от года\nИдут походы за походом.\nОни один другого лучше,\nЖизнь в Магадане полнозвучна.\n\nМакс шоу, Шайба или Гвоздь…\nХодить по пабам не срослось.\nКроме работы, милый друг,\nВажно уметь создать досуг!\n \nЕсли в Гугл ссылочку забросить\n«Полигон двести двадцать восемь»\nКак ни крути, хоть вынь, хоть сунь,\nУ вас откроется - Дретунь!\n\nДретуньский полигон военный,\nОн просто необыкновенный,\nМне говорят со всех сторон,\nТем более, заброшен он.\n\nПочти что сорок лет назад\nБыл с западом у нас разлад,\nДавил войны холодной груз,\nУченья проводил Союз.\n\nТам сборы общевойсковые,\nУчения были боевые.\nНа полигоне этом самом,\nИ удались они на славу.\n\nС тех пор минуло много лет,\nТеперь там и учений нет.\nМестность рельефна и бугриста,\nТуристов нет и террористов…\n\nА Глазовский формат любимый,\nЧтоб путь был труднопроходимый.\nСпешу добавить здесь друзья\nС маршрута соскочить нельзя.\n\nВ походе этом не секрет\nНа треке населенки нет.\nОтправить некуда гонца,\nИдти придется до конца.\n\nВперед на поезде поедем.\nНазад в бус, полагаю, влезем.\nТуда придется ехать ночь.\nНазад весь вечер, блять, точь-в-точь.\n\nПешком пройдемся как обычно,\nНо для двух дней идти прилично.\nПоход планируется добрый,\nДвижения темп довольно бодрый.\n\nРассчитываю, как обычно,\nМаршрут сей очень динамичный.\nКилометраж будет опять,\nНе больше-меньше тридцать пять.\n\nКроме курганов и высоток\nПять будет по болоту ходок.\nИдти по кочкам нелегко,\nОболь река недалеко.\n\nНа болоте этом есть\nМелких озер целая сеть.\nДушою не кривлю, не лгу.\nИх перейдем прямо по льду.\n\nБолото что-то типа Ельни,\nО нем писали мы отдельно.\n        Похоже по ландшафту сильно,\n        По расстоянию семимильно.\n\n        Название «Маршрут Смирнова»\n        Пусть именуется он снова.\n        Желание есть, - звоните сразу,\n        Директору проекта Глазу.\n\nНовый ПВД 81Б состоится 22-24 февраля. Выезд в пятницу вечером на поезде Минск-Витебск через Полоцк. По прибытии в Полоцк нас, участников, будет ожидать местный бус.\nВозвращение в Минск на другом бусе из Минска в воскресенье поздно вечером.\nМаршрут Смирнова имеет протяженность 35,5 км. Его планируется пройти за два ходовых дня. 21 км+14,5км. Направление трека в основном на север и северо-запад. Пересеченная местность без населёнки. Начинается маршрут с труднопроходимого летом болота. Оно похоже на уменьшенное болото Ельня. И точно такие же есть озера-сажалки. Неожиданно местность повышается. Болото сменяется смешанным, а потом и хвойным лесом. Еще далее и вовсе вокруг рельефный пейзаж с курганами, косогорами, высотками. Заброшенные милитаристские строения. Пересекаем огромный Дретуньский Полигон, - объект 228. Теперь заброшенный. Крупнейшие (одни из самых крупнейших в истории) учения с привлечением впечатляющего количества войск и боевой техники были проведены в 1981 году – «Запад 81». \nПоход исключает частичное участие в программе, ровно, как и гостевой формат (матрац). Из наиболее похожих на планируемый можно предположить, что это Выгонощанские маршруты. Но Витебщина она все-таки другая. Трек будет привычно разделен на 13 равнозначных участков. В субботу нужно будет преодолеть 8 и 5 в воскресенье. Состав 4-15 участников. Желающих просьба записываться.\nhttp://magadan.by/tours/77v-10-11-03-2018\nhttp://magadan.by/tours/po-sledam-tikhomirova-kirilla-2\n\n

X-ALT-DESC;FMTTYPE=text/html:<!DOCTYPE HTML PUBLIC "-//W3C//DTD HTML 3.2//EN">\n<HTML>\n<HEAD>\n<META NAME="Generator" CONTENT="MS Exchange Server version 08.00.0681.000">\n<TITLE></TITLE>\n</HEAD>\n<BODY>\n<!-- Converted from text/rtf format -->\n\nУ обывателя спросил:<br />«У Magadan.by много сил?»<br />И обыватель мне сказал:<br />«Активней Секты не видал…»<br /><br />Примерно двадцать раз в году<br />Мероприятия в ходу.<br />Клуб существует много лет,<br /> У всех высокий интеллект.<br /><br />Круглогодично год от года<br />Идут походы за походом.<br />Они один другого лучше,<br />Жизнь в Магадане полнозвучна.<br /><br />Макс шоу, Шайба или Гвоздь…<br />Ходить по пабам не срослось.<br />Кроме работы, милый друг,<br />Важно уметь создать досуг!<br /> <br />Если в Гугл ссылочку забросить<br />«Полигон двести двадцать восемь»<br />Как ни крути, хоть вынь, хоть сунь,<br />У вас откроется - Дретунь!<br /><br />Дретуньский полигон военный,<br />Он просто необыкновенный,<br />Мне говорят со всех сторон,<br />Тем более, заброшен он.<br /><br />Почти что сорок лет назад<br />Был с западом у нас разлад,<br />Давил войны холодной груз,<br />Ученья проводил Союз.<br /><br />Там сборы общевойсковые,<br />Учения были боевые.<br />На полигоне этом самом,<br />И удались они на славу.<br /><br />С тех пор минуло много лет,<br />Теперь там и учений нет.<br />Местность рельефна и бугриста,<br />Туристов нет и террористов…<br /><br />А Глазовский формат любимый,<br />Чтоб путь был труднопроходимый.<br />Спешу добавить здесь друзья<br />С маршрута соскочить нельзя.<br /><br />В походе этом не секрет<br />На треке населенки нет.<br />Отправить некуда гонца,<br />Идти придется до конца.<br /><br />Вперед на поезде поедем.<br />Назад в бус, полагаю, влезем.<br />Туда придется ехать ночь.<br />Назад весь вечер, блять, точь-в-точь.<br /><br />Пешком пройдемся как обычно,<br />Но для двух дней идти прилично.<br />Поход планируется добрый,<br />Движения темп довольно бодрый.<br /><br />Рассчитываю, как обычно,<br />Маршрут сей очень динамичный.<br />Километраж будет опять,<br />Не больше-меньше тридцать пять.<br /><br />Кроме курганов и высоток<br />Пять будет по болоту ходок.<br />Идти по кочкам нелегко,<br />Оболь река недалеко.<br /><br />На болоте этом есть<br />Мелких озер целая сеть.<br />Душою не кривлю, не лгу.<br />Их перейдем прямо по льду.<br /><br />Болото что-то типа Ельни,<br />О нем писали мы отдельно.<br />        Похоже по ландшафту сильно,<br />        По расстоянию семимильно.<br /><br />        Название «Маршрут Смирнова»<br />        Пусть именуется он снова.<br />        Желание есть, - звоните сразу,<br />        Директору проекта Глазу.<br /><br />Новый ПВД 81Б состоится 22-24 февраля. Выезд в пятницу вечером на поезде Минск-Витебск через Полоцк. По прибытии в Полоцк нас, участников, будет ожидать местный бус.<br />Возвращение в Минск на другом бусе из Минска в воскресенье поздно вечером.<br />Маршрут Смирнова имеет протяженность 35,5 км. Его планируется пройти за два ходовых дня. 21 км+14,5км. Направление трека в основном на север и северо-запад. Пересеченная местность без населёнки. Начинается маршрут с труднопроходимого летом болота. Оно похоже на уменьшенное болото Ельня. И точно такие же есть озера-сажалки. Неожиданно местность повышается. Болото сменяется смешанным, а потом и хвойным лесом. Еще далее и вовсе вокруг рельефный пейзаж с курганами, косогорами, высотками. Заброшенные милитаристские строения. Пересекаем огромный Дретуньский Полигон, - объект 228. Теперь заброшенный. Крупнейшие (одни из самых крупнейших в истории) учения с привлечением впечатляющего количества войск и боевой техники были проведены в 1981 году – «Запад 81». <br />Поход исключает частичное участие в программе, ровно, как и гостевой формат (матрац). Из наиболее похожих на планируемый можно предположить, что это Выгонощанские маршруты. Но Витебщина она все-таки другая. Трек будет привычно разделен на 13 равнозначных участков. В субботу нужно будет преодолеть 8 и 5 в воскресенье. Состав 4-15 участников. Желающих просьба записываться.<br />http://magadan.by/tours/77v-10-11-03-2018<br />http://magadan.by/tours/po-sledam-tikhomirova-kirilla-2<br /><br />\n\n</BODY>\n</HTML>

LOCATION:
END:VEVENT

END:VCALENDAR
