BEGIN:VCALENDAR
VERSION:2.0
PRODID:-//hacksw/handcal//NONSGML v1.0//EN
BEGIN:VEVENT
UID:4c1b9a79df05b0c19c4fe6cb3b15d70b
DTSTAMP:20260420T173930Z

DTSTART:20190330T230000
DTEND:20190331T220000
SUMMARY:81В:Льва-Ствига. Завершение 30-31.3.19
DESCRIPTION:Тут новый год начался бурно:\nМагадан в тонусе опять,\nНе в моде жизнь теперь гламурна,\nМы будоражим время вспять!\n\nВ такие говорят сезоны, -\nСидите лучше по домам!\nНе вижу я совсем резона. –\nИ нужно на природу нам!\n\nПолесье очень специфично,\nГлаз любит этот регион,\nТаинственностью органично,\nИ Львой весьма доволен он.\n\nПо марту вреющие воды\nНаходят путь среди болот.\nЗаранее пишу здесь чтобы,\nНайти компанию в поход.\n\nПритоки Припяти ходили,\nКроме СтырИ про все отчет,\nОт Пинска Припять тоже были,\nЗа пару лет - это зачет!\n\nСвоего рода завершение,\nЧтоб наконец подбить итог.\nДля Магадана без сомнения,\nС погодой повезло б дай Бог!\n\nПо Льве мы два последних года\nХодили мартовской порой.\nХолодная еще погода,\nНас не пугает, друг родной!\n\nИ невозможное возможно,\nДорога кажется легка.\nТам ехать нужно осторожно,\nТеряется в протоках Льва!\n\nОна сама впадает в Ствигу.\nВ Коротичах, где мы тогда\nСвой завершили сплав не длинный,\nУшла со Ствиги вся вода.\n\n14-ого тогда был август,\nНа себе лодки волокли,\nПопали мы в какой-то анус,\nИ на работу не пришли.\n\nТак сильно Ствига пересохла:\nКоряг сплошной конгломерат.\nЗа три дня сами чуть не сдохли,\nБыл я и сам уже не рад.\n\nЯ знал, что мы в неё вернемся,\nВ Коротичи и по весне,\nДо устья ниже что пройдемся,\nВлившись в неё слева по Льве.\n\nУшел от нас теперь Мерзликин,\nСостав покинул и Марат.\nУ нас походы многолики,\nМы возвращаемся в сей март.\n\nЭскадру всю не перечислить,\nЕё пока я собираю,\nДесятка полтора зачислить,\nЛучше всего, я полагаю.\n\nАндрюша Бай, Николай Носов,\nКрасочко Вита в этот раз,\nПоедет Пряник без вопросов,\nМазаник, Озеринский, Глаз.\n\nПластмассовые будут лодки,\nНа них скорей всего пойдем.\nВозьмем с собой немного водки,\nИ путь среди болот найдем!\n\n30-31 марта первый байдарочный поход выходного дня в этом году 81В. Будет проводиться традиционно по территории нашего беларуского Полесья. И это не просто традиция, а скажем логическое завершение последней интересующей реки. Остается только Стырь, но она великовата и уныла. \nЗадача ПВД - завершить Льву от деревни Старинка, в которой прошлый раз закончился наш сплав 71А. Далее – Коротичи! Там Льва впадает в Ствигу. Со Ствигой старые счеты. От грагницы мы её коварный норов уже знаем (поход номер 57). В этом походе выходного дня 77В планируется завершение и ее. Спускаемся до Припяти. Устье, Хвоенск!\nБольше интересующих на Полесье рек, которые бы не ходили, нет. Припять, Уборть, Случь, Приустьевая Птичь, Льва, Ствига… Лебединая песня Полесья или Дембельский аккорд. Со следующей весны водные походы марта будут переориентированы на другой регион.\nЖелающие записывайтесь. Однако, не ходившим по таким рекам, как Льва или, скажем, Ольса, Гайна прошу учитывать хардкорность маршрута. Многочасовые отсутствия твердых берегов, холодное время года и в принципе по-Глазовски езда с веслом с утра до вечера. Привожу несколько отчетов, имеющих логическое отношение к ПВД 81В.\nhttp://magadan.by/tours/rafting/17-20-marta-2017g-lva-ot-koshary-do-starink\nhttp://magadan.by/tours/rafting/57-stviga-nezabyvaemaya\nhttp://magadan.by/tours/rafting/65-11-14-3-2016-lva-lisovaya-rechka-khotomelskaya-kanava-nizhnyaya-chakva-goryn-pripyat-kanal-mikashevichskij-77-km\nЗапись Глазу в «одно окно» до 25 марта. Вопросами по одежде и обуви просьба не донимать.\n\n\n\n \n

X-ALT-DESC;FMTTYPE=text/html:<!DOCTYPE HTML PUBLIC "-//W3C//DTD HTML 3.2//EN">\n<HTML>\n<HEAD>\n<META NAME="Generator" CONTENT="MS Exchange Server version 08.00.0681.000">\n<TITLE></TITLE>\n</HEAD>\n<BODY>\n<!-- Converted from text/rtf format -->\n\nТут новый год начался бурно:<br />Магадан в тонусе опять,<br />Не в моде жизнь теперь гламурна,<br />Мы будоражим время вспять!<br /><br />В такие говорят сезоны, -<br />Сидите лучше по домам!<br />Не вижу я совсем резона. –<br />И нужно на природу нам!<br /><br />Полесье очень специфично,<br />Глаз любит этот регион,<br />Таинственностью органично,<br />И Львой весьма доволен он.<br /><br />По марту вреющие воды<br />Находят путь среди болот.<br />Заранее пишу здесь чтобы,<br />Найти компанию в поход.<br /><br />Притоки Припяти ходили,<br />Кроме СтырИ про все отчет,<br />От Пинска Припять тоже были,<br />За пару лет - это зачет!<br /><br />Своего рода завершение,<br />Чтоб наконец подбить итог.<br />Для Магадана без сомнения,<br />С погодой повезло б дай Бог!<br /><br />По Льве мы два последних года<br />Ходили мартовской порой.<br />Холодная еще погода,<br />Нас не пугает, друг родной!<br /><br />И невозможное возможно,<br />Дорога кажется легка.<br />Там ехать нужно осторожно,<br />Теряется в протоках Льва!<br /><br />Она сама впадает в Ствигу.<br />В Коротичах, где мы тогда<br />Свой завершили сплав не длинный,<br />Ушла со Ствиги вся вода.<br /><br />14-ого тогда был август,<br />На себе лодки волокли,<br />Попали мы в какой-то анус,<br />И на работу не пришли.<br /><br />Так сильно Ствига пересохла:<br />Коряг сплошной конгломерат.<br />За три дня сами чуть не сдохли,<br />Был я и сам уже не рад.<br /><br />Я знал, что мы в неё вернемся,<br />В Коротичи и по весне,<br />До устья ниже что пройдемся,<br />Влившись в неё слева по Льве.<br /><br />Ушел от нас теперь Мерзликин,<br />Состав покинул и Марат.<br />У нас походы многолики,<br />Мы возвращаемся в сей март.<br /><br />Эскадру всю не перечислить,<br />Её пока я собираю,<br />Десятка полтора зачислить,<br />Лучше всего, я полагаю.<br /><br />Андрюша Бай, Николай Носов,<br />Красочко Вита в этот раз,<br />Поедет Пряник без вопросов,<br />Мазаник, Озеринский, Глаз.<br /><br />Пластмассовые будут лодки,<br />На них скорей всего пойдем.<br />Возьмем с собой немного водки,<br />И путь среди болот найдем!<br /><br />30-31 марта первый байдарочный поход выходного дня в этом году 81В. Будет проводиться традиционно по территории нашего беларуского Полесья. И это не просто традиция, а скажем логическое завершение последней интересующей реки. Остается только Стырь, но она великовата и уныла. <br />Задача ПВД - завершить Льву от деревни Старинка, в которой прошлый раз закончился наш сплав 71А. Далее – Коротичи! Там Льва впадает в Ствигу. Со Ствигой старые счеты. От грагницы мы её коварный норов уже знаем (поход номер 57). В этом походе выходного дня 77В планируется завершение и ее. Спускаемся до Припяти. Устье, Хвоенск!<br />Больше интересующих на Полесье рек, которые бы не ходили, нет. Припять, Уборть, Случь, Приустьевая Птичь, Льва, Ствига… Лебединая песня Полесья или Дембельский аккорд. Со следующей весны водные походы марта будут переориентированы на другой регион.<br />Желающие записывайтесь. Однако, не ходившим по таким рекам, как Льва или, скажем, Ольса, Гайна прошу учитывать хардкорность маршрута. Многочасовые отсутствия твердых берегов, холодное время года и в принципе по-Глазовски езда с веслом с утра до вечера. Привожу несколько отчетов, имеющих логическое отношение к ПВД 81В.<br />http://magadan.by/tours/rafting/17-20-marta-2017g-lva-ot-koshary-do-starink<br />http://magadan.by/tours/rafting/57-stviga-nezabyvaemaya<br />http://magadan.by/tours/rafting/65-11-14-3-2016-lva-lisovaya-rechka-khotomelskaya-kanava-nizhnyaya-chakva-goryn-pripyat-kanal-mikashevichskij-77-km<br />Запись Глазу в «одно окно» до 25 марта. Вопросами по одежде и обуви просьба не донимать.<br /><br /><br /><br /> <br />\n\n</BODY>\n</HTML>

LOCATION:
END:VEVENT

END:VCALENDAR
