BEGIN:VCALENDAR
VERSION:2.0
PRODID:-//hacksw/handcal//NONSGML v1.0//EN
BEGIN:VEVENT
UID:6c552133c40d1f7980fc5ba16f454888
DTSTAMP:20260420T142648Z

DTSTART:20190426T180000
DTEND:20190427T130000
SUMMARY:Проводы 81
DESCRIPTION:Магаданом мы идем \nВследующий сплав водный\nИ конца апреля ждем,\nКак сезон пригодный!\n\nРоговцов, Хайруллин, Глаз:\nОчень костяк плотный.\nИ поход на этот раз\nБудет превосходный!\n\nПриходите провожать\nНас традиционно.\nВ том же месте будем ждать\nВоодушевленно.\n\nПредстоит пройти пять рек\nСорок пять порогов.\nЖаль, что рано сошел снег\nИ воды не много.\n\nВ Шуе же большой расход,\nХодят её летом\nВесной троечка поход\nПо спортивным меркам.\n\nПровожайющий не хныч,\nВас мы ожидаем,\nПриносите магарыч.\nДружно приглашаем.\n\n26 апреля в 22.00 будут проводится проводы в воднотуристический магистрально-стратегический поход "Одиссея 81". Проводы состоятся с места отъезда: перекресток улиц Одинцова и Лобанка подле рыбного магазина Виталюр. Приглашаются все. Рекомендовано при себе иметь магарыч для участников похода. особенно котируется специально оформленный с посланием, ну, и от чистого, разумеется сердца! Коммендантом проводов назначен Игорь Пузо. 

X-ALT-DESC;FMTTYPE=text/html:<!DOCTYPE HTML PUBLIC "-//W3C//DTD HTML 3.2//EN">\n<HTML>\n<HEAD>\n<META NAME="Generator" CONTENT="MS Exchange Server version 08.00.0681.000">\n<TITLE></TITLE>\n</HEAD>\n<BODY>\n<!-- Converted from text/rtf format -->\n\nМагаданом мы идем <br />Вследующий сплав водный<br />И конца апреля ждем,<br />Как сезон пригодный!<br /><br />Роговцов, Хайруллин, Глаз:<br />Очень костяк плотный.<br />И поход на этот раз<br />Будет превосходный!<br /><br />Приходите провожать<br />Нас традиционно.<br />В том же месте будем ждать<br />Воодушевленно.<br /><br />Предстоит пройти пять рек<br />Сорок пять порогов.<br />Жаль, что рано сошел снег<br />И воды не много.<br /><br />В Шуе же большой расход,<br />Ходят её летом<br />Весной троечка поход<br />По спортивным меркам.<br /><br />Провожайющий не хныч,<br />Вас мы ожидаем,<br />Приносите магарыч.<br />Дружно приглашаем.<br /><br />26 апреля в 22.00 будут проводится проводы в воднотуристический магистрально-стратегический поход "Одиссея 81". Проводы состоятся с места отъезда: перекресток улиц Одинцова и Лобанка подле рыбного магазина Виталюр. Приглашаются все. Рекомендовано при себе иметь магарыч для участников похода. особенно котируется специально оформленный с посланием, ну, и от чистого, разумеется сердца! Коммендантом проводов назначен Игорь Пузо. \n\n</BODY>\n</HTML>

LOCATION:
END:VEVENT

END:VCALENDAR
