BEGIN:VCALENDAR
VERSION:2.0
PRODID:-//hacksw/handcal//NONSGML v1.0//EN
BEGIN:VEVENT
UID:0980d06e289fe9650f21bb5d5dc045fb
DTSTAMP:20260420T173301Z

DTSTART:20190406T070000
DTEND:20190407T190000
SUMMARY:Панямоньская вандроўка
DESCRIPTION:Вот и дождались… Скрипучим седлам и хрустящим педалям быть! \n6-7 апреля – отличное время, чтобы прокатиться подальше от городской суеты, насладиться весенними пейзажами и спокойно посидеть у вечернего костра, пока комары не восстали из своего комариного ада. \nВсе желающие могут присоединиться к велопоходу на два дня. \nВыезд утром из Минска на столбцовской электричке, возвращение - воскресенье вечером тем же путем. \nПредполагается пройти петлю по принеманским местам, по краю Налибокской пущи, с посещением пары-тройки достопримечательностей (для любителей селфи))) Протяженность 110-115 км. Ночевка на оз.Кромань или р.Черная (….в черном, черном лесу на Черной, Черной речке…)\nКороче, бюджеты скудные, мышцы после зимы хилые, велосипеды заржавевшие. Но зато отличная компания, шутки, смех и веселье – гарантированы. Запись в личку: Трафимович Михаил (+375296284522)\n

X-ALT-DESC;FMTTYPE=text/html:<!DOCTYPE HTML PUBLIC "-//W3C//DTD HTML 3.2//EN">\n<HTML>\n<HEAD>\n<META NAME="Generator" CONTENT="MS Exchange Server version 08.00.0681.000">\n<TITLE></TITLE>\n</HEAD>\n<BODY>\n<!-- Converted from text/rtf format -->\n\nВот и дождались… Скрипучим седлам и хрустящим педалям быть! <br />6-7 апреля – отличное время, чтобы прокатиться подальше от городской суеты, насладиться весенними пейзажами и спокойно посидеть у вечернего костра, пока комары не восстали из своего комариного ада. <br />Все желающие могут присоединиться к велопоходу на два дня. <br />Выезд утром из Минска на столбцовской электричке, возвращение - воскресенье вечером тем же путем. <br />Предполагается пройти петлю по принеманским местам, по краю Налибокской пущи, с посещением пары-тройки достопримечательностей (для любителей селфи))) Протяженность 110-115 км. Ночевка на оз.Кромань или р.Черная (….в черном, черном лесу на Черной, Черной речке…)<br />Короче, бюджеты скудные, мышцы после зимы хилые, велосипеды заржавевшие. Но зато отличная компания, шутки, смех и веселье – гарантированы. Запись в личку: Трафимович Михаил (+375296284522)<br />\n\n</BODY>\n</HTML>

LOCATION:
END:VEVENT

END:VCALENDAR
